BEGIN:VCALENDAR
VERSION:2.0
PRODID:-//Angel Fire Chamber of Commerce - ECPv6.15.20//NONSGML v1.0//EN
CALSCALE:GREGORIAN
METHOD:PUBLISH
X-ORIGINAL-URL:https://angelfirechamber.org
X-WR-CALDESC:Events for Angel Fire Chamber of Commerce
REFRESH-INTERVAL;VALUE=DURATION:PT1H
X-Robots-Tag:noindex
X-PUBLISHED-TTL:PT1H
BEGIN:VTIMEZONE
TZID:America/Denver
BEGIN:DAYLIGHT
TZOFFSETFROM:-0700
TZOFFSETTO:-0600
TZNAME:MDT
DTSTART:20230312T090000
END:DAYLIGHT
BEGIN:STANDARD
TZOFFSETFROM:-0600
TZOFFSETTO:-0700
TZNAME:MST
DTSTART:20231105T080000
END:STANDARD
BEGIN:DAYLIGHT
TZOFFSETFROM:-0700
TZOFFSETTO:-0600
TZNAME:MDT
DTSTART:20240310T090000
END:DAYLIGHT
BEGIN:STANDARD
TZOFFSETFROM:-0600
TZOFFSETTO:-0700
TZNAME:MST
DTSTART:20241103T080000
END:STANDARD
BEGIN:DAYLIGHT
TZOFFSETFROM:-0700
TZOFFSETTO:-0600
TZNAME:MDT
DTSTART:20250309T090000
END:DAYLIGHT
BEGIN:STANDARD
TZOFFSETFROM:-0600
TZOFFSETTO:-0700
TZNAME:MST
DTSTART:20251102T080000
END:STANDARD
END:VTIMEZONE
BEGIN:VEVENT
DTSTART;TZID=America/Denver:20240915T090000
DTEND;TZID=America/Denver:20240915T150000
DTSTAMP:20260423T220928
CREATED:20240821T204025Z
LAST-MODIFIED:20240821T204025Z
UID:2545-1726390800-1726412400@angelfirechamber.org
SUMMARY:6th Annual Wolfpack Classic
DESCRIPTION:All proceeds benefit the Moreno Valley High School Golf Team\n18-Hole 4-Person Team Scramble\, Breakfast\, Lunch\, Contests\, Prizes\, Silent Auction & Raffle \nWhen: Sunday at 9:00 AM\nDates: September 15th\nCost: Public $150.00 per player\, Members $90.00 per player\nRegistration and Sponsorship: Contact Evan Sales at evantsales@gmail.com \nThe Moreno Valley High School Golf Team needs your support. All proceeds from this event will provide the funding needed for Moreno Valley High School to continue offering golf to their students. Funds are needed for Tournament Fees\, Practice Fees\, Instruction Fees\, Transportation Expenses and Lodging & Meal Expenses. Sponsors are needed. Help support growing the game of golf in your local community and register or sponsor today. \nFor questions contact Evan Sales at evantsales@gmail.com \nContent Credit: Angel Fire Resort
URL:https://angelfirechamber.org/event/6th-annual-wolfpack-classic/
LOCATION:Angel Fire Resort Golf Course\, 100 Country Club Drive\, Angel Fire\, NM\, 87710\, United States
CATEGORIES:Charity Fund Raiser,Golfing
ATTACH;FMTTYPE=image/webp:https://angelfirechamber.org/wp-content/uploads/2024/08/MVWPCG2024-1536x624-1.webp
END:VEVENT
END:VCALENDAR