BEGIN:VCALENDAR
VERSION:2.0
PRODID:-//Angel Fire Chamber of Commerce - ECPv6.15.20//NONSGML v1.0//EN
CALSCALE:GREGORIAN
METHOD:PUBLISH
X-WR-CALNAME:Angel Fire Chamber of Commerce
X-ORIGINAL-URL:https://angelfirechamber.org
X-WR-CALDESC:Events for Angel Fire Chamber of Commerce
REFRESH-INTERVAL;VALUE=DURATION:PT1H
X-Robots-Tag:noindex
X-PUBLISHED-TTL:PT1H
BEGIN:VTIMEZONE
TZID:America/Denver
BEGIN:DAYLIGHT
TZOFFSETFROM:-0700
TZOFFSETTO:-0600
TZNAME:MDT
DTSTART:20230312T090000
END:DAYLIGHT
BEGIN:STANDARD
TZOFFSETFROM:-0600
TZOFFSETTO:-0700
TZNAME:MST
DTSTART:20231105T080000
END:STANDARD
BEGIN:DAYLIGHT
TZOFFSETFROM:-0700
TZOFFSETTO:-0600
TZNAME:MDT
DTSTART:20240310T090000
END:DAYLIGHT
BEGIN:STANDARD
TZOFFSETFROM:-0600
TZOFFSETTO:-0700
TZNAME:MST
DTSTART:20241103T080000
END:STANDARD
BEGIN:DAYLIGHT
TZOFFSETFROM:-0700
TZOFFSETTO:-0600
TZNAME:MDT
DTSTART:20250309T090000
END:DAYLIGHT
BEGIN:STANDARD
TZOFFSETFROM:-0600
TZOFFSETTO:-0700
TZNAME:MST
DTSTART:20251102T080000
END:STANDARD
END:VTIMEZONE
BEGIN:VEVENT
DTSTART;TZID=America/Denver:20241105T070000
DTEND;TZID=America/Denver:20241105T190000
DTSTAMP:20260423T182541
CREATED:20241017T195415Z
LAST-MODIFIED:20241017T195415Z
UID:2665-1730790000-1730833200@angelfirechamber.org
SUMMARY:Election Day
DESCRIPTION:Angel Fire Voting Site is the Angel Fire Community Center\, 15 CS Ranch Rd\, Angel Fire\, NM. \n7:00am-7:00pm
URL:https://angelfirechamber.org/event/election-day/
LOCATION:Angel Fire Community Center\, 15 CS Ranch Rd\, Angel Fire\, NM\, 87710\, United States
ATTACH;FMTTYPE=image/jpeg:https://angelfirechamber.org/wp-content/uploads/2024/10/vote.jpg
END:VEVENT
BEGIN:VEVENT
DTSTART;TZID=America/Denver:20241127T100000
DTEND;TZID=America/Denver:20241127T160000
DTSTAMP:20260423T182541
CREATED:20241110T072516Z
LAST-MODIFIED:20241111T063738Z
UID:2775-1732701600-1732723200@angelfirechamber.org
SUMMARY:Holiday Season Pop-up Gift Gallery
DESCRIPTION:
URL:https://angelfirechamber.org/event/holiday-season-pop-up-gift-gallery-3/
LOCATION:Angel Fire Chamber of Commerce\, 3407 Mountain View Blvd. /Hwy 434\, ANGEL FIRE\, NM\, NM\, 87710\, United States
CATEGORIES:Arts & Crafts,Christmas Event,Pop-Up Shop,Shopping
ATTACH;FMTTYPE=image/jpeg:https://angelfirechamber.org/wp-content/uploads/2024/11/Holiday-Pop-Up-SHop-Flyer-wk-4-2.jpg
END:VEVENT
BEGIN:VEVENT
DTSTART;TZID=America/Denver:20241128T140000
DTEND;TZID=America/Denver:20241128T170000
DTSTAMP:20260423T182541
CREATED:20241120T041120Z
LAST-MODIFIED:20241120T041120Z
UID:2814-1732802400-1732813200@angelfirechamber.org
SUMMARY:Potluck Thanksgiving Dinner @ Laguna Vista Lodge\, Historic Restaurant & Saloon
DESCRIPTION:Please Join Us for Our Annual Thanksgiving Potluck Dinner\nat The Laguna Vista Lodge\, Historic Restaurant and Saloon\n52 E. Therma\nEagle Nest\, NM\nWe provide the main course (turkey\, ham)\nYou bring your famous side dish/ dessert .\nWe will have a sign up form available at the Saloon for what you would like to bring along with how many people that will be attending.\nWe look forward to seeing an amazing turnout like last year  starts @2:00pm on Thanksgiving Day
URL:https://angelfirechamber.org/event/potluck-thanksgiving-dinner-laguna-vista-lodge-historic-restaurant-saloon/
LOCATION:Laguna Vista Lodge\, Historic Restaurant and Saloon\, 51 East Therma\, Eagle Nest\, NM\, United States
CATEGORIES:Family Event,Pot Luck Meal
ATTACH;FMTTYPE=image/jpeg:https://angelfirechamber.org/wp-content/uploads/2024/11/Turkey.jpg
END:VEVENT
BEGIN:VEVENT
DTSTART;TZID=America/Denver:20241129T170000
DTEND;TZID=America/Denver:20241129T183000
DTSTAMP:20260423T182541
CREATED:20241110T043550Z
LAST-MODIFIED:20241110T043550Z
UID:2743-1732899600-1732905000@angelfirechamber.org
SUMMARY:Christmas Tree Festival
DESCRIPTION:
URL:https://angelfirechamber.org/event/christmas-tree-festival/
LOCATION:Frontier Plaza\, 3367 Mountain View Blvd.\, Angel Fire\, NM\, 87710\, United States
CATEGORIES:Auction,Charity Fund Raiser,Christmas Event,Family Event,Festival
ATTACH;FMTTYPE=image/jpeg:https://angelfirechamber.org/wp-content/uploads/2024/11/Tree-Festival.jpg
END:VEVENT
END:VCALENDAR