BEGIN:VCALENDAR
VERSION:2.0
PRODID:-//Angel Fire Chamber of Commerce - ECPv6.15.20//NONSGML v1.0//EN
CALSCALE:GREGORIAN
METHOD:PUBLISH
X-ORIGINAL-URL:https://angelfirechamber.org
X-WR-CALDESC:Events for Angel Fire Chamber of Commerce
REFRESH-INTERVAL;VALUE=DURATION:PT1H
X-Robots-Tag:noindex
X-PUBLISHED-TTL:PT1H
BEGIN:VTIMEZONE
TZID:America/Denver
BEGIN:DAYLIGHT
TZOFFSETFROM:-0700
TZOFFSETTO:-0600
TZNAME:MDT
DTSTART:20230312T090000
END:DAYLIGHT
BEGIN:STANDARD
TZOFFSETFROM:-0600
TZOFFSETTO:-0700
TZNAME:MST
DTSTART:20231105T080000
END:STANDARD
BEGIN:DAYLIGHT
TZOFFSETFROM:-0700
TZOFFSETTO:-0600
TZNAME:MDT
DTSTART:20240310T090000
END:DAYLIGHT
BEGIN:STANDARD
TZOFFSETFROM:-0600
TZOFFSETTO:-0700
TZNAME:MST
DTSTART:20241103T080000
END:STANDARD
BEGIN:DAYLIGHT
TZOFFSETFROM:-0700
TZOFFSETTO:-0600
TZNAME:MDT
DTSTART:20250309T090000
END:DAYLIGHT
BEGIN:STANDARD
TZOFFSETFROM:-0600
TZOFFSETTO:-0700
TZNAME:MST
DTSTART:20251102T080000
END:STANDARD
END:VTIMEZONE
BEGIN:VEVENT
DTSTART;VALUE=DATE:20241209
DTEND;VALUE=DATE:20241221
DTSTAMP:20260423T182540
CREATED:20241120T050340Z
LAST-MODIFIED:20241120T051340Z
UID:2824-1733702400-1734739199@angelfirechamber.org
SUMMARY:Live Daily Drawings for the  Angel Fire Chamber  of Commerce 12-Days of Christmas Give Aways (1:00pm daily)
DESCRIPTION:The Twelve Days of  Christmas Chamber Give Away daily drawings\, will be live on Face Book. (See website link below) \nat 1:00pm daily\, Dec. 9 thru Dec 20. Watch the Chamber Face Book Page and the Chamber eBlast for daily locations. \nTickets can be purchased at the Angel Fire Chamber of Commerce\, Mon-Thurs 10:00am-4:00pm beginning November 12\, 2024. \n1 for $10.00 or 3 for $20.00 \n 78 gifts are given away\, all with a value of at least $50.00. \nThis is how it works. \nOn the 12th Day\, Dec 9th\, we will draw 12 names to give away 12 gifts to the 12 ticket holders. On the 11th Day\, Dec 10th\, we will draw 11 names to give away 11 gifts to the 11 ticket holders. On the 10th Day\, Dec. 11\, we will draw 10 names to give away 10 gifts to the 10 ticket holders. \nAnd so on each day as we count down to the 1st Day\, Dec 20th when we will draw 1 name to give away one grand prize\, to 1 person! \nThe Grand Prize= $1000.00 Cash \nGenerously donated by Mike Woolley\, ReMax Mountain Realty \nand \nLisa Sutton\, Coldwell Banker Mountain Properties \nThe great thing is that ALL tickets will go back in the bucket for the Grand Prize Drawing!
URL:https://angelfirechamber.org/event/live-daily-drawings-for-the-angel-fire-chamber-of-commerce-12-days-of-christmas-give-aways/
LOCATION:NM
CATEGORIES:Chamber of Commerce Event,Christmas Event
ATTACH;FMTTYPE=image/jpeg:https://angelfirechamber.org/wp-content/uploads/2024/11/12-Days-of-Christmas.jpg
END:VEVENT
END:VCALENDAR