BEGIN:VCALENDAR
VERSION:2.0
PRODID:-//Angel Fire Chamber of Commerce - ECPv6.15.20//NONSGML v1.0//EN
CALSCALE:GREGORIAN
METHOD:PUBLISH
X-ORIGINAL-URL:https://angelfirechamber.org
X-WR-CALDESC:Events for Angel Fire Chamber of Commerce
REFRESH-INTERVAL;VALUE=DURATION:PT1H
X-Robots-Tag:noindex
X-PUBLISHED-TTL:PT1H
BEGIN:VTIMEZONE
TZID:America/Denver
BEGIN:DAYLIGHT
TZOFFSETFROM:-0700
TZOFFSETTO:-0600
TZNAME:MDT
DTSTART:20230312T090000
END:DAYLIGHT
BEGIN:STANDARD
TZOFFSETFROM:-0600
TZOFFSETTO:-0700
TZNAME:MST
DTSTART:20231105T080000
END:STANDARD
BEGIN:DAYLIGHT
TZOFFSETFROM:-0700
TZOFFSETTO:-0600
TZNAME:MDT
DTSTART:20240310T090000
END:DAYLIGHT
BEGIN:STANDARD
TZOFFSETFROM:-0600
TZOFFSETTO:-0700
TZNAME:MST
DTSTART:20241103T080000
END:STANDARD
BEGIN:DAYLIGHT
TZOFFSETFROM:-0700
TZOFFSETTO:-0600
TZNAME:MDT
DTSTART:20250309T090000
END:DAYLIGHT
BEGIN:STANDARD
TZOFFSETFROM:-0600
TZOFFSETTO:-0700
TZNAME:MST
DTSTART:20251102T080000
END:STANDARD
END:VTIMEZONE
BEGIN:VEVENT
DTSTART;TZID=America/Denver:20241207T090000
DTEND;TZID=America/Denver:20241207T170000
DTSTAMP:20260423T170215
CREATED:20231127T235900Z
LAST-MODIFIED:20241003T172159Z
UID:1626-1733562000-1733590800@angelfirechamber.org
SUMMARY:Holiday Market
DESCRIPTION:
URL:https://angelfirechamber.org/event/holiday-market-2/
LOCATION:Angel Fire Community Center\, 15 CS Ranch Rd\, Angel Fire\, NM\, 87710\, United States
CATEGORIES:Arts,Arts & Crafts,Family Event,Shopping
ATTACH;FMTTYPE=image/jpeg:https://angelfirechamber.org/wp-content/uploads/2023/11/Holiday-Market-2024-short-flyer-1024x622-1.jpg
END:VEVENT
BEGIN:VEVENT
DTSTART;VALUE=DATE:20241209
DTEND;VALUE=DATE:20241221
DTSTAMP:20260423T170215
CREATED:20241120T050340Z
LAST-MODIFIED:20241120T051340Z
UID:2824-1733702400-1734739199@angelfirechamber.org
SUMMARY:Live Daily Drawings for the  Angel Fire Chamber  of Commerce 12-Days of Christmas Give Aways (1:00pm daily)
DESCRIPTION:The Twelve Days of  Christmas Chamber Give Away daily drawings\, will be live on Face Book. (See website link below) \nat 1:00pm daily\, Dec. 9 thru Dec 20. Watch the Chamber Face Book Page and the Chamber eBlast for daily locations. \nTickets can be purchased at the Angel Fire Chamber of Commerce\, Mon-Thurs 10:00am-4:00pm beginning November 12\, 2024. \n1 for $10.00 or 3 for $20.00 \n 78 gifts are given away\, all with a value of at least $50.00. \nThis is how it works. \nOn the 12th Day\, Dec 9th\, we will draw 12 names to give away 12 gifts to the 12 ticket holders. On the 11th Day\, Dec 10th\, we will draw 11 names to give away 11 gifts to the 11 ticket holders. On the 10th Day\, Dec. 11\, we will draw 10 names to give away 10 gifts to the 10 ticket holders. \nAnd so on each day as we count down to the 1st Day\, Dec 20th when we will draw 1 name to give away one grand prize\, to 1 person! \nThe Grand Prize= $1000.00 Cash \nGenerously donated by Mike Woolley\, ReMax Mountain Realty \nand \nLisa Sutton\, Coldwell Banker Mountain Properties \nThe great thing is that ALL tickets will go back in the bucket for the Grand Prize Drawing!
URL:https://angelfirechamber.org/event/live-daily-drawings-for-the-angel-fire-chamber-of-commerce-12-days-of-christmas-give-aways/
LOCATION:NM
CATEGORIES:Chamber of Commerce Event,Christmas Event
ATTACH;FMTTYPE=image/jpeg:https://angelfirechamber.org/wp-content/uploads/2024/11/12-Days-of-Christmas.jpg
END:VEVENT
BEGIN:VEVENT
DTSTART;VALUE=DATE:20241224
DTEND;VALUE=DATE:20241225
DTSTAMP:20260423T170215
CREATED:20241213T203001Z
LAST-MODIFIED:20241213T203155Z
UID:2881-1734998400-1735084799@angelfirechamber.org
SUMMARY:Christmas Eve Services
DESCRIPTION:
URL:https://angelfirechamber.org/event/christmas-eve-services/
LOCATION:NM
CATEGORIES:Chamber Member,Christmas Event,Church Service
ATTACH;FMTTYPE=image/png:https://angelfirechamber.org/wp-content/uploads/2024/12/Black-and-Gold-Illustrative-All-Souls-Day-Instagram-Post-2.png
END:VEVENT
BEGIN:VEVENT
DTSTART;TZID=America/Denver:20241225T110000
DTEND;TZID=America/Denver:20241225T130000
DTSTAMP:20260423T170215
CREATED:20241120T043850Z
LAST-MODIFIED:20241120T043955Z
UID:2820-1735124400-1735131600@angelfirechamber.org
SUMMARY:Ski with Santa and Mrs. Claus
DESCRIPTION:Santa and Mrs. Claus have come all the way from the North Pole to ski and snowboard with you on the mountain! \n Remember to bring your camera and keep your eyes peeled while you ski and snowboard to catch a glimpse of Santa & Mrs. Claus. \nIf you catch them\, be sure to say hi to enjoy some of the treats that will be in his red bag! \n  \nPhoto courtesy of the Angel Fire Resort
URL:https://angelfirechamber.org/event/ski-with-santa-and-mrs-claus/
LOCATION:Angel Fire Resort Ski Area\, 10 Miller Lane\, An
CATEGORIES:Christmas Event,Family Event,Ski & Snowboard,Winter Events
ATTACH;FMTTYPE=image/webp:https://angelfirechamber.org/wp-content/uploads/2024/11/SkiWithSanta2024.webp
END:VEVENT
BEGIN:VEVENT
DTSTART;TZID=America/Denver:20241225T140000
DTEND;TZID=America/Denver:20241225T170000
DTSTAMP:20260423T170215
CREATED:20241210T231458Z
LAST-MODIFIED:20241210T231458Z
UID:2864-1735135200-1735146000@angelfirechamber.org
SUMMARY:Christmas Potluck Dinner @ the Laguna Vista in Eagle Nest
DESCRIPTION:Laguna Vista Lodge\, Historic Restaurant and Saloon\n51 East Therma \nEagle Nest\, NM \nPlease Join Us on Wednesday Dec 25th @ 2:00 \nfor our annual Christmas Potluck \nThis year we are doing an Ugly Sweater themed Potluck so wear your ugliest Christmas sweater. \nWe provide the main dishes\, bring your favorite Christmas side dish or dessert. Sign up sheet available at the Saloon \nWe look forward to seeing everyone!
URL:https://angelfirechamber.org/event/christmas-potluck-dinner-the-laguna-vista-in-eagle-nest/
LOCATION:Laguna Vista Lodge\, Historic Restaurant and Saloon\, 51 East Therma\, Eagle Nest\, NM\, United States
CATEGORIES:Chamber Member,Christmas Event
ATTACH;FMTTYPE=image/jpeg:https://angelfirechamber.org/wp-content/uploads/2024/12/Laguna-VistaPotLuck.jpg
END:VEVENT
END:VCALENDAR