BEGIN:VCALENDAR
VERSION:2.0
PRODID:-//Angel Fire Chamber of Commerce - ECPv6.15.20//NONSGML v1.0//EN
CALSCALE:GREGORIAN
METHOD:PUBLISH
X-ORIGINAL-URL:https://angelfirechamber.org
X-WR-CALDESC:Events for Angel Fire Chamber of Commerce
REFRESH-INTERVAL;VALUE=DURATION:PT1H
X-Robots-Tag:noindex
X-PUBLISHED-TTL:PT1H
BEGIN:VTIMEZONE
TZID:America/Denver
BEGIN:DAYLIGHT
TZOFFSETFROM:-0700
TZOFFSETTO:-0600
TZNAME:MDT
DTSTART:20240310T090000
END:DAYLIGHT
BEGIN:STANDARD
TZOFFSETFROM:-0600
TZOFFSETTO:-0700
TZNAME:MST
DTSTART:20241103T080000
END:STANDARD
BEGIN:DAYLIGHT
TZOFFSETFROM:-0700
TZOFFSETTO:-0600
TZNAME:MDT
DTSTART:20250309T090000
END:DAYLIGHT
BEGIN:STANDARD
TZOFFSETFROM:-0600
TZOFFSETTO:-0700
TZNAME:MST
DTSTART:20251102T080000
END:STANDARD
BEGIN:DAYLIGHT
TZOFFSETFROM:-0700
TZOFFSETTO:-0600
TZNAME:MDT
DTSTART:20260308T090000
END:DAYLIGHT
BEGIN:STANDARD
TZOFFSETFROM:-0600
TZOFFSETTO:-0700
TZNAME:MST
DTSTART:20261101T080000
END:STANDARD
END:VTIMEZONE
BEGIN:VEVENT
DTSTART;VALUE=DATE:20250221
DTEND;VALUE=DATE:20250224
DTSTAMP:20260423T153056
CREATED:20250204T234340Z
LAST-MODIFIED:20250204T234658Z
UID:3040-1740096000-1740355199@angelfirechamber.org
SUMMARY:Jedi Challenge/ BoarderCross & SkierCross
DESCRIPTION:The largest grassroots snowboarding and free skiing organization in the world is hosting events at Angel Fire Resort. \nAll ages\, genders\, and abilities are welcome. Join us this season: slopestyle\, rail jam\, halfpipe\, boardercross\, ski cross\, and alpine snowboarding. \nUnlike other alpine racing events\, the competitors in the Jedi Challenge are racing against one another down the hill\, as opposed to a single-time challenge. \nEveryone is invited to come out and enjoy the course to \nHonor and Remember the founders of the Jedi Challenge \nGeorge Medina & Michael Johnstone \nPlease check USASA Website for more details. \nhttps://www.usasa.org/
URL:https://angelfirechamber.org/event/jedi-challenge-boardercross-skiercross/
LOCATION:Angel Fire Resort Ski Area\, 10 Miller Lane\, An
CATEGORIES:Family Event,Outdoor Venue,Ski & Snowboard,Winter Events
ATTACH;FMTTYPE=image/jpeg:https://angelfirechamber.org/wp-content/uploads/2025/02/Boardercross.jpg
END:VEVENT
END:VCALENDAR