BEGIN:VCALENDAR
VERSION:2.0
PRODID:-//Angel Fire Chamber of Commerce - ECPv6.15.20//NONSGML v1.0//EN
CALSCALE:GREGORIAN
METHOD:PUBLISH
X-ORIGINAL-URL:https://angelfirechamber.org
X-WR-CALDESC:Events for Angel Fire Chamber of Commerce
REFRESH-INTERVAL;VALUE=DURATION:PT1H
X-Robots-Tag:noindex
X-PUBLISHED-TTL:PT1H
BEGIN:VTIMEZONE
TZID:America/Denver
BEGIN:DAYLIGHT
TZOFFSETFROM:-0700
TZOFFSETTO:-0600
TZNAME:MDT
DTSTART:20240310T090000
END:DAYLIGHT
BEGIN:STANDARD
TZOFFSETFROM:-0600
TZOFFSETTO:-0700
TZNAME:MST
DTSTART:20241103T080000
END:STANDARD
BEGIN:DAYLIGHT
TZOFFSETFROM:-0700
TZOFFSETTO:-0600
TZNAME:MDT
DTSTART:20250309T090000
END:DAYLIGHT
BEGIN:STANDARD
TZOFFSETFROM:-0600
TZOFFSETTO:-0700
TZNAME:MST
DTSTART:20251102T080000
END:STANDARD
BEGIN:DAYLIGHT
TZOFFSETFROM:-0700
TZOFFSETTO:-0600
TZNAME:MDT
DTSTART:20260308T090000
END:DAYLIGHT
BEGIN:STANDARD
TZOFFSETFROM:-0600
TZOFFSETTO:-0700
TZNAME:MST
DTSTART:20261101T080000
END:STANDARD
END:VTIMEZONE
BEGIN:VEVENT
DTSTART;TZID=America/Denver:20250208T080000
DTEND;TZID=America/Denver:20250208T160000
DTSTAMP:20260423T135230
CREATED:20250204T220732Z
LAST-MODIFIED:20250204T220732Z
UID:3005-1739001600-1739030400@angelfirechamber.org
SUMMARY:USASA Rail Jam Competition
DESCRIPTION:The largest grassroots snowboarding and free skiing organization in the world is hosting events at Angel Fire Resort. \nAll ages\, genders\, and abilities are welcome. \nJoin us this season: slopestyle\, rail jam\, halfpipe\, boardercross\, ski cross\, and alpine snowboarding. \n\n\nPlease check USASA Website for more details.\n\n\nhttps://www.usasa.org/ \nPhoto & Content Courtesy of the Angel Fire Resort
URL:https://angelfirechamber.org/event/usasa-rail-jam-competition/
LOCATION:Angel Fire Resort Ski Area\, 10 Miller Lane\, An
CATEGORIES:Ski & Snowboard,Winter Events
ATTACH;FMTTYPE=image/jpeg:https://angelfirechamber.org/wp-content/uploads/2025/02/2016_28.jpg
END:VEVENT
BEGIN:VEVENT
DTSTART;TZID=America/Denver:20250208T160000
DTEND;TZID=America/Denver:20250208T180000
DTSTAMP:20260423T135230
CREATED:20250108T195905Z
LAST-MODIFIED:20250108T201000Z
UID:2967-1739030400-1739037600@angelfirechamber.org
SUMMARY:Beer League Races
DESCRIPTION:Come out for four Saturday nights of racing and beer starting Saturday\, February 8\, through Saturday\, and March 1st. \nThe cost is $125 per team or $25 for individuals who would like to be placed on a team. Registration fee includes 1 beer per participant (21+) per race. \nAll Proceeds go to Angel Fire Ski/Snowboard Team. No discounts apply. \nTeam Parameters: \n6 members per team \nMust include at least one differing discipline \nMust include at least one differing gender \n*Must be over 21 to drink. \n*Each skier/rider over 21 will receive one beer ticket after the races\, good for one beer. \n*There will be a weekly drawing for a prize from our sponsors. Must be present to win. \n*Details for the awards ceremony\, including time\, date\, and location\, will be announced soon. \n  \nContent Courtesy of the Angel Fire Resort
URL:https://angelfirechamber.org/event/beer-league-races/
LOCATION:Angel Fire Resort Ski Area\, 10 Miller Lane\, An
CATEGORIES:Ski & Snowboard,Winter Events
ATTACH;FMTTYPE=image/webp:https://angelfirechamber.org/wp-content/uploads/2025/01/Beer-League-1.webp
ORGANIZER;CN="Angel Fire Resort Events Department":MAILTO:estaudt@angelfireresort.com
END:VEVENT
BEGIN:VEVENT
DTSTART;TZID=America/Denver:20250209T080000
DTEND;TZID=America/Denver:20250209T160000
DTSTAMP:20260423T135230
CREATED:20250204T221239Z
LAST-MODIFIED:20250204T221239Z
UID:3008-1739088000-1739116800@angelfirechamber.org
SUMMARY:USASA Slopestyle Competition
DESCRIPTION:The largest grassroots snowboarding and free skiing organization in the world is hosting events at Angel Fire Resort. \nAll ages\, genders\, and abilities are welcome. \nJoin us this season: slopestyle\, rail jam\, halfpipe\, boardercross\, ski cross\, and alpine snowboarding. \nHere is our schedule for Slopestyle on Sunday: \n\nCheck-In/Registration at The Village Haus 8 AM – 9 AM\nPractice 9:30 AM – 10:40 AM\nRiders Meeting: 10:45 AM\nHeat 1\n11:00 AM – 11:30 AM\nHeat 2 (if needed)\n11:45 AM – 12:15 PM \nAwards in The Village Haus (outside if weather favorable\, inside if not) at 4 PM\nPlease check USASA Website for more details.\n\n\nhttps://www.usasa.org/ \nPhoto & Content Courtesy of the Angel Fire Resort
URL:https://angelfirechamber.org/event/usasa-slopestyle-competition/
LOCATION:Angel Fire Resort Ski Area\, 10 Miller Lane\, An
ATTACH;FMTTYPE=image/webp:https://angelfirechamber.org/wp-content/uploads/2025/02/USASA-Graphic-2048x1198-1.webp
END:VEVENT
BEGIN:VEVENT
DTSTART;TZID=America/Denver:20250209T090000
DTEND;TZID=America/Denver:20250209T160000
DTSTAMP:20260423T135230
CREATED:20250205T204431Z
LAST-MODIFIED:20250205T204431Z
UID:3043-1739091600-1739116800@angelfirechamber.org
SUMMARY:Game Day Party @ Village Church
DESCRIPTION:
URL:https://angelfirechamber.org/event/game-day-party-village-church/
LOCATION:Village Church\, 12 Crestview Drive\, Angel Fire\, NM\, 87710\, United States
CATEGORIES:Celebration,Chamber Member
ATTACH;FMTTYPE=image/png:https://angelfirechamber.org/wp-content/uploads/2025/02/SUNDAY-FEBRUARY-9-4PM.png
END:VEVENT
BEGIN:VEVENT
DTSTART;TZID=America/Denver:20250214T170000
DTEND;TZID=America/Denver:20250214T210000
DTSTAMP:20260423T135230
CREATED:20250129T194524Z
LAST-MODIFIED:20250129T194524Z
UID:2991-1739552400-1739566800@angelfirechamber.org
SUMMARY:Taylor Garrett Whiskey Tasting/Pairing
DESCRIPTION:
URL:https://angelfirechamber.org/event/taylor-garrett-whiskey-tasting-pairing/
LOCATION:The Pub n ‘grub\, 52 N. Angel Fire Rd a.k.a Bill Burgess Blvd.\, Angel Fire\, NM\, 87710\, United States
CATEGORIES:Chamber Member
ATTACH;FMTTYPE=image/jpeg:https://angelfirechamber.org/wp-content/uploads/2025/01/Pub-1.jpg
END:VEVENT
BEGIN:VEVENT
DTSTART;TZID=America/Denver:20250214T180000
DTEND;TZID=America/Denver:20250214T210000
DTSTAMP:20260423T135230
CREATED:20250204T230522Z
LAST-MODIFIED:20250204T230522Z
UID:3038-1739556000-1739566800@angelfirechamber.org
SUMMARY:Romantic Horse Drawn Sleigh Ride for 2 & Steak Dinner
DESCRIPTION:Looking for that Special Unique Date for Valentine’s Day? \nLook No Further!! \nCome join us on a Beautiful Romantic Horse Drawn Sleigh Ride \n followed by a Steak Dinner @ \nJ. & A.’s Fun Bakery & Cafe \nincludes luscious chocolate dessert! \n$99.00 per person \nCall for Reservations \nNancy Burch 575-377-6416
URL:https://angelfirechamber.org/event/romantic-horse-drawn-sleigh-ride-for-2-steak-dinner/
LOCATION:NM
CATEGORIES:Dinner Included,Horse Drawn Sleigh Ride,Valentine's Day Event
ATTACH;FMTTYPE=image/jpeg:https://angelfirechamber.org/wp-content/uploads/2025/02/Roadrunner-Valentines.jpg
ORGANIZER;CN="Nancy Burch's Roadrunner Tours":MAILTO:nancyburch.rr@roadrunnertours.com
END:VEVENT
BEGIN:VEVENT
DTSTART;TZID=America/Denver:20250215T090000
DTEND;TZID=America/Denver:20250215T160000
DTSTAMP:20260423T135230
CREATED:20241111T081306Z
LAST-MODIFIED:20250108T202516Z
UID:2790-1739610000-1739635200@angelfirechamber.org
SUMMARY:Costume Parade & Contest
DESCRIPTION:Get ready to show off your best costume while hitting the slopes! \nJoin us for the Costume Parade & Contest\, where you can ski or snowboard in style\, showcasing your creative\, fun\, or spooky outfits on the mountain. \nThis event is all about having fun\, so whether you’re dressing up as a favorite character\, an epic creature\, or something totally unique\, we can’t wait to see your costumes come to life on the hill! \nWhen: Saturday January 18th\, February 15\, and March 15th\, from 9am- 4pm \nWhere: Angel Fire Resort \nWhat to Expect: \n\nSki or snowboard in your costume on the hill\nPrizes for best costumes\nFun for all ages!\n\n  \nDon’t miss out on this chance to combine winter fun with a little extra flair. We can’t wait to see you on the slopes! \nPhoto Credit: Angel Fire Resort
URL:https://angelfirechamber.org/event/costume-parade-contest-2/
LOCATION:Angel Fire Resort Ski Area\, 10 Miller Lane\, An
CATEGORIES:Ski & Snowboard
ATTACH;FMTTYPE=image/webp:https://angelfirechamber.org/wp-content/uploads/2024/11/Costumecontest2025-1536x624-1.webp
END:VEVENT
BEGIN:VEVENT
DTSTART;VALUE=DATE:20250221
DTEND;VALUE=DATE:20250224
DTSTAMP:20260423T135230
CREATED:20250204T234340Z
LAST-MODIFIED:20250204T234658Z
UID:3040-1740096000-1740355199@angelfirechamber.org
SUMMARY:Jedi Challenge/ BoarderCross & SkierCross
DESCRIPTION:The largest grassroots snowboarding and free skiing organization in the world is hosting events at Angel Fire Resort. \nAll ages\, genders\, and abilities are welcome. Join us this season: slopestyle\, rail jam\, halfpipe\, boardercross\, ski cross\, and alpine snowboarding. \nUnlike other alpine racing events\, the competitors in the Jedi Challenge are racing against one another down the hill\, as opposed to a single-time challenge. \nEveryone is invited to come out and enjoy the course to \nHonor and Remember the founders of the Jedi Challenge \nGeorge Medina & Michael Johnstone \nPlease check USASA Website for more details. \nhttps://www.usasa.org/
URL:https://angelfirechamber.org/event/jedi-challenge-boardercross-skiercross/
LOCATION:Angel Fire Resort Ski Area\, 10 Miller Lane\, An
CATEGORIES:Family Event,Outdoor Venue,Ski & Snowboard,Winter Events
ATTACH;FMTTYPE=image/jpeg:https://angelfirechamber.org/wp-content/uploads/2025/02/Boardercross.jpg
END:VEVENT
END:VCALENDAR