BEGIN:VCALENDAR
VERSION:2.0
PRODID:-//Angel Fire Chamber of Commerce - ECPv6.15.20//NONSGML v1.0//EN
CALSCALE:GREGORIAN
METHOD:PUBLISH
X-ORIGINAL-URL:https://angelfirechamber.org
X-WR-CALDESC:Events for Angel Fire Chamber of Commerce
REFRESH-INTERVAL;VALUE=DURATION:PT1H
X-Robots-Tag:noindex
X-PUBLISHED-TTL:PT1H
BEGIN:VTIMEZONE
TZID:America/Denver
BEGIN:DAYLIGHT
TZOFFSETFROM:-0700
TZOFFSETTO:-0600
TZNAME:MDT
DTSTART:20240310T090000
END:DAYLIGHT
BEGIN:STANDARD
TZOFFSETFROM:-0600
TZOFFSETTO:-0700
TZNAME:MST
DTSTART:20241103T080000
END:STANDARD
BEGIN:DAYLIGHT
TZOFFSETFROM:-0700
TZOFFSETTO:-0600
TZNAME:MDT
DTSTART:20250309T090000
END:DAYLIGHT
BEGIN:STANDARD
TZOFFSETFROM:-0600
TZOFFSETTO:-0700
TZNAME:MST
DTSTART:20251102T080000
END:STANDARD
BEGIN:DAYLIGHT
TZOFFSETFROM:-0700
TZOFFSETTO:-0600
TZNAME:MDT
DTSTART:20260308T090000
END:DAYLIGHT
BEGIN:STANDARD
TZOFFSETFROM:-0600
TZOFFSETTO:-0700
TZNAME:MST
DTSTART:20261101T080000
END:STANDARD
END:VTIMEZONE
BEGIN:VEVENT
DTSTART;TZID=America/Denver:20250315T130000
DTEND;TZID=America/Denver:20250315T150000
DTSTAMP:20260423T121810
CREATED:20250304T223356Z
LAST-MODIFIED:20250305T180615Z
UID:3131-1742043600-1742050800@angelfirechamber.org
SUMMARY:St Patty's Day Party
DESCRIPTION:St. Patrick’s Day Party \nKids Arts & Crafts\,  Cookie Kits\,  TreatsNew Mexico Bank & Trust  Community RoomMarch 15th\, 2025 1pm-3pm FREE \n  \nFlyer and content courtesy of Moreno Valley Angels
URL:https://angelfirechamber.org/event/st-pattys-day-party/
LOCATION:UMB Community Room\, 1st National Place\, Angel Fire\, NM\, 87710\, United States
CATEGORIES:Arts & Crafts,Family Event
ATTACH;FMTTYPE=image/jpeg:https://angelfirechamber.org/wp-content/uploads/2025/03/St-Pattys-Party.jpg
END:VEVENT
END:VCALENDAR