BEGIN:VCALENDAR
VERSION:2.0
PRODID:-//Angel Fire Chamber of Commerce - ECPv6.15.20//NONSGML v1.0//EN
CALSCALE:GREGORIAN
METHOD:PUBLISH
X-ORIGINAL-URL:https://angelfirechamber.org
X-WR-CALDESC:Events for Angel Fire Chamber of Commerce
REFRESH-INTERVAL;VALUE=DURATION:PT1H
X-Robots-Tag:noindex
X-PUBLISHED-TTL:PT1H
BEGIN:VTIMEZONE
TZID:America/Denver
BEGIN:DAYLIGHT
TZOFFSETFROM:-0700
TZOFFSETTO:-0600
TZNAME:MDT
DTSTART:20240310T090000
END:DAYLIGHT
BEGIN:STANDARD
TZOFFSETFROM:-0600
TZOFFSETTO:-0700
TZNAME:MST
DTSTART:20241103T080000
END:STANDARD
BEGIN:DAYLIGHT
TZOFFSETFROM:-0700
TZOFFSETTO:-0600
TZNAME:MDT
DTSTART:20250309T090000
END:DAYLIGHT
BEGIN:STANDARD
TZOFFSETFROM:-0600
TZOFFSETTO:-0700
TZNAME:MST
DTSTART:20251102T080000
END:STANDARD
BEGIN:DAYLIGHT
TZOFFSETFROM:-0700
TZOFFSETTO:-0600
TZNAME:MDT
DTSTART:20260308T090000
END:DAYLIGHT
BEGIN:STANDARD
TZOFFSETFROM:-0600
TZOFFSETTO:-0700
TZNAME:MST
DTSTART:20261101T080000
END:STANDARD
END:VTIMEZONE
BEGIN:VEVENT
DTSTART;TZID=America/Denver:20250514T080000
DTEND;TZID=America/Denver:20250514T180000
DTSTAMP:20260423T104912
CREATED:20250401T181623Z
LAST-MODIFIED:20250401T190241Z
UID:3222-1747209600-1747245600@angelfirechamber.org
SUMMARY:Monte Verde Lake Activities Opening Day
DESCRIPTION:Monte Verde Lake\nAngel Fire Resort’s Monte Verde Lake is a beautiful spring-fed\, high-mountain lake in the heart of Angel Fire. \nStop by and enjoy boating\, paddle boarding\, hiking\, fishing\, or just relaxing on the shore. Please note that swimming is not allowed. \nShore Fishing Opens May 14\, 2025\n\n2024 Boathouse Hours\nPhone: (575) 377-9971 \n  \n\n\n\nDATES\nDAYS\nLAKE HOUSE\nBOAT RENTALS\n\n\n\n\nMay 16 – May 26\nDaily\n8 AM – 6 PM\n9 AM – 6 PM\n\n\nMay 27 – September 1\nDaily\n7 AM – 8 PM\n8 AM – 6 PM\n\n\nSeptember 2 – October 26\nDaily\n8 AM – 6 PM\n9 AM – 4 PM\n\n\n\nRentals\nAll users must wear life vests. \n\n\n\n2025\nPrice 1 Hour\nPrice 3 Hour\nAge Requirements\n\n\n\n\nFishing Boats\n$50\n$100\n12 years old\nMust be able to swim\n\n\nCanoe\n$50\n\n12 years old\nMust be able to swim\n\n\nHobie Pedalboard\n$20\n\n12 years old\nMust be able to swim\n\n\n1-Person Kayak\n$40\n\n12 years old\nMust be able to swim\n\n\n2-Person Kayak\n$50\n\n12 years old\nMust be able to swim\n\n\nSUP Board\n$40\n\n12 years old\nMust be able to swim\n\n\nPedal Boats\n$40\n\n4 years old\nMust be able to swim\n\n\n\n\nFISHING\n \nMonte Verde Lake is stocked with trout throughout the summer. Angel Fire Fishing Permits are required and can be obtained at the Boat House. \nPermits are available at the Membership Office at The Country Club (8 AM – 5 PM Mon-Fri & 8 AM – 4 PM Sat) when the Lake House is closed. Permits must be worn at all times. \nAdult poles can be rented for $30/day\, and children’s poles can be purchased for $17. Worms\, power bait\, lures\, and flies can also be purchased at the Boat House. \n\n\n\nAngel Fire Fishing Permit\nPrice (Daily)\n\n\n\n\nAdult\n(16 – 64)\n$40\n\n\nJunior\n(7 – 15)\n$30\n\n\nChild\n(6 & under)\n$15\n\n\nMilitary\n$30\n\n\nSenior\n(65+)\n$30\n\n\n\n\nPedal Boat Rentals\nChildren must be at least 4 years old and have the ability to swim in order to go out in a pedal boat. \nAll participants must wear a life vest. No fishing from a pedal boat. Please let the lake attendant assist you in and out of the boat.  \nStand-Up Paddle Board Rentals\n\nThe minimum age to use a paddle board is 12 years old.\nEach person on a paddle board must wear a life vest\, leash\, and whistle at all times on the water.\nAll participants must have strong swimming ability.\n\n\nOnly stand on the paddle board when it is in the water (standing on it on land can damage the fin)\nNo swimming in the lake. If you happen to fall into the lake\, you must immediately get back on your board.\nEntering and exiting the lake must be done in the designated area\, adjacent to Monte Verde Lake Office.\n\nBring Your Own Boat\nYou are welcome to bring your own non-motorized watercraft to Monte Verde Lake. We do not allow boats over 15 feet\, there is no charge for single-day use. \nIf you wish to store your boat\, a seasonal storage fee of $200 for Members only\, can be paid in Monte Verde Lake Office. \nHere are a few things to keep in mind: \n\nPlease be sure to check in with the Lake Attendant when you arrive and sign the liability waiver.\nWe have extra life vests if anyone in your group needs one – children under the age of 12 must wear a life vest while on the water.\nLife vests\, whistles\, and leashes are required for Stand-Up Paddle Boards – please bring your own life vest or borrow one from us.\nPlease take a whistle with you out on the water so that you can notify others in case of an emergency.\n\nSAFETY\, POLICIES\, AND PROCEDURES\n\nNo Alcohol – alcoholic beverages are not permitted at Monte Verde Lake.\nNo Swimming – swimming is not permitted in the lake and there is no lifeguard. The water is extremely cold.\nDogs – must be on a leash when on the shore but they are allowed to swim in the lake and ride on boats without being on a leash.\nNo Wake Lake – boats with motors and devices like jet skis are not allowed. Trolling motors are permitted.\nFires – charcoal grills and campfires are not permitted at Monte Verde Lake.\n\nWeather\nLightning is common in Angel Fire\, especially during monsoon season. \nIf you see lightning or hear thunder\, immediately return to the shore and seek shelter. \nWind can also create a hazard out on the lake and anything more than a breeze can make boating very difficult and even dangerous. \nIf the wind picks up please return to the shore. \n  \nContent and photos courtesy of the Angel Fire Resort
URL:https://angelfirechamber.org/event/monte-verde-lake-activities-opening-day/
LOCATION:Monte Verde Lake\, Lakeview Drive\, Angel Fire\, NM\, 87710\, United States
CATEGORIES:Chamber Member,Fishing,Outdoor Venue,Peddle Boat Rentals,Stand-up Paddle Boards
ATTACH;FMTTYPE=image/jpeg:https://angelfirechamber.org/wp-content/uploads/2023/04/mv-lake-21024.jpg
END:VEVENT
END:VCALENDAR