BEGIN:VCALENDAR
VERSION:2.0
PRODID:-//Angel Fire Chamber of Commerce - ECPv6.15.20//NONSGML v1.0//EN
CALSCALE:GREGORIAN
METHOD:PUBLISH
X-ORIGINAL-URL:https://angelfirechamber.org
X-WR-CALDESC:Events for Angel Fire Chamber of Commerce
REFRESH-INTERVAL;VALUE=DURATION:PT1H
X-Robots-Tag:noindex
X-PUBLISHED-TTL:PT1H
BEGIN:VTIMEZONE
TZID:America/Denver
BEGIN:DAYLIGHT
TZOFFSETFROM:-0700
TZOFFSETTO:-0600
TZNAME:MDT
DTSTART:20240310T090000
END:DAYLIGHT
BEGIN:STANDARD
TZOFFSETFROM:-0600
TZOFFSETTO:-0700
TZNAME:MST
DTSTART:20241103T080000
END:STANDARD
BEGIN:DAYLIGHT
TZOFFSETFROM:-0700
TZOFFSETTO:-0600
TZNAME:MDT
DTSTART:20250309T090000
END:DAYLIGHT
BEGIN:STANDARD
TZOFFSETFROM:-0600
TZOFFSETTO:-0700
TZNAME:MST
DTSTART:20251102T080000
END:STANDARD
BEGIN:DAYLIGHT
TZOFFSETFROM:-0700
TZOFFSETTO:-0600
TZNAME:MDT
DTSTART:20260308T090000
END:DAYLIGHT
BEGIN:STANDARD
TZOFFSETFROM:-0600
TZOFFSETTO:-0700
TZNAME:MST
DTSTART:20261101T080000
END:STANDARD
END:VTIMEZONE
BEGIN:VEVENT
DTSTART;TZID=America/Denver:20250526T090000
DTEND;TZID=America/Denver:20250526T160000
DTSTAMP:20260423T104912
CREATED:20230411T183718Z
LAST-MODIFIED:20250210T224715Z
UID:1463-1748250000-1748275200@angelfirechamber.org
SUMMARY:Memorial Day Flag March & Ceremony
DESCRIPTION:For over 50 years\, the Vietnam Veterans Memorial “Memorial Day Ceremony” has been \nand continues to be an emotional yet healing time for veterans and their families \nas we celebrate those who have paid the ultimate sacrifice by dying in our nations service. \nThis year’s activities include: \n9:00am- The Flag March which starts at the corner of US Highway 64 and Highway 434 and concludes at the Vietnam Veterans Memorial \n10:00am- Memorial Day Ceremony @ the Vietnam Veterans Memorial \n34 Country Club Rd \nAngel Fire\, NM \n 
URL:https://angelfirechamber.org/event/memorial-day-ceremony/
LOCATION:Vietnam Veterans Memorial\, 34 Country Club Road\, Angel Fire\, NM\, 87710\, United States
CATEGORIES:Chamber Member,David Westphall Veterans Foundation,Memorial Day
ATTACH;FMTTYPE=image/jpeg:https://angelfirechamber.org/wp-content/uploads/2023/04/flag-march.jpg
END:VEVENT
END:VCALENDAR