BEGIN:VCALENDAR
VERSION:2.0
PRODID:-//Angel Fire Chamber of Commerce - ECPv6.15.20//NONSGML v1.0//EN
CALSCALE:GREGORIAN
METHOD:PUBLISH
X-ORIGINAL-URL:https://angelfirechamber.org
X-WR-CALDESC:Events for Angel Fire Chamber of Commerce
REFRESH-INTERVAL;VALUE=DURATION:PT1H
X-Robots-Tag:noindex
X-PUBLISHED-TTL:PT1H
BEGIN:VTIMEZONE
TZID:America/Denver
BEGIN:DAYLIGHT
TZOFFSETFROM:-0700
TZOFFSETTO:-0600
TZNAME:MDT
DTSTART:20240310T090000
END:DAYLIGHT
BEGIN:STANDARD
TZOFFSETFROM:-0600
TZOFFSETTO:-0700
TZNAME:MST
DTSTART:20241103T080000
END:STANDARD
BEGIN:DAYLIGHT
TZOFFSETFROM:-0700
TZOFFSETTO:-0600
TZNAME:MDT
DTSTART:20250309T090000
END:DAYLIGHT
BEGIN:STANDARD
TZOFFSETFROM:-0600
TZOFFSETTO:-0700
TZNAME:MST
DTSTART:20251102T080000
END:STANDARD
BEGIN:DAYLIGHT
TZOFFSETFROM:-0700
TZOFFSETTO:-0600
TZNAME:MDT
DTSTART:20260308T090000
END:DAYLIGHT
BEGIN:STANDARD
TZOFFSETFROM:-0600
TZOFFSETTO:-0700
TZNAME:MST
DTSTART:20261101T080000
END:STANDARD
END:VTIMEZONE
BEGIN:VEVENT
DTSTART;TZID=America/Denver:20250602T100000
DTEND;TZID=America/Denver:20250602T110000
DTSTAMP:20260423T091602
CREATED:20250213T192917Z
LAST-MODIFIED:20250213T210427Z
UID:3071-1748858400-1748862000@angelfirechamber.org
SUMMARY:Drum Safari @ Enchanted Eagle Park
DESCRIPTION:Drum Safari \n Enchanted Eagle Park\nJune 2\, 2025\n10:00am- 11:00am\n\nKicking of the 2025 Summer Programs of Eagle Nest Library\,\nDrum Safari\, coming all the way from Kansas\, is one of our favorite programs!\nIf you know\, you know.\nThey bring drums and tambourines for everyone. They tell a terrific story while they teach us how to play drums.\nThere will also be a second show on June 2\, at 1pm\, same spot.\nBring your friends and neighbors and prepare to become a musician.\n\n\n\n\n\n\n\n\nEvent by Discover Eagle Nest Public Library\n\n\n\n\n\n\n\n\n\n\n\n\nEnchanted Eagle Park\, 74 N. Tomboy Dr.\, Eagle Nest\, NM
URL:https://angelfirechamber.org/event/drum-safari-enchanted-eagle-park/
LOCATION:Enchanted Eagle Park\, 52 N. Tomboy Dr\,\, Eagle Nest\, 87718\, United States
CATEGORIES:Educational,Family Event,Library,Summer Reading Program
ATTACH;FMTTYPE=image/jpeg:https://angelfirechamber.org/wp-content/uploads/2025/02/DrumSafariEN.jpg
ORGANIZER;CN="Discover Eagle Nest Public Library":MAILTO:library@eaglenest.org
END:VEVENT
END:VCALENDAR