BEGIN:VCALENDAR
VERSION:2.0
PRODID:-//Angel Fire Chamber of Commerce - ECPv6.15.20//NONSGML v1.0//EN
CALSCALE:GREGORIAN
METHOD:PUBLISH
X-WR-CALNAME:Angel Fire Chamber of Commerce
X-ORIGINAL-URL:https://angelfirechamber.org
X-WR-CALDESC:Events for Angel Fire Chamber of Commerce
REFRESH-INTERVAL;VALUE=DURATION:PT1H
X-Robots-Tag:noindex
X-PUBLISHED-TTL:PT1H
BEGIN:VTIMEZONE
TZID:America/Denver
BEGIN:DAYLIGHT
TZOFFSETFROM:-0700
TZOFFSETTO:-0600
TZNAME:MDT
DTSTART:20240310T090000
END:DAYLIGHT
BEGIN:STANDARD
TZOFFSETFROM:-0600
TZOFFSETTO:-0700
TZNAME:MST
DTSTART:20241103T080000
END:STANDARD
BEGIN:DAYLIGHT
TZOFFSETFROM:-0700
TZOFFSETTO:-0600
TZNAME:MDT
DTSTART:20250309T090000
END:DAYLIGHT
BEGIN:STANDARD
TZOFFSETFROM:-0600
TZOFFSETTO:-0700
TZNAME:MST
DTSTART:20251102T080000
END:STANDARD
BEGIN:DAYLIGHT
TZOFFSETFROM:-0700
TZOFFSETTO:-0600
TZNAME:MDT
DTSTART:20260308T090000
END:DAYLIGHT
BEGIN:STANDARD
TZOFFSETFROM:-0600
TZOFFSETTO:-0700
TZNAME:MST
DTSTART:20261101T080000
END:STANDARD
END:VTIMEZONE
BEGIN:VEVENT
DTSTART;TZID=America/Denver:20250606T080000
DTEND;TZID=America/Denver:20250606T130000
DTSTAMP:20260423T091452
CREATED:20250401T173323Z
LAST-MODIFIED:20250423T173941Z
UID:3221-1749196800-1749214800@angelfirechamber.org
SUMMARY:Angel Fire Zipline Adventure Tour Opening Day
DESCRIPTION:Angel Fire Zipline Adventure Tour\nOpening June 6 \nWEATHER PERMITTING\n \nFriday thru Monday \nJune 6 – September 5 \nPRICE: $130 per person \nExperience fresh alpine air and breathtaking views as you zip through the mountains on the Angel Fire Zipline Adventure Tour. \nDuring the 40–50-minute tour\, you will enjoy exploring our four ziplines with two professional guides to help you along the way. \nChairlift Access Included: \nYour zipline ticket includes unlimited scenic chairlift rides on the day of your tour\, weather permitting. \nSoak in the views all day long\, so feel free to hop on the lift earlier or stick around for more scenic rides afterward. \nAngel Fire Resort Members: To receive your discounted rate\, you must call us at 575-377-4499 to make your reservations. \nFor more detailed information and to book your zipline adventure online \nClick Here \n  \nContent Courtesy of the Angel Fire Resort
URL:https://angelfirechamber.org/event/angel-fire-zipline-adventure-tour-opening-day/
LOCATION:Angel Fire Resort Ski Area\, 10 Miller Lane\, An
CATEGORIES:Chamber Member,Family Event,Zipline
ATTACH;FMTTYPE=image/jpeg:https://angelfirechamber.org/wp-content/uploads/2024/04/ZipLine.jpg
END:VEVENT
END:VCALENDAR