BEGIN:VCALENDAR
VERSION:2.0
PRODID:-//Angel Fire Chamber of Commerce - ECPv6.15.20//NONSGML v1.0//EN
CALSCALE:GREGORIAN
METHOD:PUBLISH
X-ORIGINAL-URL:https://angelfirechamber.org
X-WR-CALDESC:Events for Angel Fire Chamber of Commerce
REFRESH-INTERVAL;VALUE=DURATION:PT1H
X-Robots-Tag:noindex
X-PUBLISHED-TTL:PT1H
BEGIN:VTIMEZONE
TZID:America/Denver
BEGIN:DAYLIGHT
TZOFFSETFROM:-0700
TZOFFSETTO:-0600
TZNAME:MDT
DTSTART:20240310T090000
END:DAYLIGHT
BEGIN:STANDARD
TZOFFSETFROM:-0600
TZOFFSETTO:-0700
TZNAME:MST
DTSTART:20241103T080000
END:STANDARD
BEGIN:DAYLIGHT
TZOFFSETFROM:-0700
TZOFFSETTO:-0600
TZNAME:MDT
DTSTART:20250309T090000
END:DAYLIGHT
BEGIN:STANDARD
TZOFFSETFROM:-0600
TZOFFSETTO:-0700
TZNAME:MST
DTSTART:20251102T080000
END:STANDARD
BEGIN:DAYLIGHT
TZOFFSETFROM:-0700
TZOFFSETTO:-0600
TZNAME:MDT
DTSTART:20260308T090000
END:DAYLIGHT
BEGIN:STANDARD
TZOFFSETFROM:-0600
TZOFFSETTO:-0700
TZNAME:MST
DTSTART:20261101T080000
END:STANDARD
END:VTIMEZONE
BEGIN:VEVENT
DTSTART;TZID=America/Denver:20250613T170000
DTEND;TZID=America/Denver:20250613T190000
DTSTAMP:20260423T091604
CREATED:20250319T220435Z
LAST-MODIFIED:20250422T213354Z
UID:3176-1749834000-1749841200@angelfirechamber.org
SUMMARY:Cool Summer Night Free Concert Series Kick Off
DESCRIPTION:Cool Summer Night Free Concert Series Kick-off 2025 \nFeaturing Myrrhine and the Big Suitcase \nFriday June 13th \n5:00pm-7:00pm \nFrontier Park \n3367 Mountain View Blvd. \nAngel Fire\, NM \nGrab your lawn chairs\, blankets\, friends\, and dancing shoes! \nBig Suitcase is a music ensemble from Santa Fe\, New Mexico. \nThey collaborate with a cast of terrific local musicians for each unique show. \nImprovisation\, both group and solo\, spanning diverse styles is a key part of the Big Suitcase experience. \nFacebook:  https://www.facebook.com/p/Myrrhine-The-Big-Suitcase-100091585010454/ Website: https://www.mybigsuitcase.com \nContent courtesy of Visit Angel Fire.com and Myrrhine and the Big Suitcase\nPhoto courtesy of Myrrhine and the Big Suitcase\n 
URL:https://angelfirechamber.org/event/cool-summer-night-free-concert-series-kick-off/
LOCATION:Frontier Park\, 3367 Mountain View Blvd\, Angel Fire\, NM\, 87710\, United States
CATEGORIES:Cool Summer Night Free Concert Series,Free Concert,Outdoor Venue
ATTACH;FMTTYPE=image/jpeg:https://angelfirechamber.org/wp-content/uploads/2024/06/Myrrhine-the-Big-Suitcase.jpg
END:VEVENT
END:VCALENDAR