BEGIN:VCALENDAR
VERSION:2.0
PRODID:-//Angel Fire Chamber of Commerce - ECPv6.15.20//NONSGML v1.0//EN
CALSCALE:GREGORIAN
METHOD:PUBLISH
X-WR-CALNAME:Angel Fire Chamber of Commerce
X-ORIGINAL-URL:https://angelfirechamber.org
X-WR-CALDESC:Events for Angel Fire Chamber of Commerce
REFRESH-INTERVAL;VALUE=DURATION:PT1H
X-Robots-Tag:noindex
X-PUBLISHED-TTL:PT1H
BEGIN:VTIMEZONE
TZID:America/Denver
BEGIN:DAYLIGHT
TZOFFSETFROM:-0700
TZOFFSETTO:-0600
TZNAME:MDT
DTSTART:20240310T090000
END:DAYLIGHT
BEGIN:STANDARD
TZOFFSETFROM:-0600
TZOFFSETTO:-0700
TZNAME:MST
DTSTART:20241103T080000
END:STANDARD
BEGIN:DAYLIGHT
TZOFFSETFROM:-0700
TZOFFSETTO:-0600
TZNAME:MDT
DTSTART:20250309T090000
END:DAYLIGHT
BEGIN:STANDARD
TZOFFSETFROM:-0600
TZOFFSETTO:-0700
TZNAME:MST
DTSTART:20251102T080000
END:STANDARD
BEGIN:DAYLIGHT
TZOFFSETFROM:-0700
TZOFFSETTO:-0600
TZNAME:MDT
DTSTART:20260308T090000
END:DAYLIGHT
BEGIN:STANDARD
TZOFFSETFROM:-0600
TZOFFSETTO:-0700
TZNAME:MST
DTSTART:20261101T080000
END:STANDARD
END:VTIMEZONE
BEGIN:VEVENT
DTSTART;TZID=America/Denver:20250615T100000
DTEND;TZID=America/Denver:20250615T140000
DTSTAMP:20260423T091521
CREATED:20240516T221556Z
LAST-MODIFIED:20250326T214711Z
UID:2183-1749981600-1749996000@angelfirechamber.org
SUMMARY:Angel Fire Farmer's Market
DESCRIPTION:Enjoy shopping al fresco at the Angel Fire Farmers’ Market. \nJoin us in Frontier Park every Sunday this summer from June 15 to September 14.  \nThe Farmers’ Market will offer fresh produce\, art\, and entertainment for the whole family to enjoy. \nLive Music on stage from 11:00am-1:00pm
URL:https://angelfirechamber.org/event/angel-fire-farmers-market/
LOCATION:Frontier Park\, 3367 Mountain View Blvd\, Angel Fire\, NM\, 87710\, United States
CATEGORIES:Arts & Crafts,Farmer's Market,Music
ATTACH;FMTTYPE=image/jpeg:https://angelfirechamber.org/wp-content/uploads/2024/06/Market.jpg
END:VEVENT
BEGIN:VEVENT
DTSTART;TZID=America/Denver:20250615T170000
DTEND;TZID=America/Denver:20250615T180000
DTSTAMP:20260423T091522
CREATED:20240605T215833Z
LAST-MODIFIED:20250609T220841Z
UID:2242-1750006800-1750010400@angelfirechamber.org
SUMMARY:Sunday Night Trivia with Ray Murray
DESCRIPTION:Get ready to flex your mental muscles at Sunday Night Trivia\, \nhosted by Ray Murray at Elements Lounge! \nWe’ll be hosting trivia with prizes every Sunday night this summer from 5 PM to 6 PM. \nThere are no reservations for seating in the Lounge. It is first come\, first served\, come early\, the room fills up fast! \nContent and Photo Credit: Angel Fire Resort
URL:https://angelfirechamber.org/event/sunday-night-trivia-with-ray-murray/
LOCATION:Elements at Angel Fire Resort Country Club\, Elements at Angel Fire Resort Country Club\, 100 Country Club Drive\, NM\, 87710\, United States
CATEGORIES:Chamber Member,Trivia
ATTACH;FMTTYPE=image/jpeg:https://angelfirechamber.org/wp-content/uploads/2024/06/trivia-night-002-1536x624-1.jpeg
END:VEVENT
END:VCALENDAR