BEGIN:VCALENDAR
VERSION:2.0
PRODID:-//Angel Fire Chamber of Commerce - ECPv6.15.20//NONSGML v1.0//EN
CALSCALE:GREGORIAN
METHOD:PUBLISH
X-WR-CALNAME:Angel Fire Chamber of Commerce
X-ORIGINAL-URL:https://angelfirechamber.org
X-WR-CALDESC:Events for Angel Fire Chamber of Commerce
REFRESH-INTERVAL;VALUE=DURATION:PT1H
X-Robots-Tag:noindex
X-PUBLISHED-TTL:PT1H
BEGIN:VTIMEZONE
TZID:America/Denver
BEGIN:DAYLIGHT
TZOFFSETFROM:-0700
TZOFFSETTO:-0600
TZNAME:MDT
DTSTART:20240310T090000
END:DAYLIGHT
BEGIN:STANDARD
TZOFFSETFROM:-0600
TZOFFSETTO:-0700
TZNAME:MST
DTSTART:20241103T080000
END:STANDARD
BEGIN:DAYLIGHT
TZOFFSETFROM:-0700
TZOFFSETTO:-0600
TZNAME:MDT
DTSTART:20250309T090000
END:DAYLIGHT
BEGIN:STANDARD
TZOFFSETFROM:-0600
TZOFFSETTO:-0700
TZNAME:MST
DTSTART:20251102T080000
END:STANDARD
BEGIN:DAYLIGHT
TZOFFSETFROM:-0700
TZOFFSETTO:-0600
TZNAME:MDT
DTSTART:20260308T090000
END:DAYLIGHT
BEGIN:STANDARD
TZOFFSETFROM:-0600
TZOFFSETTO:-0700
TZNAME:MST
DTSTART:20261101T080000
END:STANDARD
END:VTIMEZONE
BEGIN:VEVENT
DTSTART;TZID=America/Denver:20250619T203000
DTEND;TZID=America/Denver:20250619T210000
DTSTAMP:20260423T091522
CREATED:20250512T192657Z
LAST-MODIFIED:20250512T192657Z
UID:3398-1750365000-1750366800@angelfirechamber.org
SUMMARY:Drone Racing Demos @ Angel Fire Airport (after movie)
DESCRIPTION:Are you a tech enthusiast\, future pilot\, or adrenaline junkie?Get ready for high-speed thrills as drones zip\, dive\, and weave through custom-built obstacle courses in this exciting aerial showcase! \nWhen: June 19–21\, 2025 | 8PM  (after movie)Where:  Angel Fire AirportWhat to Expect: \n\nLive Drone Demonstrations: Watch skilled pilots race drones through challenging courses at exhilarating speeds.\nFamily-Friendly Action: A great introduction to the world of drone racing for kids and curious adults alike.\nHands-Off\, Eyes-On Fun: These fast-flying marvels will leave you amazed—no goggles required!\n\nIt’s fast\, it’s furious\, and it’s flying low. Don’t miss the buzz!
URL:https://angelfirechamber.org/event/drone-racing-demos-angel-fire-airport-after-movie/
LOCATION:Angel Fire Airport\, 3570 NM-434\, Angel Fire\, NM\, 87710\, United States
CATEGORIES:Chamber Member,Drone Races,Family Event
ATTACH;FMTTYPE=image/jpeg:https://angelfirechamber.org/wp-content/uploads/2025/05/Drone-768x1024-1.jpg
END:VEVENT
END:VCALENDAR