BEGIN:VCALENDAR
VERSION:2.0
PRODID:-//Angel Fire Chamber of Commerce - ECPv6.15.20//NONSGML v1.0//EN
CALSCALE:GREGORIAN
METHOD:PUBLISH
X-WR-CALNAME:Angel Fire Chamber of Commerce
X-ORIGINAL-URL:https://angelfirechamber.org
X-WR-CALDESC:Events for Angel Fire Chamber of Commerce
REFRESH-INTERVAL;VALUE=DURATION:PT1H
X-Robots-Tag:noindex
X-PUBLISHED-TTL:PT1H
BEGIN:VTIMEZONE
TZID:America/Denver
BEGIN:DAYLIGHT
TZOFFSETFROM:-0700
TZOFFSETTO:-0600
TZNAME:MDT
DTSTART:20240310T090000
END:DAYLIGHT
BEGIN:STANDARD
TZOFFSETFROM:-0600
TZOFFSETTO:-0700
TZNAME:MST
DTSTART:20241103T080000
END:STANDARD
BEGIN:DAYLIGHT
TZOFFSETFROM:-0700
TZOFFSETTO:-0600
TZNAME:MDT
DTSTART:20250309T090000
END:DAYLIGHT
BEGIN:STANDARD
TZOFFSETFROM:-0600
TZOFFSETTO:-0700
TZNAME:MST
DTSTART:20251102T080000
END:STANDARD
BEGIN:DAYLIGHT
TZOFFSETFROM:-0700
TZOFFSETTO:-0600
TZNAME:MDT
DTSTART:20260308T090000
END:DAYLIGHT
BEGIN:STANDARD
TZOFFSETFROM:-0600
TZOFFSETTO:-0700
TZNAME:MST
DTSTART:20261101T080000
END:STANDARD
END:VTIMEZONE
BEGIN:VEVENT
DTSTART;TZID=America/Denver:20250630T100000
DTEND;TZID=America/Denver:20250630T110000
DTSTAMP:20260423T074017
CREATED:20250213T203651Z
LAST-MODIFIED:20250213T210800Z
UID:3084-1751277600-1751281200@angelfirechamber.org
SUMMARY:Rock Mandala Painting Class @ Enchanted Eagle Park
DESCRIPTION:Rock Mandala Painting Class\nEnchanted Eagle Park\nEagle Nest\, NM\nJune 30\, 2025\n10:00am -11:00am\nThe 2025 Summer Programs of Eagle Nest Library\npresents a Rock mandala Painting Class.\nLearn to paint a colorful\, beautiful mandala on a rock.\nAll rocks\, supplies and instruction are provided.\nTake your rock with you!\nAll ages welcome.\nBring your friends and neighbors.\n\n\n\n\n\n\n\nEvent by Discover Eagle Nest Public Library\n\n\n\n\n\n\nEnchanted Eagle Park Eagle Nest\, NM
URL:https://angelfirechamber.org/event/rock-mandala-painting-class-enchanted-eagle-park/
LOCATION:Enchanted Eagle Park\, 52 N. Tomboy Dr\,\, Eagle Nest\, 87718\, United States
CATEGORIES:Arts & Crafts,Educational,Family Event,Library,Summer Reading Program
ATTACH;FMTTYPE=image/jpeg:https://angelfirechamber.org/wp-content/uploads/2025/02/MandalaRockPainting.jpg
ORGANIZER;CN="Discover Eagle Nest Public Library":MAILTO:library@eaglenest.org
END:VEVENT
END:VCALENDAR