BEGIN:VCALENDAR
VERSION:2.0
PRODID:-//Angel Fire Chamber of Commerce - ECPv6.15.20//NONSGML v1.0//EN
CALSCALE:GREGORIAN
METHOD:PUBLISH
X-ORIGINAL-URL:https://angelfirechamber.org
X-WR-CALDESC:Events for Angel Fire Chamber of Commerce
REFRESH-INTERVAL;VALUE=DURATION:PT1H
X-Robots-Tag:noindex
X-PUBLISHED-TTL:PT1H
BEGIN:VTIMEZONE
TZID:America/Denver
BEGIN:DAYLIGHT
TZOFFSETFROM:-0700
TZOFFSETTO:-0600
TZNAME:MDT
DTSTART:20240310T090000
END:DAYLIGHT
BEGIN:STANDARD
TZOFFSETFROM:-0600
TZOFFSETTO:-0700
TZNAME:MST
DTSTART:20241103T080000
END:STANDARD
BEGIN:DAYLIGHT
TZOFFSETFROM:-0700
TZOFFSETTO:-0600
TZNAME:MDT
DTSTART:20250309T090000
END:DAYLIGHT
BEGIN:STANDARD
TZOFFSETFROM:-0600
TZOFFSETTO:-0700
TZNAME:MST
DTSTART:20251102T080000
END:STANDARD
BEGIN:DAYLIGHT
TZOFFSETFROM:-0700
TZOFFSETTO:-0600
TZNAME:MDT
DTSTART:20260308T090000
END:DAYLIGHT
BEGIN:STANDARD
TZOFFSETFROM:-0600
TZOFFSETTO:-0700
TZNAME:MST
DTSTART:20261101T080000
END:STANDARD
END:VTIMEZONE
BEGIN:VEVENT
DTSTART;TZID=America/Denver:20250705T080000
DTEND;TZID=America/Denver:20250705T103000
DTSTAMP:20260423T074052
CREATED:20250512T194507Z
LAST-MODIFIED:20250512T194507Z
UID:3409-1751702400-1751711400@angelfirechamber.org
SUMMARY:Rotary Pancake Breakfast
DESCRIPTION:Are you ready to start your day with a delicious community tradition? \nKick off your holiday weekend with a hearty outdoor breakfast\, lovingly prepared by the Rotary Club of Angel Fire. \nEnjoy a morning filled with great food and good company—all while supporting scholarships for local high school seniors and Angel Fire’s first Community Garden. \nWhen:  Friday\, July 5\, 8 – 10:30 AMWhere: New Mexico Bank & Trust | 1 First National Place\, Angel FireWhat to Expect: Freshly made pancakes\, warm hospitality\, and a chance to give back to the community. \nCost: Adults $15  |  Children (12 and under) $10 \n\nFor further inquiry\, contact Martha @  marsarash@gmail.com\n\nBring your appetite and join the fun!
URL:https://angelfirechamber.org/event/rotary-pancake-breakfast-2/
LOCATION:UMB Community Room\, 1st National Place\, Angel Fire\, NM\, 87710\, United States
CATEGORIES:4th of July,Chamber Member,Family Event,Fund Raiser,Pancake Breakfast
ATTACH;FMTTYPE=image/jpeg:https://angelfirechamber.org/wp-content/uploads/2023/06/Rotary-Pancakes-Logo-150x150-1.jpg
ORGANIZER;CN="Rotary Club of Angel Fire":MAILTO:marsarash@gmail.com
END:VEVENT
BEGIN:VEVENT
DTSTART;TZID=America/Denver:20250705T080000
DTEND;TZID=America/Denver:20250705T150000
DTSTAMP:20260423T074052
CREATED:20250430T210752Z
LAST-MODIFIED:20250604T224532Z
UID:2123-1751702400-1751727600@angelfirechamber.org
SUMMARY:Trash to Treasures
DESCRIPTION:
URL:https://angelfirechamber.org/event/trash-to-treasures/
LOCATION:Angel Fire Airport\, 3570 NM-434\, Angel Fire\, NM\, 87710\, United States
CATEGORIES:4th of July,Chamber Member,Flea Market,Fund Raiser
ATTACH;FMTTYPE=image/jpeg:https://angelfirechamber.org/wp-content/uploads/2025/04/TrashtoTreasures.jpg
END:VEVENT
BEGIN:VEVENT
DTSTART;TZID=America/Denver:20250705T100000
DTEND;TZID=America/Denver:20250705T160000
DTSTAMP:20260423T074052
CREATED:20250522T162908Z
LAST-MODIFIED:20250522T162908Z
UID:3422-1751709600-1751731200@angelfirechamber.org
SUMMARY:Angel Fire Annual Home Tour
DESCRIPTION:Get ready for our Annual Home Tour! \nThis is a self-guided tour. \nMaps and lists of properties will be available at the Coldwell Banker Mountain Properties office. \nThere are 15+ houses for you to visit in Angel Fire\, \nincluding our luxury properties\, cozy condos\, \nand everything in between. \n Make plans\, you do not want to miss this!
URL:https://angelfirechamber.org/event/angel-fire-annual-home-tour/
LOCATION:NM
CATEGORIES:4th of July,Chamber Member,Home Show,Self Guided Tour
ATTACH;FMTTYPE=image/jpeg:https://angelfirechamber.org/wp-content/uploads/2025/05/Coldwell-Banker-Home-Show.jpg
END:VEVENT
BEGIN:VEVENT
DTSTART;TZID=America/Denver:20250705T163000
DTEND;TZID=America/Denver:20250705T220000
DTSTAMP:20260423T074052
CREATED:20250422T205305Z
LAST-MODIFIED:20250625T162118Z
UID:3274-1751733000-1751752800@angelfirechamber.org
SUMMARY:4th of July Celebrations/ July 5th
DESCRIPTION:Are you ready for the ultimate 4th of July celebration? \nJoin us for Music in the Park on July 5th\, an unforgettable evening packed with live music\, a drone light show\, and plenty of fun for the whole family! \nThis year\, the main event is the Firework Drone Show\, \nlighting up the sky in place of traditional fireworks with a breathtaking display that you won’t want to miss. \nThe evening kicks off with The WesternHers from 4:30-6:30 PM\, an all-female classic country band \nthat’ll have you tapping your boots and dancing to timeless country favorites. \nFollowing them\, 4Sale hits the stage from 7:00-9:00 PM\, bringing a high-energy mix of soulful country\, rock\, and feel-good classics. \nWhen: Saturday\, July 5th\, from 4:30 – 10PMWhere: Liberty Square Park \n4:30-6:30PM |  WesternHers: Country \n \nThe WesternHers is an all female classic country band! \nGet your dancin’ boots on and get ready for music that will take you back to some of your treasured classic country favorites. \nDon’t miss this evening of good fun and great country! \nFacebook: https://www.facebook.com/p/The-WesternHers-100067726039252/ \n  \n7-9PM |  4Sale:   Soul/Country \n \n4Sale features a talented group of New Mexico musicians lead by frontman Sale Taylor\, \nalso known for his work in film and television\, and more recently\, Duke City Championship Wrestling. \n4Sale’s high-energy show is sure to get you dancing with their unique blend of classic\, \nfeel-good songs featuring Soulful Country to Rock and all the good things in between! \nFacebook: https://www.facebook.com/4salemusic/ \n9pm(ish) Firework Drone Show \nContent and Photos Courtesy of  VisitAngelFireNM.com
URL:https://angelfirechamber.org/event/cool-summer-night-free-concert-series-sim-balkey-3/
LOCATION:Mountain View Event Center\, 380 Fuego St.\, Angel Fire\, NM\, 87710\, United States
CATEGORIES:4th of July,Celebration,Dance,Family Event,Free Concerts,Music,Outdoor Venue
ATTACH;FMTTYPE=image/jpeg:https://angelfirechamber.org/wp-content/uploads/2025/04/2025-4th-and-Music-Banner-pdf-scaled.jpg
END:VEVENT
END:VCALENDAR