BEGIN:VCALENDAR
VERSION:2.0
PRODID:-//Angel Fire Chamber of Commerce - ECPv6.15.20//NONSGML v1.0//EN
CALSCALE:GREGORIAN
METHOD:PUBLISH
X-WR-CALNAME:Angel Fire Chamber of Commerce
X-ORIGINAL-URL:https://angelfirechamber.org
X-WR-CALDESC:Events for Angel Fire Chamber of Commerce
REFRESH-INTERVAL;VALUE=DURATION:PT1H
X-Robots-Tag:noindex
X-PUBLISHED-TTL:PT1H
BEGIN:VTIMEZONE
TZID:America/Denver
BEGIN:DAYLIGHT
TZOFFSETFROM:-0700
TZOFFSETTO:-0600
TZNAME:MDT
DTSTART:20240310T090000
END:DAYLIGHT
BEGIN:STANDARD
TZOFFSETFROM:-0600
TZOFFSETTO:-0700
TZNAME:MST
DTSTART:20241103T080000
END:STANDARD
BEGIN:DAYLIGHT
TZOFFSETFROM:-0700
TZOFFSETTO:-0600
TZNAME:MDT
DTSTART:20250309T090000
END:DAYLIGHT
BEGIN:STANDARD
TZOFFSETFROM:-0600
TZOFFSETTO:-0700
TZNAME:MST
DTSTART:20251102T080000
END:STANDARD
BEGIN:DAYLIGHT
TZOFFSETFROM:-0700
TZOFFSETTO:-0600
TZNAME:MDT
DTSTART:20260308T090000
END:DAYLIGHT
BEGIN:STANDARD
TZOFFSETFROM:-0600
TZOFFSETTO:-0700
TZNAME:MST
DTSTART:20261101T080000
END:STANDARD
END:VTIMEZONE
BEGIN:VEVENT
DTSTART;TZID=America/Denver:20250712T150000
DTEND;TZID=America/Denver:20250712T213000
DTSTAMP:20260423T074017
CREATED:20250422T212329Z
LAST-MODIFIED:20250707T220854Z
UID:3279-1752332400-1752355800@angelfirechamber.org
SUMMARY:Bluews Fest / Blues\, Brews & The Fabulous Thunderbirds
DESCRIPTION:Blues\, brews\, and legendary music! \nGet ready for a brand-new festival celebrating blues music and New Mexico brews! \nIn partnership with the New Mexico Brewers Guild\, BluewsFest brings a weekend of incredible live performances\, craft beer\, and great company. \nWhen:  Saturday\, July 12 from 3-9:30PM \nWhere:   Mountain View Event Center \nBlues Lineup: \n3:00-4:30 PM – Stanlie Kee and Step In – A soulful\, youthful take on traditional blues.5:00-6:30 PM – Eden Brent – A powerhouse pianist and award-winning blues artist.7:30 PM – The Fabulous Thunderbirds – An electrifying performance from the legendary blues rockers behind Tuff Enuff and Wrap It Up! \nAbout The Musicians \n3-4:30PM |  Stanlie Kee and Step In: Blues \n \nStanklie Kee and Step In bring a youthful interpretation to traditional blues that captures the native spirit while captivating audiences of all ages\, backgrounds\, and exposure to the blues. \nThis band will touch your soul! \nFacebook: https://www.facebook.com/stepinblues/Instagram: https://www.instagram.com/stanliekee/ \n5-6:30PM |  Eden Brent: Blues \n \nBlues lady Eden Brent is a piano-pounding\, juke-joint hollering powerhouse. A celebrated songwriter and dynamic performer\, she spent the first two decades of her career under the tutelage of Abie “Boogaloo” Ames\, before winning the Blues Foundation’s Blues Challenge and bouncing onto the international scene. Since then she lands steady honors\, three Blues Music Awards among them. Her much-anticipated new album Getaway Blues presents nine original blues songs recorded live in London with a four-piece band and released on Yellow Dog Records. Laid down in London. Mixed up in Memphis. Made in Mississippi.  A performer at heart\, Eden plays clubs\, concerts and festivals like the down-home Juke Joint Festival in Clarksdale and the international Blues in Hell\, Norway. She frequently hosts the Piano Bar aboard the Legendary Rhythm & Blues Cruise and is the featured guest at Viking Mississippi River Cruises dock parties\, appearances recalling her river roots. \nWeb: https://www.edenbrent.com/ Facebook: https://www.facebook.com/edenbrent   Instagram: https://www.instagram.com/eden.brent/?hl=en \n7-9:30PM |  The Fabulous Thunderbirds: Blues \n \nFor over 30 years\, The Fabulous Thunderbirds have been the quintessential American band. The group’s distinctive and powerful sound\, influenced by a diversity of musical styles\, manifested itself into a unique musical hybrid via such barnburners as Tuff Enuff and Wrap It Up. Co-founder Kim Wilson\, the sole original member\, still spearheads the group as it evolves into its newest incarnation. \nWeb: https://fabulousthunderbirds.com/Facebook: https://www.facebook.com/fabulousthunderbirds/Instagram: https://www.instagram.com/fabuloustbirds/ \nWith amazing blues artists\, refreshing brews\, and a lively atmosphere\, this is one summer event you don’t want to miss! \nContent and Photos Courtesy of  VisitAngelFireNM.com
URL:https://angelfirechamber.org/event/bluews-fest-blues-brews-the-fabulous-thunderbirds/
LOCATION:Mountain View Event Center\, 380 Fuego St.\, Angel Fire\, NM\, 87710\, United States
CATEGORIES:Dance,Festival,Free Concerts,Music,Outdoor Venue
ATTACH;FMTTYPE=image/webp:https://angelfirechamber.org/wp-content/uploads/2025/04/BrueswFest.webp
END:VEVENT
END:VCALENDAR