BEGIN:VCALENDAR
VERSION:2.0
PRODID:-//Angel Fire Chamber of Commerce - ECPv6.15.20//NONSGML v1.0//EN
CALSCALE:GREGORIAN
METHOD:PUBLISH
X-ORIGINAL-URL:https://angelfirechamber.org
X-WR-CALDESC:Events for Angel Fire Chamber of Commerce
REFRESH-INTERVAL;VALUE=DURATION:PT1H
X-Robots-Tag:noindex
X-PUBLISHED-TTL:PT1H
BEGIN:VTIMEZONE
TZID:America/Denver
BEGIN:DAYLIGHT
TZOFFSETFROM:-0700
TZOFFSETTO:-0600
TZNAME:MDT
DTSTART:20240310T090000
END:DAYLIGHT
BEGIN:STANDARD
TZOFFSETFROM:-0600
TZOFFSETTO:-0700
TZNAME:MST
DTSTART:20241103T080000
END:STANDARD
BEGIN:DAYLIGHT
TZOFFSETFROM:-0700
TZOFFSETTO:-0600
TZNAME:MDT
DTSTART:20250309T090000
END:DAYLIGHT
BEGIN:STANDARD
TZOFFSETFROM:-0600
TZOFFSETTO:-0700
TZNAME:MST
DTSTART:20251102T080000
END:STANDARD
BEGIN:DAYLIGHT
TZOFFSETFROM:-0700
TZOFFSETTO:-0600
TZNAME:MDT
DTSTART:20260308T090000
END:DAYLIGHT
BEGIN:STANDARD
TZOFFSETFROM:-0600
TZOFFSETTO:-0700
TZNAME:MST
DTSTART:20261101T080000
END:STANDARD
END:VTIMEZONE
BEGIN:VEVENT
DTSTART;TZID=America/Denver:20250718T170000
DTEND;TZID=America/Denver:20250718T190000
DTSTAMP:20260423T074053
CREATED:20250422T195839Z
LAST-MODIFIED:20250707T221023Z
UID:3266-1752858000-1752865200@angelfirechamber.org
SUMMARY:Cool Summer Night Free Concert Series/Damn Tall Buildings
DESCRIPTION:[vc_row][vc_column][vc_column_text css=””] \nCool Summer Night Free Concert Series \nDamn Tall Buildings \nFriday July 18 \n5:00pm-7:00pm \nMountain View Event Center \n380 Fuego St. \nAngel Fire\, NM \nGrab your lawn chairs\, blankets\, friends\, and dancing shoes for an evening of music and fun. \nDamn Tall Buildings is a celebrated folk-bluegrass band known for their soulful melodies and intricate instrumentals. Based in Brooklyn\, NY\, \nthis seasoned trio—Max Capistran\, Sasha Dubyk\, and Avery Ballotta—has spent over a decade honing their craft through dedicated touring and recording. \nWith a distinctive sound that weaves heartfelt lyrics into masterful fiddle\, guitar\, and bass arrangements\, \nthey embody a unique blend of Americana roots and contemporary finesse. From intimate local venues to larger global stages\, \ntheir magnetic performances resonate deeply\, leaving a lasting mark on audiences around the world. \nWeb: http://www.damntallbuildings.com/Facebook: https://www.facebook.com/DamnTallBuildings/Instagram: https://www.instagram.com/gramtallbuildings/ \nContent courtesy of  VisitAngelFireNM.com\nPhoto Courtesy of Damn Tall Buildings\n[/vc_column_text][/vc_column][/vc_row]
URL:https://angelfirechamber.org/event/cool-summer-night-free-concert-series-sim-balkey/
LOCATION:Mountain View Event Center\, 380 Fuego St.\, Angel Fire\, NM\, 87710\, United States
CATEGORIES:Cool Summer Night Free Concert Series,Free Concert,Outdoor Venue
ATTACH;FMTTYPE=image/jpeg:https://angelfirechamber.org/wp-content/uploads/2025/04/Damn-Tall-Buildings.jpg
END:VEVENT
END:VCALENDAR