BEGIN:VCALENDAR
VERSION:2.0
PRODID:-//Angel Fire Chamber of Commerce - ECPv6.15.20//NONSGML v1.0//EN
CALSCALE:GREGORIAN
METHOD:PUBLISH
X-WR-CALNAME:Angel Fire Chamber of Commerce
X-ORIGINAL-URL:https://angelfirechamber.org
X-WR-CALDESC:Events for Angel Fire Chamber of Commerce
REFRESH-INTERVAL;VALUE=DURATION:PT1H
X-Robots-Tag:noindex
X-PUBLISHED-TTL:PT1H
BEGIN:VTIMEZONE
TZID:America/Denver
BEGIN:DAYLIGHT
TZOFFSETFROM:-0700
TZOFFSETTO:-0600
TZNAME:MDT
DTSTART:20240310T090000
END:DAYLIGHT
BEGIN:STANDARD
TZOFFSETFROM:-0600
TZOFFSETTO:-0700
TZNAME:MST
DTSTART:20241103T080000
END:STANDARD
BEGIN:DAYLIGHT
TZOFFSETFROM:-0700
TZOFFSETTO:-0600
TZNAME:MDT
DTSTART:20250309T090000
END:DAYLIGHT
BEGIN:STANDARD
TZOFFSETFROM:-0600
TZOFFSETTO:-0700
TZNAME:MST
DTSTART:20251102T080000
END:STANDARD
BEGIN:DAYLIGHT
TZOFFSETFROM:-0700
TZOFFSETTO:-0600
TZNAME:MDT
DTSTART:20260308T090000
END:DAYLIGHT
BEGIN:STANDARD
TZOFFSETFROM:-0600
TZOFFSETTO:-0700
TZNAME:MST
DTSTART:20261101T080000
END:STANDARD
END:VTIMEZONE
BEGIN:VEVENT
DTSTART;TZID=America/Denver:20250725T170000
DTEND;TZID=America/Denver:20250725T190000
DTSTAMP:20260423T074018
CREATED:20250422T202426Z
LAST-MODIFIED:20250707T221114Z
UID:3271-1753462800-1753470000@angelfirechamber.org
SUMMARY:Cool Summer Night Free Concert Series/ 4Sale & Friends
DESCRIPTION:Cool Summer Night Free Concert Series \n4Sale & Friends \nFriday July 25 \n5:00pm-7:00pm \nMountain View Event Center \n380 Fuego St. \nAngel Fire\, NM \nGrab your lawn chairs\, blankets\, friends\, and dancing shoes for an evening of music and fun. \nGet ready for an electrifying night of live music\, soulful rhythms\, and high-energy performances under the Angel Fire sky! \nLed by frontman Sale Taylor\, 4Sale brings together a talented group of New Mexico musicians known for their dynamic performances \nand versatile sound. Blending R&B\, rock\, and soulful melodies\, their high-energy show will have you dancing from start to finish. \nFacebook: https://www.facebook.com/4salemusic/ \nInstagram: https://www.instagram.com/4sale247/ \nContent courtesy of Visit Angel Fire.com \nPhoto courtesy of Sale Taylor
URL:https://angelfirechamber.org/event/cool-summer-night-free-concert-series-4sale-friends/
LOCATION:Mountain View Event Center\, 380 Fuego St.\, Angel Fire\, NM\, 87710\, United States
CATEGORIES:Cool Summer Night Free Concert Series,Free Concert,Outdoor Venue
ATTACH;FMTTYPE=image/jpeg:https://angelfirechamber.org/wp-content/uploads/2025/04/Sale-Taylor.jpg
END:VEVENT
END:VCALENDAR