BEGIN:VCALENDAR
VERSION:2.0
PRODID:-//Angel Fire Chamber of Commerce - ECPv6.15.20//NONSGML v1.0//EN
CALSCALE:GREGORIAN
METHOD:PUBLISH
X-ORIGINAL-URL:https://angelfirechamber.org
X-WR-CALDESC:Events for Angel Fire Chamber of Commerce
REFRESH-INTERVAL;VALUE=DURATION:PT1H
X-Robots-Tag:noindex
X-PUBLISHED-TTL:PT1H
BEGIN:VTIMEZONE
TZID:America/Denver
BEGIN:DAYLIGHT
TZOFFSETFROM:-0700
TZOFFSETTO:-0600
TZNAME:MDT
DTSTART:20240310T090000
END:DAYLIGHT
BEGIN:STANDARD
TZOFFSETFROM:-0600
TZOFFSETTO:-0700
TZNAME:MST
DTSTART:20241103T080000
END:STANDARD
BEGIN:DAYLIGHT
TZOFFSETFROM:-0700
TZOFFSETTO:-0600
TZNAME:MDT
DTSTART:20250309T090000
END:DAYLIGHT
BEGIN:STANDARD
TZOFFSETFROM:-0600
TZOFFSETTO:-0700
TZNAME:MST
DTSTART:20251102T080000
END:STANDARD
BEGIN:DAYLIGHT
TZOFFSETFROM:-0700
TZOFFSETTO:-0600
TZNAME:MDT
DTSTART:20260308T090000
END:DAYLIGHT
BEGIN:STANDARD
TZOFFSETFROM:-0600
TZOFFSETTO:-0700
TZNAME:MST
DTSTART:20261101T080000
END:STANDARD
END:VTIMEZONE
BEGIN:VEVENT
DTSTART;TZID=America/Denver:20250727T090000
DTEND;TZID=America/Denver:20250727T150000
DTSTAMP:20260423T060056
CREATED:20250707T210639Z
LAST-MODIFIED:20250714T210143Z
UID:3580-1753606800-1753628400@angelfirechamber.org
SUMMARY:40th Annual High Country Arts & Crafts Festival
DESCRIPTION:
URL:https://angelfirechamber.org/event/40th-annual-high-country-arts-crafts-festival-2/
LOCATION:Enchanted Eagle Park\, 52 N. Tomboy Dr\,\, Eagle Nest\, 87718\, United States
CATEGORIES:Arts & Crafts,Family Event,Live Music,Outdoor Venue
ATTACH;FMTTYPE=image/jpeg:https://angelfirechamber.org/wp-content/uploads/2025/07/HC.jpeg
END:VEVENT
BEGIN:VEVENT
DTSTART;TZID=America/Denver:20250727T120000
DTEND;TZID=America/Denver:20250727T200000
DTSTAMP:20260423T060056
CREATED:20230630T210445Z
LAST-MODIFIED:20250625T174102Z
UID:1580-1753617600-1753646400@angelfirechamber.org
SUMMARY:3rd Annual Skateboard Festival
DESCRIPTION:Free Admission | Donations toward Angel Fire Skatepark are gratefully accepted \nSUNDAY SCHEDULE\nSkate Schedule \n10am-12pm: Beginners Clinics \n12pm-3pm: Open Skate \n3pm-4pm: Pro/Open Contest \n4:30pm-Close: Open Skate (all welcome) \nMusic Lineup \n12:15pm-1pm: Saille Branch (Americana) \n1:15pm-2pm: Mr. Biggs/ Melange (Electric funk) \n2:15pm-3pm: Solitary Witch (Eclectic/ Indie) \n3:15pm-4pm: The Prof.Fuzz (LoFi Rock) \n4:15pm-5pm: Slush Baby (Indie) \n6:15pm-7pm: Los Mocos (Punk) \n7:;15pm-8pm: Cayuga All Stars ( Cumbia) \n 
URL:https://angelfirechamber.org/event/skateboard-festival/
LOCATION:Mountain View Event Center\, 380 Fuego St.\, Angel Fire\, NM\, 87710\, United States
CATEGORIES:Family Event,Live Music,Outdoor Venue,Skateboard Festival
ATTACH;FMTTYPE=image/jpeg:https://angelfirechamber.org/wp-content/uploads/2025/03/Skate-festival.jpg
ORGANIZER;CN="Overground Project":MAILTO:Admin@overgroundproject.org
END:VEVENT
END:VCALENDAR