BEGIN:VCALENDAR
VERSION:2.0
PRODID:-//Angel Fire Chamber of Commerce - ECPv6.15.20//NONSGML v1.0//EN
CALSCALE:GREGORIAN
METHOD:PUBLISH
X-WR-CALNAME:Angel Fire Chamber of Commerce
X-ORIGINAL-URL:https://angelfirechamber.org
X-WR-CALDESC:Events for Angel Fire Chamber of Commerce
REFRESH-INTERVAL;VALUE=DURATION:PT1H
X-Robots-Tag:noindex
X-PUBLISHED-TTL:PT1H
BEGIN:VTIMEZONE
TZID:America/Denver
BEGIN:DAYLIGHT
TZOFFSETFROM:-0700
TZOFFSETTO:-0600
TZNAME:MDT
DTSTART:20240310T090000
END:DAYLIGHT
BEGIN:STANDARD
TZOFFSETFROM:-0600
TZOFFSETTO:-0700
TZNAME:MST
DTSTART:20241103T080000
END:STANDARD
BEGIN:DAYLIGHT
TZOFFSETFROM:-0700
TZOFFSETTO:-0600
TZNAME:MDT
DTSTART:20250309T090000
END:DAYLIGHT
BEGIN:STANDARD
TZOFFSETFROM:-0600
TZOFFSETTO:-0700
TZNAME:MST
DTSTART:20251102T080000
END:STANDARD
BEGIN:DAYLIGHT
TZOFFSETFROM:-0700
TZOFFSETTO:-0600
TZNAME:MDT
DTSTART:20260308T090000
END:DAYLIGHT
BEGIN:STANDARD
TZOFFSETFROM:-0600
TZOFFSETTO:-0700
TZNAME:MST
DTSTART:20261101T080000
END:STANDARD
END:VTIMEZONE
BEGIN:VEVENT
DTSTART;TZID=America/Denver:20250809T100000
DTEND;TZID=America/Denver:20250809T130000
DTSTAMP:20260423T060019
CREATED:20250423T194351Z
LAST-MODIFIED:20250423T194351Z
UID:3306-1754733600-1754744400@angelfirechamber.org
SUMMARY:5th Annual Monte Verde Lake Regatta
DESCRIPTION:Gather your friends\, make your teams\, and take to the lake for the Fourth Annual Monte Verde Lake Regatta on Saturday\, August 9th! The fun will run from 10 AM – 1 PM. \nEnjoy races for kayaks\, pedal boats\, paddle boards\, and an overall race with winners from each category. We will also have a contest for the best decorated boat! \nNEW THIS YEAR – Take on our newest challenge—the Ski Boot Marathon! (Not a real marathon\, just a fun race in ski boots!) Bring your own ski boots to participate. \n\nYou can register for the races at the Boat House the day before and the day of the event\, or use the link below to sign up online. \nREGISTER HERE :  https://www.angelfireresort.com/regatta-registration/ \n  \nPhoto and Content credit: Angel Fire Resort
URL:https://angelfirechamber.org/event/5th-annual-monte-verde-lake-regatta/
LOCATION:Monte Verde Lake\, Lakeview Drive\, Angel Fire\, NM\, 87710\, United States
CATEGORIES:Celebration,Chamber Member,Contest,Festival,Games,Outdoor Venue,Peddle Boat Rentals
ATTACH;FMTTYPE=image/webp:https://angelfirechamber.org/wp-content/uploads/2025/04/Regatta-2025.webp
END:VEVENT
END:VCALENDAR