BEGIN:VCALENDAR
VERSION:2.0
PRODID:-//Angel Fire Chamber of Commerce - ECPv6.15.20//NONSGML v1.0//EN
CALSCALE:GREGORIAN
METHOD:PUBLISH
X-ORIGINAL-URL:https://angelfirechamber.org
X-WR-CALDESC:Events for Angel Fire Chamber of Commerce
REFRESH-INTERVAL;VALUE=DURATION:PT1H
X-Robots-Tag:noindex
X-PUBLISHED-TTL:PT1H
BEGIN:VTIMEZONE
TZID:America/Denver
BEGIN:DAYLIGHT
TZOFFSETFROM:-0700
TZOFFSETTO:-0600
TZNAME:MDT
DTSTART:20240310T090000
END:DAYLIGHT
BEGIN:STANDARD
TZOFFSETFROM:-0600
TZOFFSETTO:-0700
TZNAME:MST
DTSTART:20241103T080000
END:STANDARD
BEGIN:DAYLIGHT
TZOFFSETFROM:-0700
TZOFFSETTO:-0600
TZNAME:MDT
DTSTART:20250309T090000
END:DAYLIGHT
BEGIN:STANDARD
TZOFFSETFROM:-0600
TZOFFSETTO:-0700
TZNAME:MST
DTSTART:20251102T080000
END:STANDARD
BEGIN:DAYLIGHT
TZOFFSETFROM:-0700
TZOFFSETTO:-0600
TZNAME:MDT
DTSTART:20260308T090000
END:DAYLIGHT
BEGIN:STANDARD
TZOFFSETFROM:-0600
TZOFFSETTO:-0700
TZNAME:MST
DTSTART:20261101T080000
END:STANDARD
END:VTIMEZONE
BEGIN:VEVENT
DTSTART;TZID=America/Denver:20250814T180000
DTEND;TZID=America/Denver:20250814T200000
DTSTAMP:20260423T060109
CREATED:20250623T233652Z
LAST-MODIFIED:20250623T234523Z
UID:3513-1755194400-1755201600@angelfirechamber.org
SUMMARY:Music From Angel Fire Concert Series 2025
DESCRIPTION:Echoes of Resilience – Thurs\, Aug 14\, 6pm\nJ.S. Bach/ Chaconne from Partia No. 2 in D Minor\, BWV 1004 \nWhen: Thursday\, August 14 @ 6PM \nWhere:  Taos Center for the Arts \nMusic from Angel Fire is the premier summer music festival in the Rockies\, bringing world-class musicians\, breathtaking settings\, and unforgettable performances. \nThis summer\, the festival celebrates its 41st season from August 14 to 28. \nFor the latest updates and more details\, visit musicfromangelfire.org. \nTickets go on sale July 15\, 2025: Purchase tickets for this concert HERE \n  \nContent Credit: Music from Angel Fire
URL:https://angelfirechamber.org/event/music-from-angel-fire-concert-series-2025/
LOCATION:Taos Center For The Arts\, 133 Paseo Del Pueblo Norte\, Taos\, NM\, 87571\, United States
CATEGORIES:Chamber Member
ATTACH;FMTTYPE=image/png:https://angelfirechamber.org/wp-content/uploads/2023/02/Music-From-Angel-Fire-scaled-1.png
ORGANIZER;CN="Music From Angel Fire":MAILTO:info@musicfromangelfire.org
END:VEVENT
END:VCALENDAR