BEGIN:VCALENDAR
VERSION:2.0
PRODID:-//Angel Fire Chamber of Commerce - ECPv6.15.20//NONSGML v1.0//EN
CALSCALE:GREGORIAN
METHOD:PUBLISH
X-ORIGINAL-URL:https://angelfirechamber.org
X-WR-CALDESC:Events for Angel Fire Chamber of Commerce
REFRESH-INTERVAL;VALUE=DURATION:PT1H
X-Robots-Tag:noindex
X-PUBLISHED-TTL:PT1H
BEGIN:VTIMEZONE
TZID:America/Denver
BEGIN:DAYLIGHT
TZOFFSETFROM:-0700
TZOFFSETTO:-0600
TZNAME:MDT
DTSTART:20240310T090000
END:DAYLIGHT
BEGIN:STANDARD
TZOFFSETFROM:-0600
TZOFFSETTO:-0700
TZNAME:MST
DTSTART:20241103T080000
END:STANDARD
BEGIN:DAYLIGHT
TZOFFSETFROM:-0700
TZOFFSETTO:-0600
TZNAME:MDT
DTSTART:20250309T090000
END:DAYLIGHT
BEGIN:STANDARD
TZOFFSETFROM:-0600
TZOFFSETTO:-0700
TZNAME:MST
DTSTART:20251102T080000
END:STANDARD
BEGIN:DAYLIGHT
TZOFFSETFROM:-0700
TZOFFSETTO:-0600
TZNAME:MDT
DTSTART:20260308T090000
END:DAYLIGHT
BEGIN:STANDARD
TZOFFSETFROM:-0600
TZOFFSETTO:-0700
TZNAME:MST
DTSTART:20261101T080000
END:STANDARD
END:VTIMEZONE
BEGIN:VEVENT
DTSTART;TZID=America/Denver:20250817T070000
DTEND;TZID=America/Denver:20250817T100000
DTSTAMP:20260423T060057
CREATED:20250707T214013Z
LAST-MODIFIED:20250707T214013Z
UID:3586-1755414000-1755424800@angelfirechamber.org
SUMMARY:Eagle Nest Balloon Fest
DESCRIPTION:Eagle Nest Balloon Fest \nsponsored & organized by Golden Eagle RV Park\, Eagle Nest\, NM \nCome join us to watch the skies fill with hot air balloons. \nMass ascension is located at \n5 Comanche Creek Rd in Eagle Nest\, NM
URL:https://angelfirechamber.org/event/eagle-nest-balloon-fest-2/
LOCATION:NM
ATTACH;FMTTYPE=image/jpeg:https://angelfirechamber.org/wp-content/uploads/2025/07/EagleNestBalloonFest.jpg
ORGANIZER;CN="Golden Eagle RV Park":MAILTO:goldeneaglerv@msn.com
END:VEVENT
END:VCALENDAR