BEGIN:VCALENDAR
VERSION:2.0
PRODID:-//Angel Fire Chamber of Commerce - ECPv6.15.20//NONSGML v1.0//EN
CALSCALE:GREGORIAN
METHOD:PUBLISH
X-ORIGINAL-URL:https://angelfirechamber.org
X-WR-CALDESC:Events for Angel Fire Chamber of Commerce
REFRESH-INTERVAL;VALUE=DURATION:PT1H
X-Robots-Tag:noindex
X-PUBLISHED-TTL:PT1H
BEGIN:VTIMEZONE
TZID:America/Denver
BEGIN:DAYLIGHT
TZOFFSETFROM:-0700
TZOFFSETTO:-0600
TZNAME:MDT
DTSTART:20240310T090000
END:DAYLIGHT
BEGIN:STANDARD
TZOFFSETFROM:-0600
TZOFFSETTO:-0700
TZNAME:MST
DTSTART:20241103T080000
END:STANDARD
BEGIN:DAYLIGHT
TZOFFSETFROM:-0700
TZOFFSETTO:-0600
TZNAME:MDT
DTSTART:20250309T090000
END:DAYLIGHT
BEGIN:STANDARD
TZOFFSETFROM:-0600
TZOFFSETTO:-0700
TZNAME:MST
DTSTART:20251102T080000
END:STANDARD
BEGIN:DAYLIGHT
TZOFFSETFROM:-0700
TZOFFSETTO:-0600
TZNAME:MDT
DTSTART:20260308T090000
END:DAYLIGHT
BEGIN:STANDARD
TZOFFSETFROM:-0600
TZOFFSETTO:-0700
TZNAME:MST
DTSTART:20261101T080000
END:STANDARD
END:VTIMEZONE
BEGIN:VEVENT
DTSTART;TZID=America/Denver:20250823T150000
DTEND;TZID=America/Denver:20250823T210000
DTSTAMP:20260423T060111
CREATED:20250507T215248Z
LAST-MODIFIED:20250804T203102Z
UID:3386-1755961200-1755982800@angelfirechamber.org
SUMMARY:Art Days at Whatville
DESCRIPTION:Whatville Art Days \nArt Up Northern New Mexico\, local artist Ray Renfroe\, \nand Angel Fire Chamber of Commerce \ninvite you into Whatville!  \nRay has been hard at work creating new fun structures as well as a large event building in Whatville.  \nWhat? you ask. What is Whatville? \n Whatville is a labor of love constructed for Angel Fire\, by Ray Renroe over the past seven to eight years.  \nRay ia an artist who builds houses\, both residential and tiny houses\, and furniture \n and added to that\, he spends his free time\, bringing Whatville to life!  \nWhatville is largely made up of oversized colorful wooden structures\, art pieces and Ray’s collection of objects that he lights up at night\,  \nin an array of colors for everyone’s enjoyment.   \nWhen asked why Whatville\, Ray says\, \n “I just want to see people have fun…That’s my feeling.  \nI want to see families. That’s what I want. That smile is worth more than a million bucks. It just is.” \nTogether ArtUpNNM\, Ray and Angel Fire Chamber  \nwill be hosting three Whatville Art Days this summer. \n Each will be filled with a variety of original artwork for sale by ArtUpNNM local artists’ and artisans.  \nEach event will also feature live music and great food.  \nWander around the grounds to find all the unique art Whatville has to offer. Stay until dark so you can be there when the lights come on! \n  \n 
URL:https://angelfirechamber.org/event/art-days-at-whatville-3/
LOCATION:Whatville\, 30 Trujillo Lane\, Angel Fire\, NM\, 87710\, United States
CATEGORIES:Arts,Chamber Member,Chamber of Commerce Event,Family Event,Festival,Music
ATTACH;FMTTYPE=image/jpeg:https://angelfirechamber.org/wp-content/uploads/2025/05/Whatville-Art-Days-Aug-23-828x1280-2.jpg
END:VEVENT
END:VCALENDAR