BEGIN:VCALENDAR
VERSION:2.0
PRODID:-//Angel Fire Chamber of Commerce - ECPv6.15.20//NONSGML v1.0//EN
CALSCALE:GREGORIAN
METHOD:PUBLISH
X-ORIGINAL-URL:https://angelfirechamber.org
X-WR-CALDESC:Events for Angel Fire Chamber of Commerce
REFRESH-INTERVAL;VALUE=DURATION:PT1H
X-Robots-Tag:noindex
X-PUBLISHED-TTL:PT1H
BEGIN:VTIMEZONE
TZID:America/Denver
BEGIN:DAYLIGHT
TZOFFSETFROM:-0700
TZOFFSETTO:-0600
TZNAME:MDT
DTSTART:20240310T090000
END:DAYLIGHT
BEGIN:STANDARD
TZOFFSETFROM:-0600
TZOFFSETTO:-0700
TZNAME:MST
DTSTART:20241103T080000
END:STANDARD
BEGIN:DAYLIGHT
TZOFFSETFROM:-0700
TZOFFSETTO:-0600
TZNAME:MDT
DTSTART:20250309T090000
END:DAYLIGHT
BEGIN:STANDARD
TZOFFSETFROM:-0600
TZOFFSETTO:-0700
TZNAME:MST
DTSTART:20251102T080000
END:STANDARD
BEGIN:DAYLIGHT
TZOFFSETFROM:-0700
TZOFFSETTO:-0600
TZNAME:MDT
DTSTART:20260308T090000
END:DAYLIGHT
BEGIN:STANDARD
TZOFFSETFROM:-0600
TZOFFSETTO:-0700
TZNAME:MST
DTSTART:20261101T080000
END:STANDARD
END:VTIMEZONE
BEGIN:VEVENT
DTSTART;TZID=America/Denver:20250912T170000
DTEND;TZID=America/Denver:20250912T190000
DTSTAMP:20260423T042557
CREATED:20250422T231325Z
LAST-MODIFIED:20250804T210653Z
UID:3295-1757696400-1757703600@angelfirechamber.org
SUMMARY:Cool Summer Nights Concert Series/ Abe Mac
DESCRIPTION:Cool Summer Nights Concert  featuring \nAbe Mac \nFriday\, September 12 \n5:00pm-7:00pm \nFrontier Park \nAngel Fire\, N.M. \nGrab your lawn chairs\, blankets\, friends\, dancing shoes\, and get ready  for a night of authentic country music with Abe Mac! \nWith his powerful baritone voice and unique guitar picking\, Abe Mac brings the authentic West Texas sound to life\, weaving stories through his songs. His stage presence and heartfelt performances make every show a memorable experience. If you’re a fan of legends like Waylon Jennings\, Merle Haggard\, Johnny Cash\, Willie Nelson\, and George Strait\, this is the show for you! \nLive country music with a West Texas twist\, Charismatic performance from Abe Mac\, a journey through authentic\, soulful country songs \nAbe Mac is a singer-songwriter\, music producer\, and independent Texas country artist. His songs are inspired by country legends like Waylon Jennings\, Merle Haggard\, Johnny Cash\, and others. His music and powerful stage presence will keep you hooked from start to finish. \nWeb: http://www.abemacband.net/#/Facebook: https://www.facebook.com/abemacmusicInstagram: https://www.instagram.com/abemacmusic \nContent Credit: VisitAngelFire\n\n\n\nPhoto Credit: Abe Mac
URL:https://angelfirechamber.org/event/cool-summer-nights-concert-series-abe-mac/
LOCATION:Frontier Park\, 3367 Mountain View Blvd\, Angel Fire\, NM\, 87710\, United States
CATEGORIES:Free Concert,Live Music,Music,Outdoor Venue
ATTACH;FMTTYPE=image/jpeg:https://angelfirechamber.org/wp-content/uploads/2025/04/Abe-Mac.jpg
END:VEVENT
END:VCALENDAR