BEGIN:VCALENDAR
VERSION:2.0
PRODID:-//Angel Fire Chamber of Commerce - ECPv6.15.20//NONSGML v1.0//EN
CALSCALE:GREGORIAN
METHOD:PUBLISH
X-ORIGINAL-URL:https://angelfirechamber.org
X-WR-CALDESC:Events for Angel Fire Chamber of Commerce
REFRESH-INTERVAL;VALUE=DURATION:PT1H
X-Robots-Tag:noindex
X-PUBLISHED-TTL:PT1H
BEGIN:VTIMEZONE
TZID:America/Denver
BEGIN:DAYLIGHT
TZOFFSETFROM:-0700
TZOFFSETTO:-0600
TZNAME:MDT
DTSTART:20240310T090000
END:DAYLIGHT
BEGIN:STANDARD
TZOFFSETFROM:-0600
TZOFFSETTO:-0700
TZNAME:MST
DTSTART:20241103T080000
END:STANDARD
BEGIN:DAYLIGHT
TZOFFSETFROM:-0700
TZOFFSETTO:-0600
TZNAME:MDT
DTSTART:20250309T090000
END:DAYLIGHT
BEGIN:STANDARD
TZOFFSETFROM:-0600
TZOFFSETTO:-0700
TZNAME:MST
DTSTART:20251102T080000
END:STANDARD
BEGIN:DAYLIGHT
TZOFFSETFROM:-0700
TZOFFSETTO:-0600
TZNAME:MDT
DTSTART:20260308T090000
END:DAYLIGHT
BEGIN:STANDARD
TZOFFSETFROM:-0600
TZOFFSETTO:-0700
TZNAME:MST
DTSTART:20261101T080000
END:STANDARD
END:VTIMEZONE
BEGIN:VEVENT
DTSTART;TZID=America/Denver:20250919T170000
DTEND;TZID=America/Denver:20250919T190000
DTSTAMP:20260423T043919
CREATED:20240521T223957Z
LAST-MODIFIED:20250804T210807Z
UID:2198-1758301200-1758308400@angelfirechamber.org
SUMMARY:Cool Summer Nights Concert Series/ The Rudy Boy Experiment
DESCRIPTION:[vc_row][vc_column][vc_column_text css=””] \n\n\n\nDon’t miss the final Cool Summer Nights Concert of the season with The Rudy Boy Experiment! \nFrontier Park \nAngel Fire\, N.M. \nAs we close out a fantastic summer\, we’re ending on a high note with the dynamic sounds of The Rudy Boy Experiment. \nWith Rudy “Boy” Jaramillo’s signature blend of swinging blues and rock ‘n roll\, this is one final performance you won’t want to miss. Join us for an unforgettable night of music and energy to close out the summer concert series in style! The Rudy Boy Experiment is back in the house playing that Voodoo Swinging Dirty Blues with a True Rock n Roll feel. The Rudy Boy Experiment has been performing for us at Cool Summer Nights since 2016 and has become one of our locals favorites.   \n\n\n\n  \nCheck out their albums at https://music.apple.com/us/artist/the-rudy-boy-experiment/373643502 \nhttps://www.facebook.com/therudyboyexperiment\nPhoto Credit: The Rudy Boy Experiment\nContent Credit: VisitAngelFire\n\n\n\n\n[/vc_column_text][/vc_column][/vc_row]
URL:https://angelfirechamber.org/event/cool-summer-nights-concert-featuring-the-rudy-boy-experiment/
LOCATION:Frontier Park\, 3367 Mountain View Blvd\, Angel Fire\, NM\, 87710\, United States
CATEGORIES:Family Event,Free Concert,Live Music,Music,Outdoor Venue
ATTACH;FMTTYPE=image/jpeg:https://angelfirechamber.org/wp-content/uploads/2024/05/The-Rudy-Boy-Experiment-2.jpg
END:VEVENT
END:VCALENDAR