BEGIN:VCALENDAR
VERSION:2.0
PRODID:-//Angel Fire Chamber of Commerce - ECPv6.15.20//NONSGML v1.0//EN
CALSCALE:GREGORIAN
METHOD:PUBLISH
X-ORIGINAL-URL:https://angelfirechamber.org
X-WR-CALDESC:Events for Angel Fire Chamber of Commerce
REFRESH-INTERVAL;VALUE=DURATION:PT1H
X-Robots-Tag:noindex
X-PUBLISHED-TTL:PT1H
BEGIN:VTIMEZONE
TZID:America/Denver
BEGIN:DAYLIGHT
TZOFFSETFROM:-0700
TZOFFSETTO:-0600
TZNAME:MDT
DTSTART:20240310T090000
END:DAYLIGHT
BEGIN:STANDARD
TZOFFSETFROM:-0600
TZOFFSETTO:-0700
TZNAME:MST
DTSTART:20241103T080000
END:STANDARD
BEGIN:DAYLIGHT
TZOFFSETFROM:-0700
TZOFFSETTO:-0600
TZNAME:MDT
DTSTART:20250309T090000
END:DAYLIGHT
BEGIN:STANDARD
TZOFFSETFROM:-0600
TZOFFSETTO:-0700
TZNAME:MST
DTSTART:20251102T080000
END:STANDARD
BEGIN:DAYLIGHT
TZOFFSETFROM:-0700
TZOFFSETTO:-0600
TZNAME:MDT
DTSTART:20260308T090000
END:DAYLIGHT
BEGIN:STANDARD
TZOFFSETFROM:-0600
TZOFFSETTO:-0700
TZNAME:MST
DTSTART:20261101T080000
END:STANDARD
END:VTIMEZONE
BEGIN:VEVENT
DTSTART;TZID=America/Denver:20251011T110000
DTEND;TZID=America/Denver:20251011T170000
DTSTAMP:20260423T024702
CREATED:20250924T163345Z
LAST-MODIFIED:20250924T163345Z
UID:3714-1760180400-1760202000@angelfirechamber.org
SUMMARY:Pumpkin Patch
DESCRIPTION:
URL:https://angelfirechamber.org/event/pumpkin-patch/
LOCATION:Whatville\, 30 Trujillo Lane\, Angel Fire\, NM\, 87710\, United States
CATEGORIES:Family Event,Halloween,Outdoor Venue
ATTACH;FMTTYPE=image/jpeg:https://angelfirechamber.org/wp-content/uploads/2025/09/528037312_30377402355240690_3905738141444417726_n.jpg
END:VEVENT
BEGIN:VEVENT
DTSTART;TZID=America/Denver:20251011T150000
DTEND;TZID=America/Denver:20251011T170000
DTSTAMP:20260423T024702
CREATED:20251006T201009Z
LAST-MODIFIED:20251006T201009Z
UID:3750-1760194800-1760202000@angelfirechamber.org
SUMMARY:Porsche Club Car Show
DESCRIPTION:[vc_row][vc_column][vc_column_text css=””] \nSaturday\, October 11 \n3:00 PM–5:00 PM \n@ Mountain View Event Center \nJoin us for an afternoon of style\, sound\, and speed as the Porsche Club rolls into Angel Fire. \nView more than 40 stunning cars\, meet fellow enthusiasts\, and enjoy live music with the mountains as your backdrop. \nFree and open to the public—don’t miss this unique showcase of performance and design. \n\nPhoto & content courtesy of the Angel Fire Visitor Center\n[/vc_column_text][/vc_column][/vc_row]
URL:https://angelfirechamber.org/event/porsche-club-car-show/
LOCATION:Mountain View Event Center\, 380 Fuego St.\, Angel Fire\, NM\, 87710\, United States
CATEGORIES:Chamber Member,Family Event,Live Music,Outdoor Venue
ATTACH;FMTTYPE=image/jpeg:https://angelfirechamber.org/wp-content/uploads/2025/10/AFPorsche-3.jpg
END:VEVENT
END:VCALENDAR