BEGIN:VCALENDAR
VERSION:2.0
PRODID:-//Angel Fire Chamber of Commerce - ECPv6.15.20//NONSGML v1.0//EN
CALSCALE:GREGORIAN
METHOD:PUBLISH
X-ORIGINAL-URL:https://angelfirechamber.org
X-WR-CALDESC:Events for Angel Fire Chamber of Commerce
REFRESH-INTERVAL;VALUE=DURATION:PT1H
X-Robots-Tag:noindex
X-PUBLISHED-TTL:PT1H
BEGIN:VTIMEZONE
TZID:America/Denver
BEGIN:DAYLIGHT
TZOFFSETFROM:-0700
TZOFFSETTO:-0600
TZNAME:MDT
DTSTART:20240310T090000
END:DAYLIGHT
BEGIN:STANDARD
TZOFFSETFROM:-0600
TZOFFSETTO:-0700
TZNAME:MST
DTSTART:20241103T080000
END:STANDARD
BEGIN:DAYLIGHT
TZOFFSETFROM:-0700
TZOFFSETTO:-0600
TZNAME:MDT
DTSTART:20250309T090000
END:DAYLIGHT
BEGIN:STANDARD
TZOFFSETFROM:-0600
TZOFFSETTO:-0700
TZNAME:MST
DTSTART:20251102T080000
END:STANDARD
BEGIN:DAYLIGHT
TZOFFSETFROM:-0700
TZOFFSETTO:-0600
TZNAME:MDT
DTSTART:20260308T090000
END:DAYLIGHT
BEGIN:STANDARD
TZOFFSETFROM:-0600
TZOFFSETTO:-0700
TZNAME:MST
DTSTART:20261101T080000
END:STANDARD
END:VTIMEZONE
BEGIN:VEVENT
DTSTART;TZID=America/Denver:20251029T120000
DTEND;TZID=America/Denver:20251029T130000
DTSTAMP:20260423T011224
CREATED:20251020T213009Z
LAST-MODIFIED:20251020T213009Z
UID:3783-1761739200-1761742800@angelfirechamber.org
SUMMARY:Rotary Club Guest Speaker MVP Director Tammy Dunn
DESCRIPTION:
URL:https://angelfirechamber.org/event/rotary-club-guest-speaker-mvp-director-tammy-dunn/
LOCATION:UMB Community Room\, 1st National Place\, Angel Fire\, NM\, 87710\, United States
CATEGORIES:Chamber Member,Luncheon,Meeting
ATTACH;FMTTYPE=image/jpeg:https://angelfirechamber.org/wp-content/uploads/2025/10/560465469_10230927441829519_6514009743804319229_n.jpg
ORGANIZER;CN="Rotary Club of Angel Fire":MAILTO:marsarash@gmail.com
END:VEVENT
END:VCALENDAR