BEGIN:VCALENDAR
VERSION:2.0
PRODID:-//Angel Fire Chamber of Commerce - ECPv6.15.20//NONSGML v1.0//EN
CALSCALE:GREGORIAN
METHOD:PUBLISH
X-WR-CALNAME:Angel Fire Chamber of Commerce
X-ORIGINAL-URL:https://angelfirechamber.org
X-WR-CALDESC:Events for Angel Fire Chamber of Commerce
REFRESH-INTERVAL;VALUE=DURATION:PT1H
X-Robots-Tag:noindex
X-PUBLISHED-TTL:PT1H
BEGIN:VTIMEZONE
TZID:America/Denver
BEGIN:DAYLIGHT
TZOFFSETFROM:-0700
TZOFFSETTO:-0600
TZNAME:MDT
DTSTART:20240310T090000
END:DAYLIGHT
BEGIN:STANDARD
TZOFFSETFROM:-0600
TZOFFSETTO:-0700
TZNAME:MST
DTSTART:20241103T080000
END:STANDARD
BEGIN:DAYLIGHT
TZOFFSETFROM:-0700
TZOFFSETTO:-0600
TZNAME:MDT
DTSTART:20250309T090000
END:DAYLIGHT
BEGIN:STANDARD
TZOFFSETFROM:-0600
TZOFFSETTO:-0700
TZNAME:MST
DTSTART:20251102T080000
END:STANDARD
BEGIN:DAYLIGHT
TZOFFSETFROM:-0700
TZOFFSETTO:-0600
TZNAME:MDT
DTSTART:20260308T090000
END:DAYLIGHT
BEGIN:STANDARD
TZOFFSETFROM:-0600
TZOFFSETTO:-0700
TZNAME:MST
DTSTART:20261101T080000
END:STANDARD
END:VTIMEZONE
BEGIN:VEVENT
DTSTART;TZID=America/Denver:20251206T090000
DTEND;TZID=America/Denver:20251206T170000
DTSTAMP:20260422T221537
CREATED:20251021T210258Z
LAST-MODIFIED:20251021T210258Z
UID:3785-1765011600-1765040400@angelfirechamber.org
SUMMARY:Holiday Market
DESCRIPTION:
URL:https://angelfirechamber.org/event/holiday-market/
LOCATION:Angel Fire Community Center\, 15 CS Ranch Rd\, Angel Fire\, NM\, 87710\, United States
CATEGORIES:Arts,Arts & Crafts,Bake Sale,Chamber Member,Christmas Decorations,Family Event,Live Music,Shopping
ATTACH;FMTTYPE=image/jpeg:https://angelfirechamber.org/wp-content/uploads/2025/10/Holiday-Market-Small-Flyer-2025-scaled.jpg
END:VEVENT
BEGIN:VEVENT
DTSTART;TZID=America/Denver:20251212T090000
DTEND;TZID=America/Denver:20251212T160000
DTSTAMP:20260422T221537
CREATED:20251014T211057Z
LAST-MODIFIED:20251014T211057Z
UID:3767-1765530000-1765555200@angelfirechamber.org
SUMMARY:Ski & Snowboard Season Opening Day @ the Angel Fire Resort
DESCRIPTION:[vc_row][vc_column][vc_column_text css=””] \nGrab your gear and your friends\, because it is opening day! \nThe lift starts spinning at 9AM and we can’t wait to welcome you back for a great season. \n\n\n\n[/vc_column_text][/vc_column][/vc_row]
URL:https://angelfirechamber.org/event/ski-snowboard-season-opening-day-the-angel-fire-resort/
LOCATION:Angel Fire Resort Ski Area\, 10 Miller Lane\, An
CATEGORIES:Chamber Member,Family Event,Ski & Snowboard,Winter Events
ATTACH;FMTTYPE=image/webp:https://angelfirechamber.org/wp-content/uploads/2025/10/Opening-Day-1.webp
END:VEVENT
BEGIN:VEVENT
DTSTART;TZID=America/Denver:20251213T170000
DTEND;TZID=America/Denver:20251213T210000
DTSTAMP:20260422T221537
CREATED:20251104T203135Z
LAST-MODIFIED:20251104T203135Z
UID:3809-1765645200-1765659600@angelfirechamber.org
SUMMARY:Christmas Celebration\, Cookie Decorating\, Games & a Movie
DESCRIPTION:
URL:https://angelfirechamber.org/event/christmas-celebration-cookie-decorating-games-a-movie/
LOCATION:Angel Fire Community Center\, 15 CS Ranch Rd\, Angel Fire\, NM\, 87710\, United States
CATEGORIES:Christmas Event,Family Event,Games,Winter Events
ATTACH;FMTTYPE=image/jpeg:https://angelfirechamber.org/wp-content/uploads/2025/11/MVAChristmas.jpg
END:VEVENT
BEGIN:VEVENT
DTSTART;TZID=America/Denver:20251221T090000
DTEND;TZID=America/Denver:20251221T110000
DTSTAMP:20260422T221537
CREATED:20251201T233554Z
LAST-MODIFIED:20251201T233554Z
UID:3854-1766307600-1766314800@angelfirechamber.org
SUMMARY:Breakfast with Santa
DESCRIPTION:
URL:https://angelfirechamber.org/event/breakfast-with-santa/
LOCATION:Angel Fire Community Center\, 15 CS Ranch Rd\, Angel Fire\, NM\, 87710\, United States
CATEGORIES:Chamber Member,Christmas Event,Family Event
ATTACH;FMTTYPE=image/jpeg:https://angelfirechamber.org/wp-content/uploads/2025/12/Breakfast-with-Santa.jpg
END:VEVENT
BEGIN:VEVENT
DTSTART;TZID=America/Denver:20251221T160000
DTEND;TZID=America/Denver:20251221T180000
DTSTAMP:20260422T221537
CREATED:20250623T230427Z
LAST-MODIFIED:20251215T231517Z
UID:3491-1766332800-1766340000@angelfirechamber.org
SUMMARY:Live Music @ Elements with Jeremiah Glauser
DESCRIPTION:Enjoy food and drinks at Elements along with the sounds of live music from Jeremiah Glauser. \nJeremiah\, singer/guitarist\, is an Angel Fire favorite based in Taos\, NM. \nHe is a solo act with a touch of Americana and Country in his style. \nhttps://www.jeremiahglauser.com/
URL:https://angelfirechamber.org/event/live-music-elements-with-jeremiah-glauser-9/
LOCATION:Elements at Angel Fire Resort Country Club\, Elements at Angel Fire Resort Country Club\, 100 Country Club Drive\, NM\, 87710\, United States
CATEGORIES:Live Music
ATTACH;FMTTYPE=image/jpeg:https://angelfirechamber.org/wp-content/uploads/2024/03/Jeremiah-Glauser-2.jpg
END:VEVENT
BEGIN:VEVENT
DTSTART;TZID=America/Denver:20251221T190000
DTEND;TZID=America/Denver:20251221T200000
DTSTAMP:20260422T221537
CREATED:20251218T234611Z
LAST-MODIFIED:20251218T234629Z
UID:3941-1766343600-1766347200@angelfirechamber.org
SUMMARY:Indoor Snowball Fight
DESCRIPTION:[vc_row][vc_column][vc_column_text css=””] \nThe Lodge at Angel Fire Resort \n10 Miller Lane\, Angel Fire \,NM \nJoin us on the second floor of the hotel for a completely safe but super fun \nINDOOR SNOWBALL FIGHT from 7-8 pm. \n[/vc_column_text][/vc_column][/vc_row]
URL:https://angelfirechamber.org/event/3941/
LOCATION:The Lodge @ Angel Fire Resort\, 10 Miller Lane\, Angel Fire\, NM\, 87710\, United States
CATEGORIES:Family Event,Winter Events
ATTACH;FMTTYPE=image/webp:https://angelfirechamber.org/wp-content/uploads/2025/12/Indoor-Snowball-Fight.webp
END:VEVENT
BEGIN:VEVENT
DTSTART;TZID=America/Denver:20251224T180000
DTEND;TZID=America/Denver:20251224T190000
DTSTAMP:20260422T221537
CREATED:20251117T221219Z
LAST-MODIFIED:20251201T235736Z
UID:3832-1766599200-1766602800@angelfirechamber.org
SUMMARY:Christmas Eve Torchlight Parade & Fireworks
DESCRIPTION:[vc_row][vc_column][vc_column_text css=””] \nCelebrate Christmas Eve with a mountain tradition at our Torchlight Parade and Fireworks.  \nGather in the base area for the 6 PM start as our skiers light up the slopes.  \nFireworks follow for a festive holiday finish. \n[/vc_column_text][/vc_column][/vc_row]
URL:https://angelfirechamber.org/event/torchlight-parade-fireworks-2/
LOCATION:Angel Fire Resort Ski Area\, 10 Miller Lane\, An
CATEGORIES:Celebration,Chamber Member,Christmas Event,Family Event,Fireworks,Outdoor Venue,Ski & Snowboard,Winter Events
ATTACH;FMTTYPE=image/webp:https://angelfirechamber.org/wp-content/uploads/2025/11/XMASEVE2025Fireworks.webp
END:VEVENT
BEGIN:VEVENT
DTSTART;TZID=America/Denver:20251225T100000
DTEND;TZID=America/Denver:20251225T120000
DTSTAMP:20260422T221537
CREATED:20251201T235040Z
LAST-MODIFIED:20251201T235040Z
UID:3862-1766656800-1766664000@angelfirechamber.org
SUMMARY:Ski/Snowboard with Santa
DESCRIPTION:[vc_row][vc_column][vc_column_text css=””] \nSki and snowboard with Santa (and maybe even Mrs. Claus\, Elves and the Grinch) on the mountain.\nKeep your eyes open on Christmas Day from 10 AM – 12 PM to catch a glimpse of Santa.\nIf you see them\, be sure to say hi to enjoy some of the treats that will be in his red bag.\nDon’t forget your camera!\n  \nPhoto & Content Courtesy of Angel Fire Resort\n[/vc_column_text][/vc_column][/vc_row]
URL:https://angelfirechamber.org/event/ski-snowboard-with-santa/
LOCATION:Angel Fire Resort Ski Area\, 10 Miller Lane\, An
CATEGORIES:Chamber Member,Christmas Event,Family Event,Outdoor Venue,Ski & Snowboard,Winter Events
ATTACH;FMTTYPE=image/webp:https://angelfirechamber.org/wp-content/uploads/2025/12/skiwithsanta2025.webp
ORGANIZER;CN="Angel Fire Resort Events Department":MAILTO:estaudt@angelfireresort.com
END:VEVENT
BEGIN:VEVENT
DTSTART;TZID=America/Denver:20251225T140000
DTEND;TZID=America/Denver:20251225T170000
DTSTAMP:20260422T221537
CREATED:20251201T234037Z
LAST-MODIFIED:20251201T234037Z
UID:3858-1766671200-1766682000@angelfirechamber.org
SUMMARY:Potluck Christmas Dinner @ Laguna Vista Saloon
DESCRIPTION:
URL:https://angelfirechamber.org/event/potluck-christmas-dinner-laguna-vista-saloon/
LOCATION:Laguna Vista Lodge\, Historic Restaurant and Saloon\, 51 East Therma\, Eagle Nest\, NM\, United States
CATEGORIES:Celebration,Chamber Member,Christmas Event,Pot Luck Meal
ATTACH;FMTTYPE=image/jpeg:https://angelfirechamber.org/wp-content/uploads/2025/12/LagunaVista-Potluck-Christmas-Dinner.jpg
END:VEVENT
BEGIN:VEVENT
DTSTART;TZID=America/Denver:20251228T160000
DTEND;TZID=America/Denver:20251228T180000
DTSTAMP:20260422T221537
CREATED:20251215T231633Z
LAST-MODIFIED:20251215T231633Z
UID:3910-1766937600-1766944800@angelfirechamber.org
SUMMARY:Live Music @ Elements with Jeremiah Glauser
DESCRIPTION:Enjoy food and drinks at Elements along with the sounds of live music from Jeremiah Glauser. \nJeremiah\, singer/guitarist\, is an Angel Fire favorite based in Taos\, NM. \nHe is a solo act with a touch of Americana and Country in his style. \nhttps://www.jeremiahglauser.com/
URL:https://angelfirechamber.org/event/live-music-elements-with-jeremiah-glauser-5/
LOCATION:Elements at Angel Fire Resort Country Club\, Elements at Angel Fire Resort Country Club\, 100 Country Club Drive\, NM\, 87710\, United States
CATEGORIES:Live Music
ATTACH;FMTTYPE=image/jpeg:https://angelfirechamber.org/wp-content/uploads/2024/03/Jeremiah-Glauser-2.jpg
END:VEVENT
BEGIN:VEVENT
DTSTART;TZID=America/Denver:20251231T180000
DTEND;TZID=America/Denver:20251231T190000
DTSTAMP:20260422T221537
CREATED:20251201T235651Z
LAST-MODIFIED:20251201T235651Z
UID:3864-1767204000-1767207600@angelfirechamber.org
SUMMARY:New Year's Eve Torchlight Parade & Fireworks
DESCRIPTION:[vc_row][vc_column][vc_column_text css=””] \nKick off your New Year’s Eve celebration with our Torchlight Parade and Fireworks\nat 6 PM.\nGather in the base area to watch the mountain light up with a glowing ski procession.\nStay for fireworks to welcome the new year in style.\n  \nPhoto & Content Courtesy of Angel Fire Resort\n[/vc_column_text][/vc_column][/vc_row]
URL:https://angelfirechamber.org/event/new-years-eve-torchlight-parade-fireworks/
LOCATION:Angel Fire Resort Ski Area\, 10 Miller Lane\, An
CATEGORIES:Celebration,Chamber Member,Christmas Event,Family Event,Fireworks,Outdoor Venue,Ski & Snowboard,Winter Events
ATTACH;FMTTYPE=image/webp:https://angelfirechamber.org/wp-content/uploads/2025/11/XMASEVE2025Fireworks.webp
END:VEVENT
END:VCALENDAR