BEGIN:VCALENDAR
VERSION:2.0
PRODID:-//Angel Fire Chamber of Commerce - ECPv6.15.20//NONSGML v1.0//EN
CALSCALE:GREGORIAN
METHOD:PUBLISH
X-WR-CALNAME:Angel Fire Chamber of Commerce
X-ORIGINAL-URL:https://angelfirechamber.org
X-WR-CALDESC:Events for Angel Fire Chamber of Commerce
REFRESH-INTERVAL;VALUE=DURATION:PT1H
X-Robots-Tag:noindex
X-PUBLISHED-TTL:PT1H
BEGIN:VTIMEZONE
TZID:America/Denver
BEGIN:DAYLIGHT
TZOFFSETFROM:-0700
TZOFFSETTO:-0600
TZNAME:MDT
DTSTART:20250309T090000
END:DAYLIGHT
BEGIN:STANDARD
TZOFFSETFROM:-0600
TZOFFSETTO:-0700
TZNAME:MST
DTSTART:20251102T080000
END:STANDARD
BEGIN:DAYLIGHT
TZOFFSETFROM:-0700
TZOFFSETTO:-0600
TZNAME:MDT
DTSTART:20260308T090000
END:DAYLIGHT
BEGIN:STANDARD
TZOFFSETFROM:-0600
TZOFFSETTO:-0700
TZNAME:MST
DTSTART:20261101T080000
END:STANDARD
BEGIN:DAYLIGHT
TZOFFSETFROM:-0700
TZOFFSETTO:-0600
TZNAME:MDT
DTSTART:20270314T090000
END:DAYLIGHT
BEGIN:STANDARD
TZOFFSETFROM:-0600
TZOFFSETTO:-0700
TZNAME:MST
DTSTART:20271107T080000
END:STANDARD
END:VTIMEZONE
BEGIN:VEVENT
DTSTART;TZID=America/Denver:20260118T100000
DTEND;TZID=America/Denver:20260118T150000
DTSTAMP:20260422T221535
CREATED:20260113T180057Z
LAST-MODIFIED:20260113T180057Z
UID:3986-1768730400-1768748400@angelfirechamber.org
SUMMARY:Ski & Snowboard Demo Day @ Angel Fire Ski & Snowboard Resort
DESCRIPTION:[vc_row][vc_column][vc_column_text css=””] \nCome demo the latest skis and snowboards from top manufacturers: \nSki: Stokli\, Black Crows\, Volkl\, Elan\, Rossignol \nSB: Salomon\, Nitro\, Capita \nHow it works:  Open to EVERYONE! Guests will need to have their own skis/snowboards\, boots\, and a lift ticket or season pass in order to demo. \nEnjoy 1-2 runs at no cost. \nLike the gear? All skis and snowboards are available for purchase. \n\nPhoto & Content courtesy of Angel Fire Resort\n\n[/vc_column_text][/vc_column][/vc_row]
URL:https://angelfirechamber.org/event/ski-snowboard-demo-day-angel-fire-ski-snowboard-resort/
LOCATION:Angel Fire Resort Ski Area\, 10 Miller Lane\, An
CATEGORIES:Chamber Member,Family Event,Ski & Snowboard
ATTACH;FMTTYPE=image/webp:https://angelfirechamber.org/wp-content/uploads/2026/01/demodaysjan18.webp
ORGANIZER;CN="Winter Sports":MAILTO:cschell@angelfireresort.com
END:VEVENT
BEGIN:VEVENT
DTSTART;TZID=America/Denver:20260118T160000
DTEND;TZID=America/Denver:20260118T180000
DTSTAMP:20260422T221535
CREATED:20251215T231800Z
LAST-MODIFIED:20251215T231800Z
UID:3913-1768752000-1768759200@angelfirechamber.org
SUMMARY:Live Music @ Elements with Jeremiah Glauser
DESCRIPTION:Enjoy food and drinks at Elements along with the sounds of live music from Jeremiah Glauser. \nJeremiah\, singer/guitarist\, is an Angel Fire favorite based in Taos\, NM. \nHe is a solo act with a touch of Americana and Country in his style. \nhttps://www.jeremiahglauser.com/
URL:https://angelfirechamber.org/event/live-music-elements-with-jeremiah-glauser-8/
LOCATION:Elements at Angel Fire Resort Country Club\, Elements at Angel Fire Resort Country Club\, 100 Country Club Drive\, NM\, 87710\, United States
CATEGORIES:Live Music
ATTACH;FMTTYPE=image/jpeg:https://angelfirechamber.org/wp-content/uploads/2024/03/Jeremiah-Glauser-2.jpg
END:VEVENT
END:VCALENDAR