BEGIN:VCALENDAR
VERSION:2.0
PRODID:-//Angel Fire Chamber of Commerce - ECPv6.15.20//NONSGML v1.0//EN
CALSCALE:GREGORIAN
METHOD:PUBLISH
X-WR-CALNAME:Angel Fire Chamber of Commerce
X-ORIGINAL-URL:https://angelfirechamber.org
X-WR-CALDESC:Events for Angel Fire Chamber of Commerce
REFRESH-INTERVAL;VALUE=DURATION:PT1H
X-Robots-Tag:noindex
X-PUBLISHED-TTL:PT1H
BEGIN:VTIMEZONE
TZID:America/Denver
BEGIN:DAYLIGHT
TZOFFSETFROM:-0700
TZOFFSETTO:-0600
TZNAME:MDT
DTSTART:20250309T090000
END:DAYLIGHT
BEGIN:STANDARD
TZOFFSETFROM:-0600
TZOFFSETTO:-0700
TZNAME:MST
DTSTART:20251102T080000
END:STANDARD
BEGIN:DAYLIGHT
TZOFFSETFROM:-0700
TZOFFSETTO:-0600
TZNAME:MDT
DTSTART:20260308T090000
END:DAYLIGHT
BEGIN:STANDARD
TZOFFSETFROM:-0600
TZOFFSETTO:-0700
TZNAME:MST
DTSTART:20261101T080000
END:STANDARD
BEGIN:DAYLIGHT
TZOFFSETFROM:-0700
TZOFFSETTO:-0600
TZNAME:MDT
DTSTART:20270314T090000
END:DAYLIGHT
BEGIN:STANDARD
TZOFFSETFROM:-0600
TZOFFSETTO:-0700
TZNAME:MST
DTSTART:20271107T080000
END:STANDARD
END:VTIMEZONE
BEGIN:VEVENT
DTSTART;TZID=America/Denver:20260123T090000
DTEND;TZID=America/Denver:20260125T160000
DTSTAMP:20260422T221535
CREATED:20251113T211609Z
LAST-MODIFIED:20251113T211609Z
UID:3820-1769158800-1769356800@angelfirechamber.org
SUMMARY:Angel Fire Resort Member Winter Weekend 2026
DESCRIPTION:[vc_row][vc_column][vc_column_text css=””] \n\n\n\nMark your calendars for Member Winter Weekend 2026!\n\n\n\nAs a token of our appreciation\, all Members ski FREE during Member Weekend\, from January 23rd to January 25th\, 2026. \nMembers in good standing\, with a valid Member ID card\, can enjoy free skiing all day Friday\, Saturday\, and Sunday. \nIf your membership doesn’t include lift privileges\, simply present your current Member ID card at the ticket window each day to receive your complimentary lift ticket. \nBe sure to explore the full lineup of events for Member Winter Weekend by checking out the Angel Fire Resort Events Calendar. \n  \nPhoto and content Courtesy of the Angel Fire Resort\n[/vc_column_text][/vc_column][/vc_row]
URL:https://angelfirechamber.org/event/angel-fire-resort-member-winter-weekend-2026/
LOCATION:Angel Fire Resort Ski Area\, 10 Miller Lane\, An
CATEGORIES:Chamber Member,Family Event,Meeting,Ski & Snowboard,Winter Events
ATTACH;FMTTYPE=image/webp:https://angelfirechamber.org/wp-content/uploads/2025/11/AFR_MBRWkend26_STD1-1.webp
ORGANIZER;CN="AAFPO - Association of Angel Fire Property Owners":MAILTO:helloaafpo@gmail.com
END:VEVENT
BEGIN:VEVENT
DTSTART;TZID=America/Denver:20260123T160000
DTEND;TZID=America/Denver:20260123T180000
DTSTAMP:20260422T221535
CREATED:20251215T223952Z
LAST-MODIFIED:20251215T225040Z
UID:3899-1769184000-1769191200@angelfirechamber.org
SUMMARY:Live Music @the Village Haus with Ry Taylor
DESCRIPTION:[vc_row][vc_column][vc_column_text css=””] \n\n\nEnjoy food and drinks with live music every Friday  throughout the winter from Ry Taylor! \nSinger\, songwriter Ry Taylor is a northern New Mexico local favorite!  \n\n\n\nRy has also called Red River\, Angel Fire\, Santa Fe\, and now Taos N.M. his home in the past thirty years and he celebrates the local music scene.  \nRy’s genre has been best described as Acoustic Groove\, Americana\, Latin Jazz\, Alternative Rock\, and then some. \n\n\n\nhttps://www.rytaylormusic.net/ \nContent Credit: Angel Fire Resort\n\n[/vc_column_text][/vc_column][/vc_row]
URL:https://angelfirechamber.org/event/live-music-elements-with-ry-taylor-32/
LOCATION:Village Haus at the Angel Fire Resort\, 10 Miller Lane\, Angel Fire\, NM\, 87710\, United States
CATEGORIES:Live Music
ATTACH;FMTTYPE=image/jpeg:https://angelfirechamber.org/wp-content/uploads/2025/06/Ry-Taylor-13.jpg
END:VEVENT
BEGIN:VEVENT
DTSTART;TZID=America/Denver:20260123T170000
DTEND;TZID=America/Denver:20260123T200000
DTSTAMP:20260422T221535
CREATED:20251117T223610Z
LAST-MODIFIED:20251117T223645Z
UID:3847-1769187600-1769198400@angelfirechamber.org
SUMMARY:Angel Fire Resort Member Weekend Kick Off Concert
DESCRIPTION:[vc_row][vc_column][vc_column_text css=””] \nKick off Member Weekend on Friday\, January 23\, at the Angel Fire RV Resort Clubhouse (27500 US Highway 64 Angel Fire\, NM 87710) \nwith the Staudt Brothers from South Texas! \nEnjoy their signature country and Americana tunes from 6–8 PM (doors open at 5 PM)\, \nsip drinks from the bar\, and hit the dance floor—cowboy boots encouraged! \nParking is available at the RV Resort\, with a complimentary shuttle running from the Green Lot (next to Winter Sports) from 4:45 PM – 8:30 PM. \n  \n\nThis event is FREE for Members in good standing\nPlease bring a valid Member ID for check-in at the door\nEach Member can bring a +1 non-member guest\nThis is a family-friendly event & open to all ages \nMust be 21+ to drink\n\n  \nPhoto & Content Courtesy of the Angel Fire Resort\n[/vc_column_text][/vc_column][/vc_row]
URL:https://angelfirechamber.org/event/angel-fire-resort-member-weekend-kick-off-dance/
LOCATION:Angel Fire Resort RV Park\, 27500 US Highway 64\, Angel Fire\, NM\, 87710\, United States
CATEGORIES:Chamber Member,Dance,Live Music
ATTACH;FMTTYPE=image/webp:https://angelfirechamber.org/wp-content/uploads/2025/11/AFR_MBR-Wkend_KO-Concert26.webp
END:VEVENT
BEGIN:VEVENT
DTSTART;TZID=America/Denver:20260123T200000
DTEND;TZID=America/Denver:20260123T230000
DTSTAMP:20260422T221535
CREATED:20260105T231512Z
LAST-MODIFIED:20260105T231512Z
UID:3956-1769198400-1769209200@angelfirechamber.org
SUMMARY:MadKat Karaoke with Kat Carillo
DESCRIPTION:[vc_row][vc_column][vc_column_text css=””] \nMadKat Karaoke with \nthe talented Kat Carillo \nFriday Nights \n8:00pm – 11:00pm \nThe Pub n grub \n48 N Angel Fire Blvd. \nAngel Fire\, NM \n[/vc_column_text][/vc_column][/vc_row]
URL:https://angelfirechamber.org/event/madkat-karaoke-with-kat-carillo-7/
LOCATION:The Pub n ‘grub\, 52 N. Angel Fire Rd a.k.a Bill Burgess Blvd.\, Angel Fire\, NM\, 87710\, United States
CATEGORIES:Karaoke,Open Mic Night
ATTACH;FMTTYPE=image/jpeg:https://angelfirechamber.org/wp-content/uploads/2025/09/PubKaraoke.jpg
END:VEVENT
END:VCALENDAR