BEGIN:VCALENDAR
VERSION:2.0
PRODID:-//Angel Fire Chamber of Commerce - ECPv6.15.20//NONSGML v1.0//EN
CALSCALE:GREGORIAN
METHOD:PUBLISH
X-WR-CALNAME:Angel Fire Chamber of Commerce
X-ORIGINAL-URL:https://angelfirechamber.org
X-WR-CALDESC:Events for Angel Fire Chamber of Commerce
REFRESH-INTERVAL;VALUE=DURATION:PT1H
X-Robots-Tag:noindex
X-PUBLISHED-TTL:PT1H
BEGIN:VTIMEZONE
TZID:America/Denver
BEGIN:DAYLIGHT
TZOFFSETFROM:-0700
TZOFFSETTO:-0600
TZNAME:MDT
DTSTART:20250309T090000
END:DAYLIGHT
BEGIN:STANDARD
TZOFFSETFROM:-0600
TZOFFSETTO:-0700
TZNAME:MST
DTSTART:20251102T080000
END:STANDARD
BEGIN:DAYLIGHT
TZOFFSETFROM:-0700
TZOFFSETTO:-0600
TZNAME:MDT
DTSTART:20260308T090000
END:DAYLIGHT
BEGIN:STANDARD
TZOFFSETFROM:-0600
TZOFFSETTO:-0700
TZNAME:MST
DTSTART:20261101T080000
END:STANDARD
BEGIN:DAYLIGHT
TZOFFSETFROM:-0700
TZOFFSETTO:-0600
TZNAME:MDT
DTSTART:20270314T090000
END:DAYLIGHT
BEGIN:STANDARD
TZOFFSETFROM:-0600
TZOFFSETTO:-0700
TZNAME:MST
DTSTART:20271107T080000
END:STANDARD
END:VTIMEZONE
BEGIN:VEVENT
DTSTART;TZID=America/Denver:20260123T090000
DTEND;TZID=America/Denver:20260125T160000
DTSTAMP:20260422T221534
CREATED:20251113T211609Z
LAST-MODIFIED:20251113T211609Z
UID:3820-1769158800-1769356800@angelfirechamber.org
SUMMARY:Angel Fire Resort Member Winter Weekend 2026
DESCRIPTION:[vc_row][vc_column][vc_column_text css=””] \n\n\n\nMark your calendars for Member Winter Weekend 2026!\n\n\n\nAs a token of our appreciation\, all Members ski FREE during Member Weekend\, from January 23rd to January 25th\, 2026. \nMembers in good standing\, with a valid Member ID card\, can enjoy free skiing all day Friday\, Saturday\, and Sunday. \nIf your membership doesn’t include lift privileges\, simply present your current Member ID card at the ticket window each day to receive your complimentary lift ticket. \nBe sure to explore the full lineup of events for Member Winter Weekend by checking out the Angel Fire Resort Events Calendar. \n  \nPhoto and content Courtesy of the Angel Fire Resort\n[/vc_column_text][/vc_column][/vc_row]
URL:https://angelfirechamber.org/event/angel-fire-resort-member-winter-weekend-2026/
LOCATION:Angel Fire Resort Ski Area\, 10 Miller Lane\, An
CATEGORIES:Chamber Member,Family Event,Meeting,Ski & Snowboard,Winter Events
ATTACH;FMTTYPE=image/webp:https://angelfirechamber.org/wp-content/uploads/2025/11/AFR_MBRWkend26_STD1-1.webp
ORGANIZER;CN="AAFPO - Association of Angel Fire Property Owners":MAILTO:helloaafpo@gmail.com
END:VEVENT
BEGIN:VEVENT
DTSTART;TZID=America/Denver:20260125T160000
DTEND;TZID=America/Denver:20260125T180000
DTSTAMP:20260422T221534
CREATED:20251215T231834Z
LAST-MODIFIED:20251215T231834Z
UID:3915-1769356800-1769364000@angelfirechamber.org
SUMMARY:Live Music @ Elements with Jeremiah Glauser
DESCRIPTION:Enjoy food and drinks at Elements along with the sounds of live music from Jeremiah Glauser. \nJeremiah\, singer/guitarist\, is an Angel Fire favorite based in Taos\, NM. \nHe is a solo act with a touch of Americana and Country in his style. \nhttps://www.jeremiahglauser.com/
URL:https://angelfirechamber.org/event/live-music-elements-with-jeremiah-glauser-23/
LOCATION:Elements at Angel Fire Resort Country Club\, Elements at Angel Fire Resort Country Club\, 100 Country Club Drive\, NM\, 87710\, United States
CATEGORIES:Live Music
ATTACH;FMTTYPE=image/jpeg:https://angelfirechamber.org/wp-content/uploads/2024/03/Jeremiah-Glauser-2.jpg
END:VEVENT
END:VCALENDAR