BEGIN:VCALENDAR
VERSION:2.0
PRODID:-//Angel Fire Chamber of Commerce - ECPv6.15.20//NONSGML v1.0//EN
CALSCALE:GREGORIAN
METHOD:PUBLISH
X-WR-CALNAME:Angel Fire Chamber of Commerce
X-ORIGINAL-URL:https://angelfirechamber.org
X-WR-CALDESC:Events for Angel Fire Chamber of Commerce
REFRESH-INTERVAL;VALUE=DURATION:PT1H
X-Robots-Tag:noindex
X-PUBLISHED-TTL:PT1H
BEGIN:VTIMEZONE
TZID:America/Denver
BEGIN:DAYLIGHT
TZOFFSETFROM:-0700
TZOFFSETTO:-0600
TZNAME:MDT
DTSTART:20250309T090000
END:DAYLIGHT
BEGIN:STANDARD
TZOFFSETFROM:-0600
TZOFFSETTO:-0700
TZNAME:MST
DTSTART:20251102T080000
END:STANDARD
BEGIN:DAYLIGHT
TZOFFSETFROM:-0700
TZOFFSETTO:-0600
TZNAME:MDT
DTSTART:20260308T090000
END:DAYLIGHT
BEGIN:STANDARD
TZOFFSETFROM:-0600
TZOFFSETTO:-0700
TZNAME:MST
DTSTART:20261101T080000
END:STANDARD
BEGIN:DAYLIGHT
TZOFFSETFROM:-0700
TZOFFSETTO:-0600
TZNAME:MDT
DTSTART:20270314T090000
END:DAYLIGHT
BEGIN:STANDARD
TZOFFSETFROM:-0600
TZOFFSETTO:-0700
TZNAME:MST
DTSTART:20271107T080000
END:STANDARD
END:VTIMEZONE
BEGIN:VEVENT
DTSTART;TZID=America/Denver:20260130T160000
DTEND;TZID=America/Denver:20260130T180000
DTSTAMP:20260422T221535
CREATED:20251215T224049Z
LAST-MODIFIED:20251215T225153Z
UID:3900-1769788800-1769796000@angelfirechamber.org
SUMMARY:Live Music @ Village Haus with Ry Taylor
DESCRIPTION:[vc_row][vc_column][vc_column_text css=””] \n\n\nEnjoy food and drinks with live music every Friday  throughout the winter from Ry Taylor! \nSinger\, songwriter Ry Taylor is a northern New Mexico local favorite!  \n\n\n\nRy has also called Red River\, Angel Fire\, Santa Fe\, and now Taos N.M. his home in the past thirty years and he celebrates the local music scene.  \nRy’s genre has been best described as Acoustic Groove\, Americana\, Latin Jazz\, Alternative Rock\, and then some. \n\n\n\nhttps://www.rytaylormusic.net/ \nContent Credit: Angel Fire Resort\n\n[/vc_column_text][/vc_column][/vc_row]
URL:https://angelfirechamber.org/event/live-music-elements-with-ry-taylor-33/
LOCATION:Village Haus at the Angel Fire Resort\, 10 Miller Lane\, Angel Fire\, NM\, 87710\, United States
CATEGORIES:Live Music
ATTACH;FMTTYPE=image/jpeg:https://angelfirechamber.org/wp-content/uploads/2025/06/Ry-Taylor-13.jpg
END:VEVENT
BEGIN:VEVENT
DTSTART;TZID=America/Denver:20260130T170000
DTEND;TZID=America/Denver:20260130T200000
DTSTAMP:20260422T221535
CREATED:20260126T193800Z
LAST-MODIFIED:20260126T193800Z
UID:4006-1769792400-1769803200@angelfirechamber.org
SUMMARY:Youth Nite @ Village Church
DESCRIPTION:
URL:https://angelfirechamber.org/event/youth-nite-village-church-2/
LOCATION:Village Church\, 12 Crestview Drive\, Angel Fire\, NM\, 87710\, United States
ATTACH;FMTTYPE=image/jpeg:https://angelfirechamber.org/wp-content/uploads/2026/01/IMG_6045.jpg
END:VEVENT
BEGIN:VEVENT
DTSTART;TZID=America/Denver:20260130T200000
DTEND;TZID=America/Denver:20260130T230000
DTSTAMP:20260422T221535
CREATED:20260105T231546Z
LAST-MODIFIED:20260105T231546Z
UID:3957-1769803200-1769814000@angelfirechamber.org
SUMMARY:MadKat Karaoke with Kat Carillo
DESCRIPTION:[vc_row][vc_column][vc_column_text css=””] \nMadKat Karaoke with \nthe talented Kat Carillo \nFriday Nights \n8:00pm – 11:00pm \nThe Pub n grub \n48 N Angel Fire Blvd. \nAngel Fire\, NM \n[/vc_column_text][/vc_column][/vc_row]
URL:https://angelfirechamber.org/event/madkat-karaoke-with-kat-carillo-8/
LOCATION:The Pub n ‘grub\, 52 N. Angel Fire Rd a.k.a Bill Burgess Blvd.\, Angel Fire\, NM\, 87710\, United States
CATEGORIES:Karaoke,Open Mic Night
ATTACH;FMTTYPE=image/jpeg:https://angelfirechamber.org/wp-content/uploads/2025/09/PubKaraoke.jpg
END:VEVENT
END:VCALENDAR