BEGIN:VCALENDAR
VERSION:2.0
PRODID:-//Angel Fire Chamber of Commerce - ECPv6.15.20//NONSGML v1.0//EN
CALSCALE:GREGORIAN
METHOD:PUBLISH
X-WR-CALNAME:Angel Fire Chamber of Commerce
X-ORIGINAL-URL:https://angelfirechamber.org
X-WR-CALDESC:Events for Angel Fire Chamber of Commerce
REFRESH-INTERVAL;VALUE=DURATION:PT1H
X-Robots-Tag:noindex
X-PUBLISHED-TTL:PT1H
BEGIN:VTIMEZONE
TZID:America/Denver
BEGIN:DAYLIGHT
TZOFFSETFROM:-0700
TZOFFSETTO:-0600
TZNAME:MDT
DTSTART:20250309T090000
END:DAYLIGHT
BEGIN:STANDARD
TZOFFSETFROM:-0600
TZOFFSETTO:-0700
TZNAME:MST
DTSTART:20251102T080000
END:STANDARD
BEGIN:DAYLIGHT
TZOFFSETFROM:-0700
TZOFFSETTO:-0600
TZNAME:MDT
DTSTART:20260308T090000
END:DAYLIGHT
BEGIN:STANDARD
TZOFFSETFROM:-0600
TZOFFSETTO:-0700
TZNAME:MST
DTSTART:20261101T080000
END:STANDARD
BEGIN:DAYLIGHT
TZOFFSETFROM:-0700
TZOFFSETTO:-0600
TZNAME:MDT
DTSTART:20270314T090000
END:DAYLIGHT
BEGIN:STANDARD
TZOFFSETFROM:-0600
TZOFFSETTO:-0700
TZNAME:MST
DTSTART:20271107T080000
END:STANDARD
END:VTIMEZONE
BEGIN:VEVENT
DTSTART;TZID=America/Denver:20260131T060000
DTEND;TZID=America/Denver:20260131T140000
DTSTAMP:20260422T221535
CREATED:20260121T195534Z
LAST-MODIFIED:20260121T195534Z
UID:3995-1769839200-1769868000@angelfirechamber.org
SUMMARY:Annual Ice Fishing Tournament- Eagle Nest Lake State Park
DESCRIPTION:
URL:https://angelfirechamber.org/event/annual-ice-fishing-tournament-eagle-nest-lake-state-park/
LOCATION:Eagle Nest Lake State Park\, 42 Marina Way\, Eagle Nest\, NM\, 87718\, United States
CATEGORIES:Chamber Member,Contest,Family Event,Fishing,Outdoor Venue,Winter Events
ATTACH;FMTTYPE=image/jpeg:https://angelfirechamber.org/wp-content/uploads/2026/01/IceFish-2026.jpg
ORGANIZER;CN="Friends of Eagle Nest Lake & Cimarron Canyon State Parks":MAILTO:doinmypart@aol.com
END:VEVENT
BEGIN:VEVENT
DTSTART;TZID=America/Denver:20260131T160000
DTEND;TZID=America/Denver:20260131T180000
DTSTAMP:20260422T221535
CREATED:20251215T232953Z
LAST-MODIFIED:20251215T232953Z
UID:3931-1769875200-1769882400@angelfirechamber.org
SUMMARY:Live Music @ the Village Haus with Jeremiah Glauser
DESCRIPTION:[vc_row][vc_column][vc_column_text css=””] \nEnjoy Irish Coffee or a cold beer along with the sounds of live music from Jeremiah Glauser. \nJeremiah\, singer/guitarist\, is an Angel Fire favorite based in Taos\, NM. \nHe is a solo act with a touch of Americana and Country in his style. \nhttps://www.jeremiahglauser.com/[/vc_column_text][/vc_column][/vc_row]
URL:https://angelfirechamber.org/event/live-music-the-village-haus-with-jeremiah-glauser-7/
LOCATION:Village Haus at the Angel Fire Resort\, 10 Miller Lane\, Angel Fire\, NM\, 87710\, United States
CATEGORIES:Live Music
ATTACH;FMTTYPE=image/jpeg:https://angelfirechamber.org/wp-content/uploads/2025/12/Jeremy-Glauser.jpg
END:VEVENT
BEGIN:VEVENT
DTSTART;TZID=America/Denver:20260131T180000
DTEND;TZID=America/Denver:20260131T220000
DTSTAMP:20260422T221535
CREATED:20260105T232104Z
LAST-MODIFIED:20260105T232104Z
UID:3962-1769882400-1769896800@angelfirechamber.org
SUMMARY:Karaoke Night at Laguna Vista Saloon
DESCRIPTION:
URL:https://angelfirechamber.org/event/karaoke-night-at-laguna-vista-saloon-3/
LOCATION:Laguna Vista Lodge\, Historic Restaurant and Saloon\, 51 East Therma\, Eagle Nest\, NM\, United States
CATEGORIES:Chamber Member,Karaoke
ATTACH;FMTTYPE=image/jpeg:https://angelfirechamber.org/wp-content/uploads/2026/01/Karaoke-LagunaVista.jpg
END:VEVENT
END:VCALENDAR