BEGIN:VCALENDAR
VERSION:2.0
PRODID:-//Angel Fire Chamber of Commerce - ECPv6.15.20//NONSGML v1.0//EN
CALSCALE:GREGORIAN
METHOD:PUBLISH
X-ORIGINAL-URL:https://angelfirechamber.org
X-WR-CALDESC:Events for Angel Fire Chamber of Commerce
REFRESH-INTERVAL;VALUE=DURATION:PT1H
X-Robots-Tag:noindex
X-PUBLISHED-TTL:PT1H
BEGIN:VTIMEZONE
TZID:America/Denver
BEGIN:DAYLIGHT
TZOFFSETFROM:-0700
TZOFFSETTO:-0600
TZNAME:MDT
DTSTART:20250309T090000
END:DAYLIGHT
BEGIN:STANDARD
TZOFFSETFROM:-0600
TZOFFSETTO:-0700
TZNAME:MST
DTSTART:20251102T080000
END:STANDARD
BEGIN:DAYLIGHT
TZOFFSETFROM:-0700
TZOFFSETTO:-0600
TZNAME:MDT
DTSTART:20260308T090000
END:DAYLIGHT
BEGIN:STANDARD
TZOFFSETFROM:-0600
TZOFFSETTO:-0700
TZNAME:MST
DTSTART:20261101T080000
END:STANDARD
BEGIN:DAYLIGHT
TZOFFSETFROM:-0700
TZOFFSETTO:-0600
TZNAME:MDT
DTSTART:20270314T090000
END:DAYLIGHT
BEGIN:STANDARD
TZOFFSETFROM:-0600
TZOFFSETTO:-0700
TZNAME:MST
DTSTART:20271107T080000
END:STANDARD
END:VTIMEZONE
BEGIN:VEVENT
DTSTART;TZID=America/Denver:20260210T173000
DTEND;TZID=America/Denver:20260210T193000
DTSTAMP:20260422T205006
CREATED:20260209T205614Z
LAST-MODIFIED:20260210T203405Z
UID:4030-1770744600-1770751800@angelfirechamber.org
SUMMARY:Tuesday Night Bible Study
DESCRIPTION:[vc_row][vc_column][vc_column_text css=””] \nBible Study\nWe meet every Tuesday night at 5:30 for an in-depth\, comprehensive\, interactive Bible study \nin the Morning Star Restaurant located in  the Elk Horn Lodge. It starts with FREE dinner. \nFrom May to October\, we have Live Gospel Music\, on the first Tuesday of every month\,  starting with FREE dinner. \n(575)377-7019 for more info. \n[/vc_column_text][/vc_column][/vc_row]
URL:https://angelfirechamber.org/event/tuesday-night-bible-study/
LOCATION:Morning Star Restaurant\, 3377 Mountain View Blvd.\, Angel Fire\, NM\, 87710\, United States
CATEGORIES:Bible Study,Live Gospel Music
ATTACH;FMTTYPE=image/jpeg:https://angelfirechamber.org/wp-content/uploads/2026/02/open-bible-with-beautiful-sunset_rmXx3Wyfe0.jpg
END:VEVENT
END:VCALENDAR