BEGIN:VCALENDAR
VERSION:2.0
PRODID:-//Angel Fire Chamber of Commerce - ECPv6.15.20//NONSGML v1.0//EN
CALSCALE:GREGORIAN
METHOD:PUBLISH
X-ORIGINAL-URL:https://angelfirechamber.org
X-WR-CALDESC:Events for Angel Fire Chamber of Commerce
REFRESH-INTERVAL;VALUE=DURATION:PT1H
X-Robots-Tag:noindex
X-PUBLISHED-TTL:PT1H
BEGIN:VTIMEZONE
TZID:America/Denver
BEGIN:DAYLIGHT
TZOFFSETFROM:-0700
TZOFFSETTO:-0600
TZNAME:MDT
DTSTART:20250309T090000
END:DAYLIGHT
BEGIN:STANDARD
TZOFFSETFROM:-0600
TZOFFSETTO:-0700
TZNAME:MST
DTSTART:20251102T080000
END:STANDARD
BEGIN:DAYLIGHT
TZOFFSETFROM:-0700
TZOFFSETTO:-0600
TZNAME:MDT
DTSTART:20260308T090000
END:DAYLIGHT
BEGIN:STANDARD
TZOFFSETFROM:-0600
TZOFFSETTO:-0700
TZNAME:MST
DTSTART:20261101T080000
END:STANDARD
BEGIN:DAYLIGHT
TZOFFSETFROM:-0700
TZOFFSETTO:-0600
TZNAME:MDT
DTSTART:20270314T090000
END:DAYLIGHT
BEGIN:STANDARD
TZOFFSETFROM:-0600
TZOFFSETTO:-0700
TZNAME:MST
DTSTART:20271107T080000
END:STANDARD
END:VTIMEZONE
BEGIN:VEVENT
DTSTART;TZID=America/Denver:20260214T100000
DTEND;TZID=America/Denver:20260215T140000
DTSTAMP:20260422T205128
CREATED:20260209T210805Z
LAST-MODIFIED:20260209T210805Z
UID:4041-1771063200-1771164000@angelfirechamber.org
SUMMARY:NASTAR Races
DESCRIPTION:[vc_row][vc_column][vc_column_text css=””] \nJoin us for NASTAR racing at Angel Fire Resort and test your speed on our Exhibition course.  \nNASTAR is the largest public grassroots ski racing program in the world\, welcoming racers of all ages and ability levels. \nEvent Details \n• $10 per day for unlimited runs \n• Register at the Ticket Office \n• Event waiver required to race \n• Race hours: 10 AM to 2 PM \n• Location: Exhibition run \nWhether you’re chasing a personal best or racing friends and family\, NASTAR offers a fun and competitive way to experience the mountain. \n[/vc_column_text][/vc_column][/vc_row]
URL:https://angelfirechamber.org/event/nastar-races-15/
LOCATION:Angel Fire Resort Ski Area\, 10 Miller Lane\, An
CATEGORIES:Family Event,Winter Events
ATTACH;FMTTYPE=image/jpeg:https://angelfirechamber.org/wp-content/uploads/2026/02/Nastar.jpg
END:VEVENT
BEGIN:VEVENT
DTSTART;TZID=America/Denver:20260214T160000
DTEND;TZID=America/Denver:20260214T180000
DTSTAMP:20260422T205128
CREATED:20251215T233102Z
LAST-MODIFIED:20251215T233102Z
UID:3933-1771084800-1771092000@angelfirechamber.org
SUMMARY:Live Music @ the Village Haus with Jeremiah Glauser
DESCRIPTION:[vc_row][vc_column][vc_column_text css=””] \nEnjoy Irish Coffee or a cold beer along with the sounds of live music from Jeremiah Glauser. \nJeremiah\, singer/guitarist\, is an Angel Fire favorite based in Taos\, NM. \nHe is a solo act with a touch of Americana and Country in his style. \nhttps://www.jeremiahglauser.com/[/vc_column_text][/vc_column][/vc_row]
URL:https://angelfirechamber.org/event/live-music-the-village-haus-with-jeremiah-glauser-9/
LOCATION:Village Haus at the Angel Fire Resort\, 10 Miller Lane\, Angel Fire\, NM\, 87710\, United States
CATEGORIES:Live Music
ATTACH;FMTTYPE=image/jpeg:https://angelfirechamber.org/wp-content/uploads/2025/12/Jeremy-Glauser.jpg
END:VEVENT
BEGIN:VEVENT
DTSTART;TZID=America/Denver:20260214T160000
DTEND;TZID=America/Denver:20260214T190000
DTSTAMP:20260422T205128
CREATED:20260209T213538Z
LAST-MODIFIED:20260209T213538Z
UID:4048-1771084800-1771095600@angelfirechamber.org
SUMMARY:Night Ski
DESCRIPTION:Take in sweeping views\, watch the sunset on Wheeler Peak and experience the ONLY night skiing in New Mexico! Lift #2 is open from 4 PM – 7 PM and services beginner and intermediate runs Dreamcatcher\, Exhibition and High Road. \nPassholders: No Charge\nDay Ticket Add-On: $25\nNight Skiing Only Ticket: $35 \nFor more information\, visit our website: https://www.angelfireresort.com/activities/winter-activities/skiing-and-snowboarding/night-skiing-snowboarding/
URL:https://angelfirechamber.org/event/night-ski-12/
LOCATION:Angel Fire Resort Ski Area\, 10 Miller Lane\, An
CATEGORIES:Winter Events
ATTACH;FMTTYPE=image/webp:https://angelfirechamber.org/wp-content/uploads/2023/12/AFR_W2526_NightSkiing-schedule2.webp
END:VEVENT
END:VCALENDAR