BEGIN:VCALENDAR
VERSION:2.0
PRODID:-//Angel Fire Chamber of Commerce - ECPv6.15.20//NONSGML v1.0//EN
CALSCALE:GREGORIAN
METHOD:PUBLISH
X-ORIGINAL-URL:https://angelfirechamber.org
X-WR-CALDESC:Events for Angel Fire Chamber of Commerce
REFRESH-INTERVAL;VALUE=DURATION:PT1H
X-Robots-Tag:noindex
X-PUBLISHED-TTL:PT1H
BEGIN:VTIMEZONE
TZID:America/Denver
BEGIN:DAYLIGHT
TZOFFSETFROM:-0700
TZOFFSETTO:-0600
TZNAME:MDT
DTSTART:20250309T090000
END:DAYLIGHT
BEGIN:STANDARD
TZOFFSETFROM:-0600
TZOFFSETTO:-0700
TZNAME:MST
DTSTART:20251102T080000
END:STANDARD
BEGIN:DAYLIGHT
TZOFFSETFROM:-0700
TZOFFSETTO:-0600
TZNAME:MDT
DTSTART:20260308T090000
END:DAYLIGHT
BEGIN:STANDARD
TZOFFSETFROM:-0600
TZOFFSETTO:-0700
TZNAME:MST
DTSTART:20261101T080000
END:STANDARD
BEGIN:DAYLIGHT
TZOFFSETFROM:-0700
TZOFFSETTO:-0600
TZNAME:MDT
DTSTART:20270314T090000
END:DAYLIGHT
BEGIN:STANDARD
TZOFFSETFROM:-0600
TZOFFSETTO:-0700
TZNAME:MST
DTSTART:20271107T080000
END:STANDARD
END:VTIMEZONE
BEGIN:VEVENT
DTSTART;TZID=America/Denver:20260219T160000
DTEND;TZID=America/Denver:20260219T180000
DTSTAMP:20260422T205006
CREATED:20251215T221334Z
LAST-MODIFIED:20251215T221338Z
UID:3889-1771516800-1771524000@angelfirechamber.org
SUMMARY:Live Music @ Elements with Ry Taylor
DESCRIPTION:[vc_row][vc_column][vc_column_text css=””] \n\n\nEnjoy food and drinks with live music every Thursday throughout the winter from Ry Taylor! \nSinger\, songwriter Ry Taylor is a northern New Mexico local favorite! He was born and raised on Philmont boy scout ranch in Cimarron\, NM.  \n He has been playing music for family and friends since he was 10 years old\, a gift from his father\, well-known northern New Mexico singer song writer Rod Taylor.  \n\n\n\nRy has also called Red River\, Angel Fire\, Santa Fe\, and now Taos N.M. his home in the past thirty years and he celebrates the local music scene.  \nRy’s genre has been best described as Acoustic Groove\, Americana\, Latin Jazz\, Alternative Rock\, and then some. \n\n\n\nhttps://www.rytaylormusic.net/ \nContent Credit: Angel Fire Resort\n\n[/vc_column_text][/vc_column][/vc_row]
URL:https://angelfirechamber.org/event/live-music-elements-with-ry-taylor-24/
LOCATION:Elements at Angel Fire Resort Country Club\, Elements at Angel Fire Resort Country Club\, 100 Country Club Drive\, NM\, 87710\, United States
CATEGORIES:Live Music
ATTACH;FMTTYPE=image/jpeg:https://angelfirechamber.org/wp-content/uploads/2024/01/Ry.jpg
END:VEVENT
END:VCALENDAR