BEGIN:VCALENDAR
VERSION:2.0
PRODID:-//Angel Fire Chamber of Commerce - ECPv6.15.20//NONSGML v1.0//EN
CALSCALE:GREGORIAN
METHOD:PUBLISH
X-WR-CALNAME:Angel Fire Chamber of Commerce
X-ORIGINAL-URL:https://angelfirechamber.org
X-WR-CALDESC:Events for Angel Fire Chamber of Commerce
REFRESH-INTERVAL;VALUE=DURATION:PT1H
X-Robots-Tag:noindex
X-PUBLISHED-TTL:PT1H
BEGIN:VTIMEZONE
TZID:America/Denver
BEGIN:DAYLIGHT
TZOFFSETFROM:-0700
TZOFFSETTO:-0600
TZNAME:MDT
DTSTART:20250309T090000
END:DAYLIGHT
BEGIN:STANDARD
TZOFFSETFROM:-0600
TZOFFSETTO:-0700
TZNAME:MST
DTSTART:20251102T080000
END:STANDARD
BEGIN:DAYLIGHT
TZOFFSETFROM:-0700
TZOFFSETTO:-0600
TZNAME:MDT
DTSTART:20260308T090000
END:DAYLIGHT
BEGIN:STANDARD
TZOFFSETFROM:-0600
TZOFFSETTO:-0700
TZNAME:MST
DTSTART:20261101T080000
END:STANDARD
BEGIN:DAYLIGHT
TZOFFSETFROM:-0700
TZOFFSETTO:-0600
TZNAME:MDT
DTSTART:20270314T090000
END:DAYLIGHT
BEGIN:STANDARD
TZOFFSETFROM:-0600
TZOFFSETTO:-0700
TZNAME:MST
DTSTART:20271107T080000
END:STANDARD
END:VTIMEZONE
BEGIN:VEVENT
DTSTART;TZID=America/Denver:20260220T160000
DTEND;TZID=America/Denver:20260220T180000
DTSTAMP:20260422T204842
CREATED:20251215T225502Z
LAST-MODIFIED:20251215T225826Z
UID:3902-1771603200-1771610400@angelfirechamber.org
SUMMARY:Live Music @ Village Haus with Ry Taylor
DESCRIPTION:[vc_row][vc_column][vc_column_text css=””] \n\n\nEnjoy food and drinks with live music every Friday  throughout the winter from Ry Taylor! \nSinger\, songwriter Ry Taylor is a northern New Mexico local favorite!  \n\n\n\nRy has also called Red River\, Angel Fire\, Santa Fe\, and now Taos N.M. his home in the past thirty years and he celebrates the local music scene.  \nRy’s genre has been best described as Acoustic Groove\, Americana\, Latin Jazz\, Alternative Rock\, and then some. \n\n\n\nhttps://www.rytaylormusic.net/ \nContent Credit: Angel Fire Resort\n\n[/vc_column_text][/vc_column][/vc_row]
URL:https://angelfirechamber.org/event/live-music-village-haus-with-ry-taylor-2/
LOCATION:Village Haus at the Angel Fire Resort\, 10 Miller Lane\, Angel Fire\, NM\, 87710\, United States
CATEGORIES:Live Music
ATTACH;FMTTYPE=image/jpeg:https://angelfirechamber.org/wp-content/uploads/2025/06/Ry-Taylor-13.jpg
END:VEVENT
BEGIN:VEVENT
DTSTART;TZID=America/Denver:20260220T160000
DTEND;TZID=America/Denver:20260220T190000
DTSTAMP:20260422T204842
CREATED:20260209T213747Z
LAST-MODIFIED:20260209T213747Z
UID:4050-1771603200-1771614000@angelfirechamber.org
SUMMARY:Night Ski
DESCRIPTION:Take in sweeping views\, watch the sunset on Wheeler Peak and experience the ONLY night skiing in New Mexico! Lift #2 is open from 4 PM – 7 PM and services beginner and intermediate runs Dreamcatcher\, Exhibition and High Road. \nPassholders: No Charge\nDay Ticket Add-On: $25\nNight Skiing Only Ticket: $35 \nFor more information\, visit our website: https://www.angelfireresort.com/activities/winter-activities/skiing-and-snowboarding/night-skiing-snowboarding/
URL:https://angelfirechamber.org/event/night-ski-14/
LOCATION:Angel Fire Resort Ski Area\, 10 Miller Lane\, An
CATEGORIES:Winter Events
ATTACH;FMTTYPE=image/webp:https://angelfirechamber.org/wp-content/uploads/2023/12/AFR_W2526_NightSkiing-schedule2.webp
END:VEVENT
END:VCALENDAR