BEGIN:VCALENDAR
VERSION:2.0
PRODID:-//Angel Fire Chamber of Commerce - ECPv6.15.20//NONSGML v1.0//EN
CALSCALE:GREGORIAN
METHOD:PUBLISH
X-WR-CALNAME:Angel Fire Chamber of Commerce
X-ORIGINAL-URL:https://angelfirechamber.org
X-WR-CALDESC:Events for Angel Fire Chamber of Commerce
REFRESH-INTERVAL;VALUE=DURATION:PT1H
X-Robots-Tag:noindex
X-PUBLISHED-TTL:PT1H
BEGIN:VTIMEZONE
TZID:America/Denver
BEGIN:DAYLIGHT
TZOFFSETFROM:-0700
TZOFFSETTO:-0600
TZNAME:MDT
DTSTART:20250309T090000
END:DAYLIGHT
BEGIN:STANDARD
TZOFFSETFROM:-0600
TZOFFSETTO:-0700
TZNAME:MST
DTSTART:20251102T080000
END:STANDARD
BEGIN:DAYLIGHT
TZOFFSETFROM:-0700
TZOFFSETTO:-0600
TZNAME:MDT
DTSTART:20260308T090000
END:DAYLIGHT
BEGIN:STANDARD
TZOFFSETFROM:-0600
TZOFFSETTO:-0700
TZNAME:MST
DTSTART:20261101T080000
END:STANDARD
BEGIN:DAYLIGHT
TZOFFSETFROM:-0700
TZOFFSETTO:-0600
TZNAME:MDT
DTSTART:20270314T090000
END:DAYLIGHT
BEGIN:STANDARD
TZOFFSETFROM:-0600
TZOFFSETTO:-0700
TZNAME:MST
DTSTART:20271107T080000
END:STANDARD
END:VTIMEZONE
BEGIN:VEVENT
DTSTART;TZID=America/Denver:20260222T100000
DTEND;TZID=America/Denver:20260222T140000
DTSTAMP:20260422T221541
CREATED:20260209T212930Z
LAST-MODIFIED:20260209T212930Z
UID:4046-1771754400-1771768800@angelfirechamber.org
SUMMARY:NASTAR Races
DESCRIPTION:[vc_row][vc_column][vc_column_text css=””] \nJoin us for NASTAR racing at Angel Fire Resort and test your speed on our Exhibition course.  \nNASTAR is the largest public grassroots ski racing program in the world\, welcoming racers of all ages and ability levels. \nEvent Details \n• $10 per day for unlimited runs \n• Register at the Ticket Office \n• Event waiver required to race \n• Race hours: 10 AM to 2 PM \n• Location: Exhibition run \nWhether you’re chasing a personal best or racing friends and family\, NASTAR offers a fun and competitive way to experience the mountain. \n[/vc_column_text][/vc_column][/vc_row]
URL:https://angelfirechamber.org/event/nastar-races-16/
LOCATION:Angel Fire Resort Ski Area\, 10 Miller Lane\, An
CATEGORIES:Family Event,Winter Events
ATTACH;FMTTYPE=image/jpeg:https://angelfirechamber.org/wp-content/uploads/2026/02/Nastar.jpg
END:VEVENT
BEGIN:VEVENT
DTSTART;TZID=America/Denver:20260222T120000
DTEND;TZID=America/Denver:20260222T140000
DTSTAMP:20260422T221541
CREATED:20260126T193130Z
LAST-MODIFIED:20260126T193512Z
UID:4005-1771761600-1771768800@angelfirechamber.org
SUMMARY:Ski Ballet Clinic
DESCRIPTION:[vc_row][vc_column][vc_column_text css=””] \nGlide into pure retro magic at Angel Fire Resort with ski ballet. Where style\, rhythm\, and mountain swagger collide on the snow. \nSpin\, leap\, and dance your way down the slopes and bring back the most iconic (and fun) freestyle vibe skiing has ever had. \nFee for Clinics and Event $100 total  \nSun 2/22.   12:00 pm-2:00pm \nAcro/Ski Ballet Exhibition \n-Held on lower Exhibition Slope\, skier’s right. \n-Meet at the start area 12:00 pm \n-Any entrant attempting 3 basic skills can choose from the prize table. \n-Grand Prize to the entrant performing the most skills. \n-Kat Carrillo will provide prizes\, a prize table set up\, and music at Cocoa Shack \nContact Kat Carillo with questions @ icekat88@gmail.com \n  \ncontent and Photo Courtesy of the Angel Fire Resort\n[/vc_column_text][/vc_column][/vc_row]
URL:https://angelfirechamber.org/event/ski-ballet-clinic-2/
LOCATION:Angel Fire Resort Ski Area\, 10 Miller Lane\, An
ATTACH;FMTTYPE=image/png:https://angelfirechamber.org/wp-content/uploads/2026/01/Ski-Ballet-The-Angel-Fire-Resort-Way.png
END:VEVENT
BEGIN:VEVENT
DTSTART;TZID=America/Denver:20260222T160000
DTEND;TZID=America/Denver:20260222T180000
DTSTAMP:20260422T221541
CREATED:20251215T232111Z
LAST-MODIFIED:20251215T232111Z
UID:3920-1771776000-1771783200@angelfirechamber.org
SUMMARY:Live Music @ Elements with Jeremiah Glauser
DESCRIPTION:Enjoy food and drinks at Elements along with the sounds of live music from Jeremiah Glauser. \nJeremiah\, singer/guitarist\, is an Angel Fire favorite based in Taos\, NM. \nHe is a solo act with a touch of Americana and Country in his style. \nhttps://www.jeremiahglauser.com/
URL:https://angelfirechamber.org/event/live-music-elements-with-jeremiah-glauser-28/
LOCATION:Elements at Angel Fire Resort Country Club\, Elements at Angel Fire Resort Country Club\, 100 Country Club Drive\, NM\, 87710\, United States
CATEGORIES:Live Music
ATTACH;FMTTYPE=image/jpeg:https://angelfirechamber.org/wp-content/uploads/2024/03/Jeremiah-Glauser-2.jpg
END:VEVENT
END:VCALENDAR