BEGIN:VCALENDAR
VERSION:2.0
PRODID:-//Angel Fire Chamber of Commerce - ECPv6.15.20//NONSGML v1.0//EN
CALSCALE:GREGORIAN
METHOD:PUBLISH
X-ORIGINAL-URL:https://angelfirechamber.org
X-WR-CALDESC:Events for Angel Fire Chamber of Commerce
REFRESH-INTERVAL;VALUE=DURATION:PT1H
X-Robots-Tag:noindex
X-PUBLISHED-TTL:PT1H
BEGIN:VTIMEZONE
TZID:America/Denver
BEGIN:DAYLIGHT
TZOFFSETFROM:-0700
TZOFFSETTO:-0600
TZNAME:MDT
DTSTART:20250309T090000
END:DAYLIGHT
BEGIN:STANDARD
TZOFFSETFROM:-0600
TZOFFSETTO:-0700
TZNAME:MST
DTSTART:20251102T080000
END:STANDARD
BEGIN:DAYLIGHT
TZOFFSETFROM:-0700
TZOFFSETTO:-0600
TZNAME:MDT
DTSTART:20260308T090000
END:DAYLIGHT
BEGIN:STANDARD
TZOFFSETFROM:-0600
TZOFFSETTO:-0700
TZNAME:MST
DTSTART:20261101T080000
END:STANDARD
BEGIN:DAYLIGHT
TZOFFSETFROM:-0700
TZOFFSETTO:-0600
TZNAME:MDT
DTSTART:20270314T090000
END:DAYLIGHT
BEGIN:STANDARD
TZOFFSETFROM:-0600
TZOFFSETTO:-0700
TZNAME:MST
DTSTART:20271107T080000
END:STANDARD
END:VTIMEZONE
BEGIN:VEVENT
DTSTART;VALUE=DATE:20260227
DTEND;VALUE=DATE:20260301
DTSTAMP:20260422T205007
CREATED:20251113T212252Z
LAST-MODIFIED:20260105T222232Z
UID:3823-1772150400-1772323199@angelfirechamber.org
SUMMARY:Shovel Races
DESCRIPTION:[vc_row][vc_column][vc_column_text css=””]Save the Date – We’re bringing back the Shovel Races! Race down the slopes on a snow shovel in this exhilarating competition that’s perfect for speedshovel enthusiasts of all ages. Here’s everything you need to know so far—more information to be determined. \n  \nRules: \n\nAll shovels must be “grain” shovels. Competitors may bring their own shovels\, or Angel Fire Resort will provide shovels from sponsors Alpine Lumber and Bluebird Mountain Sports.\nCompetitors must wear a helmet and eye protection for all practice and competition runs.\nNo physical alterations are allowed to the running surface of the grain scoops (shovels) other than the application of wax or a similar type substance to the underside or bottom of the scoop. You may adhere tape or other similar materials to the handle of the shovel to make it easier to grip. You may paint the seat of the grain scoop\, but no traction-aiding substance is allowed.\nBarging the start gate constitutes a false start. First false start in a heat is a warning; second false start in a heat is a disqualification.\nIf a racer is not sitting on their shovel upon crossing the finish line\, that racer will receive a DNF (did not finish) for that run. Should a racer come off their shovel during a “Time Trial” or Little Scoops run\, they will receive a DNF for that run and will be required to immediately move laterally off the course. Should a racer come off of their shovel during a “Heat” run\, the racer can get back on their shovel and legally cross over the finish line to finish the heat.\nNo protests\nDuring Finals\, that run counts; we will not accept the qualifying time if that run is faster.\nYou must make a concerted effort to self-arrest after crossing the finish line\, or you will get a DQ\n\n  \nPhoto and content courtesy of the Angel Fire Resort\n[/vc_column_text][/vc_column][/vc_row]
URL:https://angelfirechamber.org/event/3823/
LOCATION:Angel Fire Resort Ski Area\, 10 Miller Lane\, An
CATEGORIES:Chamber Member,Family Event,Shovel Races,Winter Events
ATTACH;FMTTYPE=image/webp:https://angelfirechamber.org/wp-content/uploads/2025/11/shovelrace2026.webp
ORGANIZER;CN="Angel Fire Resort Events Department":MAILTO:estaudt@angelfireresort.com
END:VEVENT
BEGIN:VEVENT
DTSTART;TZID=America/Denver:20260228T160000
DTEND;TZID=America/Denver:20260228T180000
DTSTAMP:20260422T205007
CREATED:20251215T233204Z
LAST-MODIFIED:20251215T233204Z
UID:3935-1772294400-1772301600@angelfirechamber.org
SUMMARY:Live Music @ the Village Haus with Jeremiah Glauser
DESCRIPTION:[vc_row][vc_column][vc_column_text css=””] \nEnjoy Irish Coffee or a cold beer along with the sounds of live music from Jeremiah Glauser. \nJeremiah\, singer/guitarist\, is an Angel Fire favorite based in Taos\, NM. \nHe is a solo act with a touch of Americana and Country in his style. \nhttps://www.jeremiahglauser.com/[/vc_column_text][/vc_column][/vc_row]
URL:https://angelfirechamber.org/event/live-music-the-village-haus-with-jeremiah-glauser-11/
LOCATION:Village Haus at the Angel Fire Resort\, 10 Miller Lane\, Angel Fire\, NM\, 87710\, United States
CATEGORIES:Live Music
ATTACH;FMTTYPE=image/jpeg:https://angelfirechamber.org/wp-content/uploads/2025/12/Jeremy-Glauser.jpg
END:VEVENT
BEGIN:VEVENT
DTSTART;TZID=America/Denver:20260228T160000
DTEND;TZID=America/Denver:20260228T190000
DTSTAMP:20260422T205007
CREATED:20260209T213952Z
LAST-MODIFIED:20260209T213952Z
UID:4053-1772294400-1772305200@angelfirechamber.org
SUMMARY:Night Ski
DESCRIPTION:Take in sweeping views\, watch the sunset on Wheeler Peak and experience the ONLY night skiing in New Mexico! Lift #2 is open from 4 PM – 7 PM and services beginner and intermediate runs Dreamcatcher\, Exhibition and High Road. \nPassholders: No Charge\nDay Ticket Add-On: $25\nNight Skiing Only Ticket: $35 \nFor more information\, visit our website: https://www.angelfireresort.com/activities/winter-activities/skiing-and-snowboarding/night-skiing-snowboarding/
URL:https://angelfirechamber.org/event/night-ski-17/
LOCATION:Angel Fire Resort Ski Area\, 10 Miller Lane\, An
CATEGORIES:Winter Events
ATTACH;FMTTYPE=image/webp:https://angelfirechamber.org/wp-content/uploads/2023/12/AFR_W2526_NightSkiing-schedule2.webp
END:VEVENT
BEGIN:VEVENT
DTSTART;TZID=America/Denver:20260228T180000
DTEND;TZID=America/Denver:20260228T220000
DTSTAMP:20260422T205007
CREATED:20260122T173528Z
LAST-MODIFIED:20260209T212539Z
UID:3998-1772301600-1772316000@angelfirechamber.org
SUMMARY:Shuter Library's Winter Bash
DESCRIPTION:[vc_row][vc_column][vc_column_text css=””] \n\n\n\nFeb 28\, 2026\, 6:00 PM – 10:00 PM\n\n\n\n\n\n\n\nMountain Dawn Lodge\, 28209 US-64\, Eagle Nest\, NM 87718\, USA \nAll proceeds benefit Shuter Library of Angel Fire. \n\n\n\n\n\n\nTickets $75.00 \nBuy Tickets \n\n\n\n\n\n\n[/vc_column_text][/vc_column][/vc_row]
URL:https://angelfirechamber.org/event/shuter-librarys-winter-bash/
LOCATION:Mountain Dawn Hide Away\, 28209 US Hwy 64\, Eagle Nest\, NM\, 87718\, United States
CATEGORIES:Cash Bar,Celebration,Charity Fund Raiser,Dance,Library
ATTACH;FMTTYPE=image/jpeg:https://angelfirechamber.org/wp-content/uploads/2026/01/Library.jpg
END:VEVENT
END:VCALENDAR