BEGIN:VCALENDAR
VERSION:2.0
PRODID:-//Angel Fire Chamber of Commerce - ECPv6.15.20//NONSGML v1.0//EN
CALSCALE:GREGORIAN
METHOD:PUBLISH
X-WR-CALNAME:Angel Fire Chamber of Commerce
X-ORIGINAL-URL:https://angelfirechamber.org
X-WR-CALDESC:Events for Angel Fire Chamber of Commerce
REFRESH-INTERVAL;VALUE=DURATION:PT1H
X-Robots-Tag:noindex
X-PUBLISHED-TTL:PT1H
BEGIN:VTIMEZONE
TZID:America/Denver
BEGIN:DAYLIGHT
TZOFFSETFROM:-0700
TZOFFSETTO:-0600
TZNAME:MDT
DTSTART:20250309T090000
END:DAYLIGHT
BEGIN:STANDARD
TZOFFSETFROM:-0600
TZOFFSETTO:-0700
TZNAME:MST
DTSTART:20251102T080000
END:STANDARD
BEGIN:DAYLIGHT
TZOFFSETFROM:-0700
TZOFFSETTO:-0600
TZNAME:MDT
DTSTART:20260308T090000
END:DAYLIGHT
BEGIN:STANDARD
TZOFFSETFROM:-0600
TZOFFSETTO:-0700
TZNAME:MST
DTSTART:20261101T080000
END:STANDARD
BEGIN:DAYLIGHT
TZOFFSETFROM:-0700
TZOFFSETTO:-0600
TZNAME:MDT
DTSTART:20270314T090000
END:DAYLIGHT
BEGIN:STANDARD
TZOFFSETFROM:-0600
TZOFFSETTO:-0700
TZNAME:MST
DTSTART:20271107T080000
END:STANDARD
END:VTIMEZONE
BEGIN:VEVENT
DTSTART;TZID=America/Denver:20260308T100000
DTEND;TZID=America/Denver:20260308T140000
DTSTAMP:20260422T190812
CREATED:20260209T223706Z
LAST-MODIFIED:20260209T223706Z
UID:4066-1772964000-1772978400@angelfirechamber.org
SUMMARY:NASTAR Races
DESCRIPTION:[vc_row][vc_column][vc_column_text css=””] \nJoin us for NASTAR racing at Angel Fire Resort and test your speed on our Exhibition course.  \nNASTAR is the largest public grassroots ski racing program in the world\, welcoming racers of all ages and ability levels. \nEvent Details \n• $10 per day for unlimited runs \n• Register at the Ticket Office \n• Event waiver required to race \n• Race hours: 10 AM to 2 PM \n• Location: Exhibition run \nWhether you’re chasing a personal best or racing friends and family\, NASTAR offers a fun and competitive way to experience the mountain. \n[/vc_column_text][/vc_column][/vc_row]
URL:https://angelfirechamber.org/event/nastar-races/
LOCATION:Angel Fire Resort Ski Area\, 10 Miller Lane\, An
CATEGORIES:Family Event,Winter Events
ATTACH;FMTTYPE=image/jpeg:https://angelfirechamber.org/wp-content/uploads/2026/02/Nastar.jpg
END:VEVENT
BEGIN:VEVENT
DTSTART;TZID=America/Denver:20260308T160000
DTEND;TZID=America/Denver:20260308T180000
DTSTAMP:20260422T190812
CREATED:20251215T232210Z
LAST-MODIFIED:20251215T232210Z
UID:3922-1772985600-1772992800@angelfirechamber.org
SUMMARY:Live Music @ Elements with Jeremiah Glauser
DESCRIPTION:Enjoy food and drinks at Elements along with the sounds of live music from Jeremiah Glauser. \nJeremiah\, singer/guitarist\, is an Angel Fire favorite based in Taos\, NM. \nHe is a solo act with a touch of Americana and Country in his style. \nhttps://www.jeremiahglauser.com/
URL:https://angelfirechamber.org/event/live-music-elements-with-jeremiah-glauser-30/
LOCATION:Elements at Angel Fire Resort Country Club\, Elements at Angel Fire Resort Country Club\, 100 Country Club Drive\, NM\, 87710\, United States
CATEGORIES:Live Music
ATTACH;FMTTYPE=image/jpeg:https://angelfirechamber.org/wp-content/uploads/2024/03/Jeremiah-Glauser-2.jpg
END:VEVENT
END:VCALENDAR