BEGIN:VCALENDAR
VERSION:2.0
PRODID:-//Angel Fire Chamber of Commerce - ECPv6.15.20//NONSGML v1.0//EN
CALSCALE:GREGORIAN
METHOD:PUBLISH
X-WR-CALNAME:Angel Fire Chamber of Commerce
X-ORIGINAL-URL:https://angelfirechamber.org
X-WR-CALDESC:Events for Angel Fire Chamber of Commerce
REFRESH-INTERVAL;VALUE=DURATION:PT1H
X-Robots-Tag:noindex
X-PUBLISHED-TTL:PT1H
BEGIN:VTIMEZONE
TZID:America/Denver
BEGIN:DAYLIGHT
TZOFFSETFROM:-0700
TZOFFSETTO:-0600
TZNAME:MDT
DTSTART:20250309T090000
END:DAYLIGHT
BEGIN:STANDARD
TZOFFSETFROM:-0600
TZOFFSETTO:-0700
TZNAME:MST
DTSTART:20251102T080000
END:STANDARD
BEGIN:DAYLIGHT
TZOFFSETFROM:-0700
TZOFFSETTO:-0600
TZNAME:MDT
DTSTART:20260308T090000
END:DAYLIGHT
BEGIN:STANDARD
TZOFFSETFROM:-0600
TZOFFSETTO:-0700
TZNAME:MST
DTSTART:20261101T080000
END:STANDARD
BEGIN:DAYLIGHT
TZOFFSETFROM:-0700
TZOFFSETTO:-0600
TZNAME:MDT
DTSTART:20270314T090000
END:DAYLIGHT
BEGIN:STANDARD
TZOFFSETFROM:-0600
TZOFFSETTO:-0700
TZNAME:MST
DTSTART:20271107T080000
END:STANDARD
END:VTIMEZONE
BEGIN:VEVENT
DTSTART;TZID=America/Denver:20260318T160000
DTEND;TZID=America/Denver:20260318T190000
DTSTAMP:20260422T192851
CREATED:20260209T214511Z
LAST-MODIFIED:20260209T214511Z
UID:4061-1773849600-1773860400@angelfirechamber.org
SUMMARY:Night Ski
DESCRIPTION:Take in sweeping views\, watch the sunset on Wheeler Peak and experience the ONLY night skiing in New Mexico! Lift #2 is open from 4 PM – 7 PM and services beginner and intermediate runs Dreamcatcher\, Exhibition and High Road. \nPassholders: No Charge\nDay Ticket Add-On: $25\nNight Skiing Only Ticket: $35 \nFor more information\, visit our website: https://www.angelfireresort.com/activities/winter-activities/skiing-and-snowboarding/night-skiing-snowboarding/
URL:https://angelfirechamber.org/event/night-ski-25/
LOCATION:Angel Fire Resort Ski Area\, 10 Miller Lane\, An
CATEGORIES:Winter Events
ATTACH;FMTTYPE=image/webp:https://angelfirechamber.org/wp-content/uploads/2023/12/AFR_W2526_NightSkiing-schedule2.webp
END:VEVENT
END:VCALENDAR