BEGIN:VCALENDAR
VERSION:2.0
PRODID:-//Angel Fire Chamber of Commerce - ECPv6.15.20//NONSGML v1.0//EN
CALSCALE:GREGORIAN
METHOD:PUBLISH
X-WR-CALNAME:Angel Fire Chamber of Commerce
X-ORIGINAL-URL:https://angelfirechamber.org
X-WR-CALDESC:Events for Angel Fire Chamber of Commerce
REFRESH-INTERVAL;VALUE=DURATION:PT1H
X-Robots-Tag:noindex
X-PUBLISHED-TTL:PT1H
BEGIN:VTIMEZONE
TZID:America/Denver
BEGIN:DAYLIGHT
TZOFFSETFROM:-0700
TZOFFSETTO:-0600
TZNAME:MDT
DTSTART:20250309T090000
END:DAYLIGHT
BEGIN:STANDARD
TZOFFSETFROM:-0600
TZOFFSETTO:-0700
TZNAME:MST
DTSTART:20251102T080000
END:STANDARD
BEGIN:DAYLIGHT
TZOFFSETFROM:-0700
TZOFFSETTO:-0600
TZNAME:MDT
DTSTART:20260308T090000
END:DAYLIGHT
BEGIN:STANDARD
TZOFFSETFROM:-0600
TZOFFSETTO:-0700
TZNAME:MST
DTSTART:20261101T080000
END:STANDARD
BEGIN:DAYLIGHT
TZOFFSETFROM:-0700
TZOFFSETTO:-0600
TZNAME:MDT
DTSTART:20270314T090000
END:DAYLIGHT
BEGIN:STANDARD
TZOFFSETFROM:-0600
TZOFFSETTO:-0700
TZNAME:MST
DTSTART:20271107T080000
END:STANDARD
END:VTIMEZONE
BEGIN:VEVENT
DTSTART;TZID=America/Denver:20260324T173000
DTEND;TZID=America/Denver:20260324T180000
DTSTAMP:20260422T190747
CREATED:20260129T205525Z
LAST-MODIFIED:20260129T205525Z
UID:4027-1774373400-1774375200@angelfirechamber.org
SUMMARY:Art Up Northern New Mexico Membership Meeting
DESCRIPTION:[vc_row][vc_column][vc_column_text css=””] \nArt Up Northern New Mexico  \n Membership Meeting \nMarch 24\, 2026 \n5:30 pm – 6:00pm \n3407 Mountain View Blvd. \nCentro Plaza \nAngel Fire\, NM \nRe-organizational items for 2026. \nElection New Executive Board Members \nWant to become a member of this vibrant art organization? Please join us! \n[/vc_column_text][/vc_column][/vc_row]
URL:https://angelfirechamber.org/event/art-up-northern-new-mexico-membership-meeting/
LOCATION:Angel Fire Chamber of Commerce\, 3407 Mountain View Blvd. /Hwy 434\, ANGEL FIRE\, NM\, NM\, 87710\, United States
CATEGORIES:Arts,Chamber Member,Meeting,Pot Luck Meal
ATTACH;FMTTYPE=image/jpeg:https://angelfirechamber.org/wp-content/uploads/2023/02/Art-Up-Northern-New-Mexicoscaled-1.jpg
END:VEVENT
BEGIN:VEVENT
DTSTART;TZID=America/Denver:20260324T173000
DTEND;TZID=America/Denver:20260324T193000
DTSTAMP:20260422T190747
CREATED:20260209T210242Z
LAST-MODIFIED:20260209T210242Z
UID:4038-1774373400-1774380600@angelfirechamber.org
SUMMARY:Tuesday Night Bible Study
DESCRIPTION:[vc_row][vc_column][vc_column_text css=””] \nBible Study\nWe meet every Tuesday night at 5:30 for an in-depth\, comprehensive\, interactive Bible study \nin the Morning Star Restaurant located in the lobby of the Elk Horn Lodge. \nOn the first Tuesday of every month we start with FREE dinner. \n(575)377-7019 for more info. \nFrom May to October\, Morning Star Restaurant hosts LIVE GOSPEL MUSIC\n\n[/vc_column_text][/vc_column][/vc_row]
URL:https://angelfirechamber.org/event/tuesday-night-bible-study-7/
LOCATION:Morning Star Restaurant\, 3377 Mountain View Blvd.\, Angel Fire\, NM\, 87710\, United States
CATEGORIES:Bible Study,Live Gospel Music
ATTACH;FMTTYPE=image/jpeg:https://angelfirechamber.org/wp-content/uploads/2026/02/open-bible-with-beautiful-sunset_rmXx3Wyfe0.jpg
END:VEVENT
END:VCALENDAR