BEGIN:VCALENDAR
VERSION:2.0
PRODID:-//Angel Fire Chamber of Commerce - ECPv6.15.20//NONSGML v1.0//EN
CALSCALE:GREGORIAN
METHOD:PUBLISH
X-WR-CALNAME:Angel Fire Chamber of Commerce
X-ORIGINAL-URL:https://angelfirechamber.org
X-WR-CALDESC:Events for Angel Fire Chamber of Commerce
REFRESH-INTERVAL;VALUE=DURATION:PT1H
X-Robots-Tag:noindex
X-PUBLISHED-TTL:PT1H
BEGIN:VTIMEZONE
TZID:America/Denver
BEGIN:DAYLIGHT
TZOFFSETFROM:-0700
TZOFFSETTO:-0600
TZNAME:MDT
DTSTART:20250309T090000
END:DAYLIGHT
BEGIN:STANDARD
TZOFFSETFROM:-0600
TZOFFSETTO:-0700
TZNAME:MST
DTSTART:20251102T080000
END:STANDARD
BEGIN:DAYLIGHT
TZOFFSETFROM:-0700
TZOFFSETTO:-0600
TZNAME:MDT
DTSTART:20260308T090000
END:DAYLIGHT
BEGIN:STANDARD
TZOFFSETFROM:-0600
TZOFFSETTO:-0700
TZNAME:MST
DTSTART:20261101T080000
END:STANDARD
BEGIN:DAYLIGHT
TZOFFSETFROM:-0700
TZOFFSETTO:-0600
TZNAME:MDT
DTSTART:20270314T090000
END:DAYLIGHT
BEGIN:STANDARD
TZOFFSETFROM:-0600
TZOFFSETTO:-0700
TZNAME:MST
DTSTART:20271107T080000
END:STANDARD
END:VTIMEZONE
BEGIN:VEVENT
DTSTART;TZID=America/Denver:20260404T120000
DTEND;TZID=America/Denver:20260404T160000
DTSTAMP:20260422T174703
CREATED:20260402T160245Z
LAST-MODIFIED:20260402T160956Z
UID:4133-1775304000-1775318400@angelfirechamber.org
SUMMARY:Easter Egg Hunt  and Community PotLuck
DESCRIPTION:
URL:https://angelfirechamber.org/event/easter-egg-hunt/
LOCATION:Eagle Nest Village Hall\, 151 Willow Creek drive\, Eagle Nest\, NM\, 87718\, United States
CATEGORIES:Chamber Member,Easter,Family Event,Live Gospel Music,Pot Luck Meal
ATTACH;FMTTYPE=image/jpeg:https://angelfirechamber.org/wp-content/uploads/2026/04/EasterEggHuntEN.jpg
END:VEVENT
BEGIN:VEVENT
DTSTART;TZID=America/Denver:20260404T140000
DTEND;TZID=America/Denver:20260404T160000
DTSTAMP:20260422T174703
CREATED:20260323T190624Z
LAST-MODIFIED:20260323T190624Z
UID:4117-1775311200-1775318400@angelfirechamber.org
SUMMARY:Moreno Valley Prep Thespian Troupe's Presents “Alice by Heart”
DESCRIPTION:[vc_row][vc_column][vc_column_text css=””] \n\nMoreno Valley Prep Thespian Troupe’s Production of Jessie Nelson and Steven Sater’s “Alice by Heart”\n\n\nThis touching musical is inspired by Alice’s Adventures in Wonderland\,\nset during the London Blitz\, where a girl named Alice uses the book to cope\nwith her friend Alfred’s illness and impending quarantine.\nThe show explores themes of first love\, loss\, and imagination\, featuring a pop-rock score\nand characters from Wonderland appearing as Alice and Alfred navigate their harsh reality and their storybook world.\n\n\nDon’t miss this darkly whimsical performance happening Easter weekend\n\n[/vc_column_text][/vc_column][/vc_row]
URL:https://angelfirechamber.org/event/moreno-valley-prep-thespian-troupes-presents-alice-by-heart-2/
LOCATION:Moreno Valley Preparatory\, 56 Camino Grande\, Angel Fire\, NM\, 87710\, United States
CATEGORIES:Chamber Member,Family Event,Free/ Donations Accepted,Performing Arts,Theater
ATTACH;FMTTYPE=image/jpeg:https://angelfirechamber.org/wp-content/uploads/2026/03/655698232_18045166337761048_7753639605855059561_n.jpg
END:VEVENT
BEGIN:VEVENT
DTSTART;TZID=America/Denver:20260404T190000
DTEND;TZID=America/Denver:20260404T210000
DTSTAMP:20260422T174703
CREATED:20260323T190708Z
LAST-MODIFIED:20260323T190708Z
UID:4118-1775329200-1775336400@angelfirechamber.org
SUMMARY:Moreno Valley Prep Thespian Troupe's Presents “Alice by Heart”
DESCRIPTION:[vc_row][vc_column][vc_column_text css=””] \n\nMoreno Valley Prep Thespian Troupe’s Production of Jessie Nelson and Steven Sater’s “Alice by Heart”\n\n\nThis touching musical is inspired by Alice’s Adventures in Wonderland\,\nset during the London Blitz\, where a girl named Alice uses the book to cope\nwith her friend Alfred’s illness and impending quarantine.\nThe show explores themes of first love\, loss\, and imagination\, featuring a pop-rock score\nand characters from Wonderland appearing as Alice and Alfred navigate their harsh reality and their storybook world.\n\n\nDon’t miss this darkly whimsical performance happening Easter weekend\n\n[/vc_column_text][/vc_column][/vc_row]
URL:https://angelfirechamber.org/event/moreno-valley-prep-thespian-troupes-presents-alice-by-heart-3/
LOCATION:Moreno Valley Preparatory\, 56 Camino Grande\, Angel Fire\, NM\, 87710\, United States
CATEGORIES:Chamber Member,Family Event,Free/ Donations Accepted,Performing Arts,Theater
ATTACH;FMTTYPE=image/jpeg:https://angelfirechamber.org/wp-content/uploads/2026/03/655698232_18045166337761048_7753639605855059561_n.jpg
END:VEVENT
END:VCALENDAR