BEGIN:VCALENDAR
VERSION:2.0
PRODID:-//Angel Fire Chamber of Commerce - ECPv6.15.20//NONSGML v1.0//EN
CALSCALE:GREGORIAN
METHOD:PUBLISH
X-ORIGINAL-URL:https://angelfirechamber.org
X-WR-CALDESC:Events for Angel Fire Chamber of Commerce
REFRESH-INTERVAL;VALUE=DURATION:PT1H
X-Robots-Tag:noindex
X-PUBLISHED-TTL:PT1H
BEGIN:VTIMEZONE
TZID:America/Denver
BEGIN:DAYLIGHT
TZOFFSETFROM:-0700
TZOFFSETTO:-0600
TZNAME:MDT
DTSTART:20250309T090000
END:DAYLIGHT
BEGIN:STANDARD
TZOFFSETFROM:-0600
TZOFFSETTO:-0700
TZNAME:MST
DTSTART:20251102T080000
END:STANDARD
BEGIN:DAYLIGHT
TZOFFSETFROM:-0700
TZOFFSETTO:-0600
TZNAME:MDT
DTSTART:20260308T090000
END:DAYLIGHT
BEGIN:STANDARD
TZOFFSETFROM:-0600
TZOFFSETTO:-0700
TZNAME:MST
DTSTART:20261101T080000
END:STANDARD
BEGIN:DAYLIGHT
TZOFFSETFROM:-0700
TZOFFSETTO:-0600
TZNAME:MDT
DTSTART:20270314T090000
END:DAYLIGHT
BEGIN:STANDARD
TZOFFSETFROM:-0600
TZOFFSETTO:-0700
TZNAME:MST
DTSTART:20271107T080000
END:STANDARD
END:VTIMEZONE
BEGIN:VEVENT
DTSTART;TZID=America/Denver:20260405T063000
DTEND;TZID=America/Denver:20260405T073000
DTSTAMP:20260422T174833
CREATED:20260402T155803Z
LAST-MODIFIED:20260402T155803Z
UID:4129-1775370600-1775374200@angelfirechamber.org
SUMMARY:Easter Sunrise Services
DESCRIPTION:
URL:https://angelfirechamber.org/event/easter-sunrise-services-2/
LOCATION:Eagle Nest Lake State Park\, 42 Marina Way\, Eagle Nest\, NM\, 87718\, United States
CATEGORIES:Chamber Member,Church Service,Easter,Family Event,Live Gospel Music,Sunrise Services
ATTACH;FMTTYPE=image/png:https://angelfirechamber.org/wp-content/uploads/2026/04/MVMA-sunrideservices.png
END:VEVENT
BEGIN:VEVENT
DTSTART;TZID=America/Denver:20260405T083000
DTEND;TZID=America/Denver:20260405T120000
DTSTAMP:20260422T174833
CREATED:20260402T160053Z
LAST-MODIFIED:20260402T160053Z
UID:4131-1775377800-1775390400@angelfirechamber.org
SUMMARY:Easter Service & Fellowship
DESCRIPTION:
URL:https://angelfirechamber.org/event/easter-service-fellowship/
LOCATION:Village Church\, 12 Crestview Drive\, Angel Fire\, NM\, 87710\, United States
CATEGORIES:Chamber Member,Church Service,Easter,Free Food
ATTACH;FMTTYPE=image/jpeg:https://angelfirechamber.org/wp-content/uploads/2026/04/Easter-VC.jpg
END:VEVENT
BEGIN:VEVENT
DTSTART;TZID=America/Denver:20260405T130000
DTEND;TZID=America/Denver:20260405T150000
DTSTAMP:20260422T174833
CREATED:20260402T161258Z
LAST-MODIFIED:20260402T161258Z
UID:4138-1775394000-1775401200@angelfirechamber.org
SUMMARY:Easter Egg Hunt
DESCRIPTION:
URL:https://angelfirechamber.org/event/easter-egg-hunt-2/
LOCATION:Angel Fire Community Center\, 15 CS Ranch Rd\, Angel Fire\, NM\, 87710\, United States
CATEGORIES:Easter,Family Event
ATTACH;FMTTYPE=image/jpeg:https://angelfirechamber.org/wp-content/uploads/2026/04/Easter-Egg-Hunt.jpg
END:VEVENT
END:VCALENDAR