BEGIN:VCALENDAR
VERSION:2.0
PRODID:-//Angel Fire Chamber of Commerce - ECPv6.15.20//NONSGML v1.0//EN
CALSCALE:GREGORIAN
METHOD:PUBLISH
X-WR-CALNAME:Angel Fire Chamber of Commerce
X-ORIGINAL-URL:https://angelfirechamber.org
X-WR-CALDESC:Events for Angel Fire Chamber of Commerce
REFRESH-INTERVAL;VALUE=DURATION:PT1H
X-Robots-Tag:noindex
X-PUBLISHED-TTL:PT1H
BEGIN:VTIMEZONE
TZID:America/Denver
BEGIN:DAYLIGHT
TZOFFSETFROM:-0700
TZOFFSETTO:-0600
TZNAME:MDT
DTSTART:20250309T090000
END:DAYLIGHT
BEGIN:STANDARD
TZOFFSETFROM:-0600
TZOFFSETTO:-0700
TZNAME:MST
DTSTART:20251102T080000
END:STANDARD
BEGIN:DAYLIGHT
TZOFFSETFROM:-0700
TZOFFSETTO:-0600
TZNAME:MDT
DTSTART:20260308T090000
END:DAYLIGHT
BEGIN:STANDARD
TZOFFSETFROM:-0600
TZOFFSETTO:-0700
TZNAME:MST
DTSTART:20261101T080000
END:STANDARD
BEGIN:DAYLIGHT
TZOFFSETFROM:-0700
TZOFFSETTO:-0600
TZNAME:MDT
DTSTART:20270314T090000
END:DAYLIGHT
BEGIN:STANDARD
TZOFFSETFROM:-0600
TZOFFSETTO:-0700
TZNAME:MST
DTSTART:20271107T080000
END:STANDARD
END:VTIMEZONE
BEGIN:VEVENT
DTSTART;TZID=America/Denver:20260606T080000
DTEND;TZID=America/Denver:20260606T160000
DTSTAMP:20260422T190812
CREATED:20260402T173637Z
LAST-MODIFIED:20260402T173637Z
UID:4148-1780732800-1780761600@angelfirechamber.org
SUMMARY:Women's VNTR Birds Bike Clinic
DESCRIPTION:[vc_row][vc_column][vc_column_text css=””] \nWomen- Want to build confidence in the bike park or sharpen your downhill technique? \nJoin us for a two-day downhill mountain bike skills clinic at Angel Fire Bike Park. \nThis clinic is designed to be welcoming to riders new to lift-served terrain while still offering plenty of progression for those looking to refine their downhill skills. \nWith lift tickets included\, lunches provided\, and happy hour meetups built in\, it is the perfect chance to focus on riding\, learning alongside new friends\, and enjoying a full weekend on the mountain. \nWhen: 8:00 AM  June 6-7 \nWho: Skill level – All.  Women Specific \nCost $575 \nFor More Information and To Register \nhttps://www.eventcreate.com/e/angel-fire-new-mexico \n  \nContent and Photos Courtesy of the Angel Fire Resort\n[/vc_column_text][/vc_column][/vc_row]
URL:https://angelfirechamber.org/event/womens-vntr-birds-bike-clinic/
LOCATION:Angel Fire Resort Bike Park\, 10 Miller Lane\, An
CATEGORIES:Bike Clinic- Women,Bike Park,Chamber Member,Happy Hour,Lunch Included
ATTACH;FMTTYPE=image/png:https://angelfirechamber.org/wp-content/uploads/2026/04/VNTR-Birds-Bike-Clinic.png
END:VEVENT
END:VCALENDAR