BEGIN:VCALENDAR
VERSION:2.0
PRODID:-//Angel Fire Chamber of Commerce - ECPv6.15.20//NONSGML v1.0//EN
CALSCALE:GREGORIAN
METHOD:PUBLISH
X-WR-CALNAME:Angel Fire Chamber of Commerce
X-ORIGINAL-URL:https://angelfirechamber.org
X-WR-CALDESC:Events for Angel Fire Chamber of Commerce
REFRESH-INTERVAL;VALUE=DURATION:PT1H
X-Robots-Tag:noindex
X-PUBLISHED-TTL:PT1H
BEGIN:VTIMEZONE
TZID:America/Denver
BEGIN:DAYLIGHT
TZOFFSETFROM:-0700
TZOFFSETTO:-0600
TZNAME:MDT
DTSTART:20250309T090000
END:DAYLIGHT
BEGIN:STANDARD
TZOFFSETFROM:-0600
TZOFFSETTO:-0700
TZNAME:MST
DTSTART:20251102T080000
END:STANDARD
BEGIN:DAYLIGHT
TZOFFSETFROM:-0700
TZOFFSETTO:-0600
TZNAME:MDT
DTSTART:20260308T090000
END:DAYLIGHT
BEGIN:STANDARD
TZOFFSETFROM:-0600
TZOFFSETTO:-0700
TZNAME:MST
DTSTART:20261101T080000
END:STANDARD
BEGIN:DAYLIGHT
TZOFFSETFROM:-0700
TZOFFSETTO:-0600
TZNAME:MDT
DTSTART:20270314T090000
END:DAYLIGHT
BEGIN:STANDARD
TZOFFSETFROM:-0600
TZOFFSETTO:-0700
TZNAME:MST
DTSTART:20271107T080000
END:STANDARD
END:VTIMEZONE
BEGIN:VEVENT
DTSTART;TZID=America/Denver:20260611T100000
DTEND;TZID=America/Denver:20260614T163000
DTSTAMP:20260422T204837
CREATED:20260402T174515Z
LAST-MODIFIED:20260402T174515Z
UID:4151-1781172000-1781454600@angelfirechamber.org
SUMMARY:Chile Challenge Downhill Race
DESCRIPTION:[vc_row][vc_column][vc_column_text css=””] \nThe Chile Challenge is one of the longest-running downhill courses in the South West Rockies. Nearly two miles of raw New Mexico singletrack dropping 1\,900 vertical feet through pine forest and high desert through berms\, jumps\, and of course Angel Fire’s famous Superchunk. Home of the Chile Challenge since 1988\, returning for 2026 will mark nearly 40 years of gravity racing on this mountain. \nDate: June 11-14 \nWho: All Downhill Racers \nDetails & Registration: https://mountainstatescup.com/pages/r1 \n[/vc_column_text][/vc_column][/vc_row]
URL:https://angelfirechamber.org/event/chile-challenge-downhill-race/
LOCATION:Angel Fire Resort Bike Park\, 10 Miller Lane\, An
ATTACH;FMTTYPE=image/webp:https://angelfirechamber.org/wp-content/uploads/2026/04/2026-chile-Challenge-Downhill-Mountain-Bike-Race.webp
END:VEVENT
END:VCALENDAR