BEGIN:VCALENDAR
VERSION:2.0
PRODID:-//Angel Fire Chamber of Commerce - ECPv6.15.20//NONSGML v1.0//EN
CALSCALE:GREGORIAN
METHOD:PUBLISH
X-ORIGINAL-URL:https://angelfirechamber.org
X-WR-CALDESC:Events for Angel Fire Chamber of Commerce
REFRESH-INTERVAL;VALUE=DURATION:PT1H
X-Robots-Tag:noindex
X-PUBLISHED-TTL:PT1H
BEGIN:VTIMEZONE
TZID:America/Denver
BEGIN:DAYLIGHT
TZOFFSETFROM:-0700
TZOFFSETTO:-0600
TZNAME:MDT
DTSTART:20250309T090000
END:DAYLIGHT
BEGIN:STANDARD
TZOFFSETFROM:-0600
TZOFFSETTO:-0700
TZNAME:MST
DTSTART:20251102T080000
END:STANDARD
BEGIN:DAYLIGHT
TZOFFSETFROM:-0700
TZOFFSETTO:-0600
TZNAME:MDT
DTSTART:20260308T090000
END:DAYLIGHT
BEGIN:STANDARD
TZOFFSETFROM:-0600
TZOFFSETTO:-0700
TZNAME:MST
DTSTART:20261101T080000
END:STANDARD
BEGIN:DAYLIGHT
TZOFFSETFROM:-0700
TZOFFSETTO:-0600
TZNAME:MDT
DTSTART:20270314T090000
END:DAYLIGHT
BEGIN:STANDARD
TZOFFSETFROM:-0600
TZOFFSETTO:-0700
TZNAME:MST
DTSTART:20271107T080000
END:STANDARD
END:VTIMEZONE
BEGIN:VEVENT
DTSTART;TZID=America/Denver:20260619T060000
DTEND;TZID=America/Denver:20260621T090000
DTSTAMP:20260422T205009
CREATED:20260106T214006Z
LAST-MODIFIED:20260402T204855Z
UID:3963-1781848800-1782032400@angelfirechamber.org
SUMMARY:Balloons Over Angel Fire
DESCRIPTION:[vc_row][vc_column][vc_column_text css=””] \nBalloons Over Angel Fire \nMass ascension June 19 thru 21\, 2026 \nFriday\, Saturday and Sunday @ 6:30am \nat the Angel Fire Airport \nAdmission is FREE. \nPeople are permitted to walk amongst the balloons \nas they prepare for take-off. \nOr park almost anywhere in the north areas of the Village \nto watch mass ascension! \nThis year there will be tethered rides available during Mass ascension \n[/vc_column_text][/vc_column][/vc_row]
URL:https://angelfirechamber.org/event/balloons-over-angel-fire/
LOCATION:Angel Fire Airport\, 3570 NM-434\, Angel Fire\, NM\, 87710\, United States
CATEGORIES:Family Event,Festival,Hot Air Balloons,Outdoor Venue
ATTACH;FMTTYPE=image/jpeg:https://angelfirechamber.org/wp-content/uploads/2026/01/PhotoAd.jpg
END:VEVENT
BEGIN:VEVENT
DTSTART;TZID=America/Denver:20260620T110000
DTEND;TZID=America/Denver:20260620T170000
DTSTAMP:20260422T205009
CREATED:20260402T182659Z
LAST-MODIFIED:20260402T182659Z
UID:4173-1781953200-1781974800@angelfirechamber.org
SUMMARY:Porsche Parade and Car Show
DESCRIPTION:[vc_row][vc_column][vc_column_text css=””] \nAre you a fan of classic and performance cars?Don’t miss this exciting showcase of Porsche vehicles during Balloons Over Angel Fire weekend. Start the day by watching an impressive lineup of classic and modern Porsches cruise through Angel Fire during the Porsche Car Parade\, then enjoy an up-close look at these iconic vehicles during the afternoon Club Car Show. \nWhen:  Saturday\, June 20Porsche Car Parade  | 11:00 AM \nClub Car Show  |  3PM – 5PM \nWhere:North Angel Fire Road \nWhat to Expect: \n\nA parade of classic and modern Porsche vehicles driving through the Village\nMembers of regional Porsche clubs showcasing their cars\nAn afternoon Club Car Show where visitors can view the vehicles up close\n\nBring your camera\, gather along the parade route\, and enjoy this unique addition to the weekend’s festivities. \nContent and Photo courtesy of Visit Angel Fire \n[/vc_column_text][/vc_column][/vc_row]
URL:https://angelfirechamber.org/event/porsche-parade-and-car-show/
LOCATION:Bill Burgess Blvd/North Angel Fire Rd
CATEGORIES:Parade
ATTACH;FMTTYPE=image/jpeg:https://angelfirechamber.org/wp-content/uploads/2026/04/AFPorsche-3.jpg
END:VEVENT
BEGIN:VEVENT
DTSTART;TZID=America/Denver:20260620T173000
DTEND;TZID=America/Denver:20260620T193000
DTSTAMP:20260422T205009
CREATED:20260402T182133Z
LAST-MODIFIED:20260402T182133Z
UID:4171-1781976600-1781983800@angelfirechamber.org
SUMMARY:Summer Music Series
DESCRIPTION:[vc_row][vc_column][vc_column_text css=””] \nLooking for the perfect way to spend a summer evening in Angel Fire?Join us for the Summer Music Series (formerly Cool Summer Nights). Bring your lawn chairs\, blankets\, friends\, and dancing shoes for a fun night of live music in the mountains. \nWhen: Saturday\, June 20\, 2026 | 5:30 – 7:30 PMWhere: Mountain View Event Center \nWhat to Expect:• Live blues music from Stanlie Kee and Step In\, bringing a soulful\, high-energy take on traditional blues• A relaxed outdoor concert atmosphere• Room for lawn chairs\, blankets\, and dancing• A fun evening for locals and visitors alike \nAbout the Band:Stanlie Kee and Step In deliver a youthful interpretation of traditional blues\, capturing its authentic spirit while connecting with audiences of all ages. Their sound is both soulful and energetic—guaranteed to move you. \nFacebook: https://www.facebook.com/stepinblues/Instagram: https://www.instagram.com/stanliekee/ \nContent and Photos courtesy of the Visit Angel Fire \n[/vc_column_text][/vc_column][/vc_row]
URL:https://angelfirechamber.org/event/summer-music-series/
LOCATION:Mountain View Event Center\, 380 Fuego St.\, Angel Fire\, NM\, 87710\, United States
CATEGORIES:Family Event,Free Concerts,Live Music
ATTACH;FMTTYPE=image/jpeg:https://angelfirechamber.org/wp-content/uploads/2026/04/Stanlie-Kee-and-Step-In-2_cropped.jpg
END:VEVENT
END:VCALENDAR