BEGIN:VCALENDAR
VERSION:2.0
PRODID:-//Angel Fire Chamber of Commerce - ECPv6.15.20//NONSGML v1.0//EN
CALSCALE:GREGORIAN
METHOD:PUBLISH
X-ORIGINAL-URL:https://angelfirechamber.org
X-WR-CALDESC:Events for Angel Fire Chamber of Commerce
REFRESH-INTERVAL;VALUE=DURATION:PT1H
X-Robots-Tag:noindex
X-PUBLISHED-TTL:PT1H
BEGIN:VTIMEZONE
TZID:America/Denver
BEGIN:DAYLIGHT
TZOFFSETFROM:-0700
TZOFFSETTO:-0600
TZNAME:MDT
DTSTART:20250309T090000
END:DAYLIGHT
BEGIN:STANDARD
TZOFFSETFROM:-0600
TZOFFSETTO:-0700
TZNAME:MST
DTSTART:20251102T080000
END:STANDARD
BEGIN:DAYLIGHT
TZOFFSETFROM:-0700
TZOFFSETTO:-0600
TZNAME:MDT
DTSTART:20260308T090000
END:DAYLIGHT
BEGIN:STANDARD
TZOFFSETFROM:-0600
TZOFFSETTO:-0700
TZNAME:MST
DTSTART:20261101T080000
END:STANDARD
BEGIN:DAYLIGHT
TZOFFSETFROM:-0700
TZOFFSETTO:-0600
TZNAME:MDT
DTSTART:20270314T090000
END:DAYLIGHT
BEGIN:STANDARD
TZOFFSETFROM:-0600
TZOFFSETTO:-0700
TZNAME:MST
DTSTART:20271107T080000
END:STANDARD
END:VTIMEZONE
BEGIN:VEVENT
DTSTART;TZID=America/Denver:20260625T080000
DTEND;TZID=America/Denver:20260627T090000
DTSTAMP:20260422T204503
CREATED:20260402T212810Z
LAST-MODIFIED:20260402T213258Z
UID:4181-1782374400-1782550800@angelfirechamber.org
SUMMARY:Air Affair/ Remote Controlled Hot Air Balloons Mass Ascension
DESCRIPTION:[vc_row][vc_column][vc_column_text css=””] \nHave you ever seen a hot air balloon you can hold in your hands?Watch the skies fill with color during the RC Balloon Mass Ascension\, a unique showcase of remote-controlled hot air balloons rising above the Moreno Valley. \nPilots guide these beautifully crafted miniature balloons into the air\, creating a fascinating display as they lift\, hover\, and drift together in a coordinated morning launch. \nIt’s a rare opportunity to see the art and science of ballooning on a smaller scale—yet just as mesmerizing. \nWhen: Thursday–Saturday | June 25–27\, 2026 | 9:00 AM \nWhere: Location details coming soon \nWhat to Expect: \nMiniature Balloons\, Big Sky – Watch colorful RC balloons lift gently into the morning air in a coordinated mass ascension. \nMeet the Pilots – Learn how these incredible remote-controlled balloons work and what it takes to fly them. \nA Unique Aviation Experience – Combining technology\, craftsmanship\, and the beauty of balloon flight\, this is a one-of-a-kind display you won’t see at many festivals. \nAdditional details including the viewing location will be announced soon—stay tuned for more information. \nContent courtesy of Visit Angel Fire\n[/vc_column_text][/vc_column][/vc_row]
URL:https://angelfirechamber.org/event/air-affair-minature-remote-controlled-hot-air-balloons/
LOCATION:NM
ATTACH;FMTTYPE=image/jpeg:https://angelfirechamber.org/wp-content/uploads/2026/04/RC-HotAirBalloons.jpeg
END:VEVENT
BEGIN:VEVENT
DTSTART;TZID=America/Denver:20260625T130000
DTEND;TZID=America/Denver:20260627T150000
DTSTAMP:20260422T204503
CREATED:20250430T213332Z
LAST-MODIFIED:20260402T211353Z
UID:3358-1782392400-1782572400@angelfirechamber.org
SUMMARY:Kites & Gliders
DESCRIPTION:[vc_row][vc_column][vc_column_text css=””] \nReady to send something soaring into the mountain sky?Join us during the Angel Fire Air Affair for a fun and colorful celebration of flight with kites and gliders. \nWith wide-open spaces and steady mountain breezes\, Angel Fire is the perfect place to launch a kite or glide a foam airplane across the sky. \nIt’s a simple\, joyful activity that visitors of all ages can enjoy while watching the skies come alive during this aviation-inspired weekend. \nWhen: June 25–27\, 2026 \nWhere: Location details coming soon \n  \n\n[/vc_column_text][/vc_column][/vc_row]
URL:https://angelfirechamber.org/event/kites-gliders-4/
LOCATION:NM
CATEGORIES:Family Event,Outdoor Venue
ATTACH;FMTTYPE=image/jpeg:https://angelfirechamber.org/wp-content/uploads/2025/04/AngelFireSummer2024-432.jpg
END:VEVENT
BEGIN:VEVENT
DTSTART;TZID=America/Denver:20260626T190000
DTEND;TZID=America/Denver:20260626T205000
DTSTAMP:20260422T204503
CREATED:20250430T215819Z
LAST-MODIFIED:20260402T211752Z
UID:3369-1782500400-1782507000@angelfirechamber.org
SUMMARY:Movie Night @ Angel Fire Airport Hanger/ Top Gun
DESCRIPTION:[vc_row][vc_column][vc_column_text css=””] \nCozy up with your crew inside the Angel Fire Airport Hangar \nand enjoy aviation-themed films in a one-of-a-kind setting. \nFrom pulse-pounding aerial adventures to heartwarming stories of flight\, this family-friendly movie series \nis a great way to introduce kids (and kids-at-heart) to the magic of the skies without ever leaving your seat—no jacket or stargazing required. \nMovie- Top Gun \nPG  1 hour 50 minutes \nFrom pulse-pounding aviation tales to heartwarming sky-high stories\, this movie night series is packed with family-friendly fun. \nWhen: June 26\, 2026 | 7:00 PMWhere: Angel Fire Airport Hanger \nPhoto and Content Credit: VisitAngelFireNM.com\n[/vc_column_text][/vc_column][/vc_row]
URL:https://angelfirechamber.org/event/movie-night-liberty-square-park-top-gun/
LOCATION:Angel Fire Airport\, 3570 NM-434\, Angel Fire\, NM\, 87710\, United States
CATEGORIES:Movies in the Park
ATTACH;FMTTYPE=image/jpeg:https://angelfirechamber.org/wp-content/uploads/2025/04/620_Top-gun.jpg
END:VEVENT
END:VCALENDAR