BEGIN:VCALENDAR
VERSION:2.0
PRODID:-//Angel Fire Chamber of Commerce - ECPv6.15.20//NONSGML v1.0//EN
CALSCALE:GREGORIAN
METHOD:PUBLISH
X-ORIGINAL-URL:https://angelfirechamber.org
X-WR-CALDESC:Events for Angel Fire Chamber of Commerce
REFRESH-INTERVAL;VALUE=DURATION:PT1H
X-Robots-Tag:noindex
X-PUBLISHED-TTL:PT1H
BEGIN:VTIMEZONE
TZID:America/Denver
BEGIN:DAYLIGHT
TZOFFSETFROM:-0700
TZOFFSETTO:-0600
TZNAME:MDT
DTSTART:20250309T090000
END:DAYLIGHT
BEGIN:STANDARD
TZOFFSETFROM:-0600
TZOFFSETTO:-0700
TZNAME:MST
DTSTART:20251102T080000
END:STANDARD
BEGIN:DAYLIGHT
TZOFFSETFROM:-0700
TZOFFSETTO:-0600
TZNAME:MDT
DTSTART:20260308T090000
END:DAYLIGHT
BEGIN:STANDARD
TZOFFSETFROM:-0600
TZOFFSETTO:-0700
TZNAME:MST
DTSTART:20261101T080000
END:STANDARD
BEGIN:DAYLIGHT
TZOFFSETFROM:-0700
TZOFFSETTO:-0600
TZNAME:MDT
DTSTART:20270314T090000
END:DAYLIGHT
BEGIN:STANDARD
TZOFFSETFROM:-0600
TZOFFSETTO:-0700
TZNAME:MST
DTSTART:20271107T080000
END:STANDARD
END:VTIMEZONE
BEGIN:VEVENT
DTSTART;TZID=America/Denver:20260720T080000
DTEND;TZID=America/Denver:20260723T120000
DTSTAMP:20260422T221259
CREATED:20260402T181236Z
LAST-MODIFIED:20260402T181236Z
UID:4170-1784534400-1784808000@angelfirechamber.org
SUMMARY:Jr. Golf Clinincs
DESCRIPTION:[vc_row][vc_column][vc_column_text css=””] \nThe Angel Fire Junior Golf Clinics are 4-day programs from 8am – 12pm for ages 6-13 that build the foundation for a lifetime of golf \nby introducing the fundamentals\, games\, and activities that promote development and wellness. \nInstruction is presented in a non-competitive environment\, with a creative and enthusiastic approach to learning. Golf clubs will be provided if needed. \nJune 22-25 \nJuly 6-9 \nJuly 13-16 \nJuly 20-23 \nCost is $400 \nFor more information\, please contact the Golf Staff at 575-377-4488 or email golfshop@angelfireresort.com \n  \nGolf at Angel Fire Resort \n[/vc_column_text][/vc_column][/vc_row]
URL:https://angelfirechamber.org/event/jr-golf-clinincs-3/
LOCATION:Angel Fire Resort Golf Course\, 100 Country Club Drive\, Angel Fire\, NM\, 87710\, United States
CATEGORIES:Chamber Member,Golf Clinic - Kids,Golfing
ATTACH;FMTTYPE=image/webp:https://angelfirechamber.org/wp-content/uploads/2026/04/JR-Golf-Clinics.webp
END:VEVENT
END:VCALENDAR